BEGIN:VCALENDAR
VERSION:2.0
PRODID:-//Marketing.com.au - ECPv6.15.20//NONSGML v1.0//EN
CALSCALE:GREGORIAN
METHOD:PUBLISH
X-ORIGINAL-URL:https://marketing.com.au
X-WR-CALDESC:Events for Marketing.com.au
REFRESH-INTERVAL;VALUE=DURATION:PT1H
X-Robots-Tag:noindex
X-PUBLISHED-TTL:PT1H
BEGIN:VTIMEZONE
TZID:Australia/Melbourne
BEGIN:STANDARD
TZOFFSETFROM:+1100
TZOFFSETTO:+1000
TZNAME:AEST
DTSTART:20200404T160000
END:STANDARD
BEGIN:DAYLIGHT
TZOFFSETFROM:+1000
TZOFFSETTO:+1100
TZNAME:AEDT
DTSTART:20201003T160000
END:DAYLIGHT
BEGIN:STANDARD
TZOFFSETFROM:+1100
TZOFFSETTO:+1000
TZNAME:AEST
DTSTART:20210403T160000
END:STANDARD
BEGIN:DAYLIGHT
TZOFFSETFROM:+1000
TZOFFSETTO:+1100
TZNAME:AEDT
DTSTART:20211002T160000
END:DAYLIGHT
BEGIN:STANDARD
TZOFFSETFROM:+1100
TZOFFSETTO:+1000
TZNAME:AEST
DTSTART:20220402T160000
END:STANDARD
BEGIN:DAYLIGHT
TZOFFSETFROM:+1000
TZOFFSETTO:+1100
TZNAME:AEDT
DTSTART:20221001T160000
END:DAYLIGHT
END:VTIMEZONE
BEGIN:VEVENT
DTSTART;VALUE=DATE:20211117
DTEND;VALUE=DATE:20211119
DTSTAMP:20260421T025009
CREATED:20210321T080753Z
LAST-MODIFIED:20210410T092207Z
UID:18773-1637107200-1637279999@marketing.com.au
SUMMARY:DigiMarCon World 2021
DESCRIPTION:DigiMarCon World 2021 is your chance to … \n\n\nHear from some of the most audacious and thought provoking speakers in the digital marketing\, media and advertising industry.\nGain insight into emerging strategies\, the latest innovative technologies\, and best practices to move your business to the next level.\nNetwork with thought leaders\, collaborate with your peers and build your professional network.\n\n\n\nDigiMarCon World 2021 Digital Marketing\, Media and Advertising Conference will take place November 17th to 18th\, 2021\, Online; Live and On Demand. It is the largest Digital Marketing Event in the World and will be attended by over 10\,000 Digital Marketing Professionals.\n\nIt’s the one digital marketing event you can’t afford to miss! Whether your goal is to reinforce customer loyalty\, improve lead generation\, increase sales\, or drive stronger consumer engagement\, DigiMarCon World 2021’s agenda will help attendees enhance their marketing efforts. Sessions will focus on building traffic\, expanding brand awareness\, improving customer service and gaining insight into today’s latest digital tools.\nThis year’s edition will feature topics such as: \n\nDigital Strategy\nWeb Experience Management\nUsability / Design\nMobile Marketing & Retargeting\nCustomer Engagement\nUser Acquisition\nSocial Media Marketing\nTargeting & Optimization\nVideo Marketing\nData Science & Big Data\nWeb Analytics & A/B Testing\nEmail Marketing\nContent Marketing\nConversion Rate Optimization\nSearch Engine Optimization\nPaid Search Marketing\nGeo-Targeting\nPredictive Analysis & Attribution\nGrowth Hacking\nConversion Rate Optimization\nGrowth Marketing Tools\nMarketing & Sales Automation\nSustainable Growth Strategies\nProgrammatic Advertising\n\n  \n\n\n\n\n\n\n\n\n\n\n\nGet Ready To Be\n\n\n\n\n\n\n Inspired: Get inspired by the headlining speakers at DigiMarCon World 2021. These remarkable individuals will motivate\, engage\, enlighten\, and spur you on to greater productivity. \n\n\n Challenged: Listen to bold and powerful addresses from a diverse group of exciting and influential people. These riveting presentations will educate\, challenge\, and impress you in less than 20 minutes. \n\n\n Transformed: Explore big ideas presented directly from the innovators and thought leaders of the changing business world. These thought-provoking presentations are designed to help you transform your organization\, your business\, and yourself. \n\n\n\n\n\n\n\n\n\nLearn From The Experts\n\nDigital Marketing Experts: Led by digital marketing and sales professionals\, these sessions will teach you the principles and skills of digital marketing – from basic to advanced – to improve and transform your business utilizing the latest digital marketing techniques.\n\n\nDigital Marketing Stories: Hear success stories from businesses who have successfully implemented digital marketing techniques and solutions. These case studies will profile a number of companies and industries who’ve leveraged digital marketing to drive remarkable success in their industries. \n\n\n\n\n\n\n\n\n\nAchieve Digital Marketing Success\nAt DigiMarCon World 2021\, you will receive all the elements you need to achieve digital marketing success! Awesome keynotes\, expert panels\, plus solutions providers and their tools for digital marketing – all in a dynamic\, community-based setting. Conventional thought will be challenged\, new ways of thinking will emerge\, and you will leave with your head and notebook full of action items and ideas to lead your agency / team / account to even greater success. With plenty of networking opportunities\, it is the perfect place to build a professional network\, find business partners\, generate new ideas\, learn and grow. \n\n\n\n\n\n\n\n\n 
URL:https://marketing.com.au/event/digimarcon-world-2021/
LOCATION:Online
CATEGORIES:All Event Locations,All Event Topics,All Event Types,Digital Marketing,Website
END:VEVENT
BEGIN:VEVENT
DTSTART;TZID=Australia/Melbourne:20211117T080000
DTEND;TZID=Australia/Melbourne:20211118T170000
DTSTAMP:20260421T025009
CREATED:20210919T044031Z
LAST-MODIFIED:20211204T072952Z
UID:20323-1637136000-1637254800@marketing.com.au
SUMMARY:Intergrate 2021
DESCRIPTION:Integrate is Australia’s leading platform dedicated to helping businesses harness the power of AV to transform customer experiences. It is nexus for local and global brands to promote the latest AV solutions and products\, as well as share insights and innovations to the region’s largest gathering of AV professionals and end users. \nIn 2021 the AVIXA and Integrate Education programs will combine to present a not-to-be-missed education stream. With an increased focus on AV technology and its importance in our ‘new normal’ this stream will combine essential training\, latest AV insights and trends and offer solutions to help you harness the power of AV. \nJoin us for a unique industry networking opportunity this 24 March 2022\, as we bring an invite-only networking event to Melbourne to help you reconnect with key AV buyers in this market. This one-day event will be an invite-only showcase with a simple move in – move out so that you are able to focus on meeting and connecting with personalised\, pre-qualified visitors\, in a relaxed\, engaging setting.
URL:https://marketing.com.au/event/intergrate-2021/
LOCATION:Online
CATEGORIES:Advertising,All Event Locations,All Event Topics,All Event Types,B2B,Event Planning,Online,Video
END:VEVENT
BEGIN:VEVENT
DTSTART;TZID=Australia/Melbourne:20211118T120000
DTEND;TZID=Australia/Melbourne:20211118T130000
DTSTAMP:20260421T025009
CREATED:20211009T031530Z
LAST-MODIFIED:20211204T072950Z
UID:20449-1637236800-1637240400@marketing.com.au
SUMMARY:Digital Marketing for Australian Business: Challenges & Solutions
DESCRIPTION:There has been a massive increase in online consumer behavior. People are increasingly shopping online & businesses are also adapting their marketing to meet this surge in demand. However they are finding the online medium very competitive. \nThe Webinar will cover the following topics: \n\nState of Digital Marketing in Australia\nDigital Marketing Channels and Resources\nOnline Competition – What are you competing against?\nWebsite CRO: Conversion Optimisation\nThe Power of User Engagement\nThe Challenge of Resources\nHow to Calculate and Measure the Marketing ROI\n\nAbout the presenter – Sid Lal \nMD\, Bruce Clay Australia \nSid is an award winning marketer and domain expert in Digital Marketing (specialising in SEO and Google Ads) and is a speaker and instructor at various industry forums including TEDx\, DMAI\, SES\, Adtech\, Australian Marketing Institute\, Young Entrepreneurs Academy & more. \nSid is a serial entrepreneur who set up his first business when he was still in University. In 2005 he used his Digital Marketing knowledge to transform his entire business from an offline model into an Internet Marketing powered inbound sales organisation which translated into $15 million in online sales for its channel partners. \nSince 2009 he has been heading Bruce Clay\, first in India & more recently in Australia.
URL:https://marketing.com.au/event/digital-marketing-for-australian-business-challenges-solutions/
LOCATION:Online
CATEGORIES:All Event Locations,All Event Topics,All Event Types,Online
END:VEVENT
END:VCALENDAR