BEGIN:VCALENDAR
VERSION:2.0
PRODID:-//Marketing.com.au - ECPv6.15.20//NONSGML v1.0//EN
CALSCALE:GREGORIAN
METHOD:PUBLISH
X-WR-CALNAME:Marketing.com.au
X-ORIGINAL-URL:https://marketing.com.au
X-WR-CALDESC:Events for Marketing.com.au
REFRESH-INTERVAL;VALUE=DURATION:PT1H
X-Robots-Tag:noindex
X-PUBLISHED-TTL:PT1H
BEGIN:VTIMEZONE
TZID:Australia/Melbourne
BEGIN:STANDARD
TZOFFSETFROM:+1100
TZOFFSETTO:+1000
TZNAME:AEST
DTSTART:20200404T160000
END:STANDARD
BEGIN:DAYLIGHT
TZOFFSETFROM:+1000
TZOFFSETTO:+1100
TZNAME:AEDT
DTSTART:20201003T160000
END:DAYLIGHT
BEGIN:STANDARD
TZOFFSETFROM:+1100
TZOFFSETTO:+1000
TZNAME:AEST
DTSTART:20210403T160000
END:STANDARD
BEGIN:DAYLIGHT
TZOFFSETFROM:+1000
TZOFFSETTO:+1100
TZNAME:AEDT
DTSTART:20211002T160000
END:DAYLIGHT
BEGIN:STANDARD
TZOFFSETFROM:+1100
TZOFFSETTO:+1000
TZNAME:AEST
DTSTART:20220402T160000
END:STANDARD
BEGIN:DAYLIGHT
TZOFFSETFROM:+1000
TZOFFSETTO:+1100
TZNAME:AEDT
DTSTART:20221001T160000
END:DAYLIGHT
END:VTIMEZONE
BEGIN:VEVENT
DTSTART;VALUE=DATE:20210721
DTEND;VALUE=DATE:20210723
DTSTAMP:20260421T103707
CREATED:20210523T072839Z
LAST-MODIFIED:20210529T024126Z
UID:19425-1626825600-1626998399@marketing.com.au
SUMMARY:Online Retailer Conference & Expo
DESCRIPTION:Online Retailer Conference & Expo is the #1 meeting destination for the ecommerce industry to access the relevant strategic insights\, solutions\, technologies and connections that make a positive difference to your business in 2021 and beyond – no matter what stage of online retail you are in. \n\n\n\n\n\n\n\n\n2600+ Professionals | 110 Speakers | 5 Stages | 120 Exhibitors | 6 Content Streams\n\n\n\n\n\n\n\n\nCONFERENCE\n\n\n\nThe largest online retail conference in Australia\, featuring insights\, case studies and panel discussions from leading local and international retailers. \n\n\n\n\n\nEXPO\n\n\n\nEcommerce tailored education\, networking events and a wide variety of solution providers for retailers of all sizes to learn and connect to achieve their goals. \n\n\n\n\n\nORIAS\n\n\n\nThe original and most sought after awards night in the industry\, bringing together all retailers to celebrate the excellence in online retail throughout the year. ​ \n\n\nWho Attends\n\n\n\nOnline Retailer is the industry’s number one meeting place\, bringing together a diverse mix of attendees across digital\, retail\, technology\, marketing\, and ecommerce across a variety of industries: \n\n\n\n\n\nFashion and Apparel\nPersonal and Recreational Goods\nB2B Services\nToys\, Electronics\, Games\nDaily Deals and Marketplaces\nHomewares and Appliances\nMedia\, IT\, Finance and Services\nGroceries and Liquor\nDepartment and Variety Stores
URL:https://marketing.com.au/event/online-retailer-conference-expo/
LOCATION:ICC Sydney\, 14 Darling Drive\, Sydney\, NSW\, 2000\, Australia
CATEGORIES:All Event Locations,All Event Topics,All Event Types,eCommerce,Sydney
END:VEVENT
BEGIN:VEVENT
DTSTART;VALUE=DATE:20210722
DTEND;VALUE=DATE:20210724
DTSTAMP:20260421T103707
CREATED:20210523T074048Z
LAST-MODIFIED:20210529T024126Z
UID:19428-1626912000-1627084799@marketing.com.au
SUMMARY:BrightonSEO Summer 2021
DESCRIPTION:Where search marketers go to learn to do their jobs better. \nWe’ve pulled together some of the best speakers in the field – here’s who’s lined up so far: \n\nAaron Barefoot\, London Stock Exchange Group (LSEG)\nBuilding SEO Client-Side From the Ground Up\, Amy Stamper\, Impression\nImproving Traffic Quality in A More Private World\, Alex Wright\, Clicky Media\nHeadless SEO – Optimising Next Gen Sites\, Allegra Chapman\, Watch This Sp_ce\nDoes the digital sector have a diversity problem?\, Alice Logan\, ROAST\nMergers\, acquisitions & SEO: how to get the most out of acquired digital assets\, Andrea Volpini\, WordLift\nSEO Automation using GPT3 and Transformer based language models\, Arpun Bhuhi\, Brainlabs\nPlaying Pac-Man: How to Identify and Fix Cannibalisation\, Azeem Ahmad\, Azeem Digital\nDiversity and Inclusion in Marketing: One Year On – Why Has Nothing Changed?\, Becky Simms\, Reflect Digital\nSupercharging SEO impact by understanding user intent\, Billie Hyde\, The SEO Works\nHow to cultivate a great relationship with developers\, Chris Czermak\, MacNaught Digital\nImage Link Building – Turning Your Smartphone Camera Into a Semi-passive Link Source\, ContentUK\nHow to create a community around your B2B niche\, Crystal Carter\, Optix Solutions\nMarkup Like You Mean It: Structured Data Tactics for SMEs\, Dan Smullen\, Mediahuis\nPaywall SEO: Digital First Print Second\, From 0 to 35k subscribers in a year\, Dan Taylor\, SALT.agency\nMigration Strategies For Merging Multiple Websites Into One\, Danny McMillan\, Seller Sessions\nGetting The Most Of A9 On Amazon\, Dave Peiris\, Propellernet\nBeyond Lighthouse: How To Improve Site Speed\, Emma Russell\, Slingshot Organic\nAutomated Content Generation at Scale\, Giacomo Zecchini\, Verve Search\nDebugging rendering problems at scale\, Grace Kindred\, News UK\nHow to inspire and motivate junior SEOs\, Helen Pollitt\, iTech Media\nHacking the SERPs with structured data\, Helene Klaustrup\, Anything is Possible\nYou are what you E-A-T\, Izabela Wisniewska\, Creatos Media\nHow JavaScript is preventing you from passing Core Web Vitals\, James Powley\, Blue Array\nProgrammed to be Irrational: The Psychology Behind Online Search Behaviour\, Jasmine Granton\, Absolute Digital Media\nMorals and ethics in Digital PR – why we need to check ourselves\, Jess Buckley\, Cornerstone Design & Marketing\nScalability\, overcoming resource and budget issues in SEO teams\, Jessica James\, Erudite\nThe Most Common Accessibility Pitfalls and How to Fix Them\, Joanna Beech\, Deloitte\nTailoring your SEO strategy around user search queries\, Kelly Johnstone\, Staysure Group\nUsing data to drive the decision to cull content\, Laura D’amato\, Verve Search\nDigital PR strategies on a global scale\, Laura Wilson\, Bednar Communications\nThe importance of changing up your pitches\, Leonie Mann\, Search Laboratory\nTechnical SEO for international markets\, Lisiane Ndong\, Searchmetrics\nContent marketing – a data driven approach\, Louise Parker\, Propellernet\nHow to build links with digital PR without launching a single campaign\, Maria G White\, Absolute Digital Media\nGMB content strategies to increase traffic and conversions in 2021\, Marcus Tober\, Searchmetrics\nAre you prepared\, or are Core Web Vitals still a mystery?\, Martin Fennon\, Ayima\nCrawling vs Indexing – What exactly is the difference\, and how do you win at both?\, Mindy Gofton\, I-COM\nWhy you might actually need to do less SEO for better results\, Miracle Inameti-Archibong\, Erudite\nLet the API do the heavy lifting – harnessing Natural Language API for keyword categorisation and sentiment analysis\, Mo Kanjilal\, Watch This Sp_ce\nDoes the digital sector have a diversity problem?\, Oliver Brett\, Screaming Frog\nSpilling the T in EAT- How to easily build user trust with simple CRO/UX tweaks\, Rejoice Ojiaku\, Incubeta NMPi\nContentSEO: Keyword Mapping for User Intent\, Robin Allport\, Compare the Market\nAnd much more..
URL:https://marketing.com.au/event/brightonseo-summer-2021/
LOCATION:Online
CATEGORIES:All Event Locations,All Event Topics,All Event Types,Digital Marketing,Online,SEO,Website
END:VEVENT
END:VCALENDAR