BEGIN:VCALENDAR
VERSION:2.0
PRODID:-//Marketing.com.au - ECPv6.15.20//NONSGML v1.0//EN
CALSCALE:GREGORIAN
METHOD:PUBLISH
X-WR-CALNAME:Marketing.com.au
X-ORIGINAL-URL:https://marketing.com.au
X-WR-CALDESC:Events for Marketing.com.au
REFRESH-INTERVAL;VALUE=DURATION:PT1H
X-Robots-Tag:noindex
X-PUBLISHED-TTL:PT1H
BEGIN:VTIMEZONE
TZID:Australia/Melbourne
BEGIN:STANDARD
TZOFFSETFROM:+1100
TZOFFSETTO:+1000
TZNAME:AEST
DTSTART:20200404T160000
END:STANDARD
BEGIN:DAYLIGHT
TZOFFSETFROM:+1000
TZOFFSETTO:+1100
TZNAME:AEDT
DTSTART:20201003T160000
END:DAYLIGHT
BEGIN:STANDARD
TZOFFSETFROM:+1100
TZOFFSETTO:+1000
TZNAME:AEST
DTSTART:20210403T160000
END:STANDARD
BEGIN:DAYLIGHT
TZOFFSETFROM:+1000
TZOFFSETTO:+1100
TZNAME:AEDT
DTSTART:20211002T160000
END:DAYLIGHT
BEGIN:STANDARD
TZOFFSETFROM:+1100
TZOFFSETTO:+1000
TZNAME:AEST
DTSTART:20220402T160000
END:STANDARD
BEGIN:DAYLIGHT
TZOFFSETFROM:+1000
TZOFFSETTO:+1100
TZNAME:AEDT
DTSTART:20221001T160000
END:DAYLIGHT
END:VTIMEZONE
BEGIN:VEVENT
DTSTART;VALUE=DATE:20210606
DTEND;VALUE=DATE:20210612
DTSTAMP:20260421T131003
CREATED:20210410T025044Z
LAST-MODIFIED:20210410T092230Z
UID:18990-1622937600-1623455999@marketing.com.au
SUMMARY:Webinale 2021 – Hybrid Edition
DESCRIPTION:Webinale 2021 is the conference for digital professionals\, trendsetters and makers in the World Wide Web. It’s the optimal crossover platform for knowledge transfer\, inspiration and exchange of experience across all industries. \nThe conference offers the best opportunities for digital product developers and designers\, web developers\, managers and entrepreneurs. It is a conference for product owners\, web designers\, and frontend coders. It combines user experience with code and offers a variety of topics that are important for digital professionals nowadays. \nAs a crossover platform\, the webinale inspires digitally oriented makers from a variety of disciplines – web designers\, developers\, and product owners – and encourages dialog and exchange of experience! \nWebinale 2021 will have some workshops because they will be more beneficial activities for attendees. \nWorkshop of WEBINALE 2021:\n● Web-Performance-Optimierung 2021\n● User Journeys und Conversion Funnels — Mach’ deine Website zum Conversion-Magneten!\n● UX Survival – User Experience in feindlicher Umgebung\n● Nutzer-zentrierte Ökosysteme – Konzeption und Gestaltung \nThe event will provide some informative subjects and then develop them. They are online marketing\, web design\, digital analytics\, UX design etc. These will make you more professional for your business.
URL:https://marketing.com.au/event/webinale-2021-hybrid-edition/
LOCATION:Online
CATEGORIES:All Event Locations,All Event Topics,All Event Types,Conference
END:VEVENT
END:VCALENDAR