BEGIN:VCALENDAR
VERSION:2.0
PRODID:-//Marketing.com.au - ECPv6.15.20//NONSGML v1.0//EN
CALSCALE:GREGORIAN
METHOD:PUBLISH
X-ORIGINAL-URL:https://marketing.com.au
X-WR-CALDESC:Events for Marketing.com.au
REFRESH-INTERVAL;VALUE=DURATION:PT1H
X-Robots-Tag:noindex
X-PUBLISHED-TTL:PT1H
BEGIN:VTIMEZONE
TZID:Australia/Melbourne
BEGIN:STANDARD
TZOFFSETFROM:+1100
TZOFFSETTO:+1000
TZNAME:AEST
DTSTART:20190406T160000
END:STANDARD
BEGIN:DAYLIGHT
TZOFFSETFROM:+1000
TZOFFSETTO:+1100
TZNAME:AEDT
DTSTART:20191005T160000
END:DAYLIGHT
BEGIN:STANDARD
TZOFFSETFROM:+1100
TZOFFSETTO:+1000
TZNAME:AEST
DTSTART:20200404T160000
END:STANDARD
BEGIN:DAYLIGHT
TZOFFSETFROM:+1000
TZOFFSETTO:+1100
TZNAME:AEDT
DTSTART:20201003T160000
END:DAYLIGHT
BEGIN:STANDARD
TZOFFSETFROM:+1100
TZOFFSETTO:+1000
TZNAME:AEST
DTSTART:20210403T160000
END:STANDARD
BEGIN:DAYLIGHT
TZOFFSETFROM:+1000
TZOFFSETTO:+1100
TZNAME:AEDT
DTSTART:20211002T160000
END:DAYLIGHT
END:VTIMEZONE
BEGIN:VEVENT
DTSTART;VALUE=DATE:20201208
DTEND;VALUE=DATE:20201213
DTSTAMP:20260422T201011
CREATED:20201115T092757Z
LAST-MODIFIED:20210118T073333Z
UID:17657-1607385600-1607817599@marketing.com.au
SUMMARY:Marketing Boot Camp
DESCRIPTION:Marketing is the fuel for your business! \nThe hard part of being a small business owner is you have more tasks than time and money. \nYou want to be a better marketer for your business but you don’t know where to start\, and hiring a marketing professional is way too expensive. \nThe Empower Team knows how you feel. \nThat’s why we created the Marketing Boot Camp. \nWhat is Marketing Boot Camp? \nFREE One of a Kind Marketing Event. \nOver 20 Marketing Professionals. \n$1025 Value in Free Bonuses. \n 
URL:https://marketing.com.au/event/marketing-boot-camp/
LOCATION:Online
CATEGORIES:All Event Locations,All Event Topics,All Event Types,Content Marketing,Digital Marketing,Online
END:VEVENT
BEGIN:VEVENT
DTSTART;VALUE=DATE:20201209
DTEND;VALUE=DATE:20201212
DTSTAMP:20260422T201011
CREATED:20201115T101517Z
LAST-MODIFIED:20210118T073332Z
UID:17681-1607472000-1607731199@marketing.com.au
SUMMARY:Healthcare automation from Machine Learning to AI MasterClass
DESCRIPTION:This 3-day online live course is intended to go through the complete roadmap that leads to the immense universe of Artificial Intelligence. It starts from ground zero\, a quick overview of basic statistics and data analysis\, pillars upon which both “supervised” and “unsupervised” Machine Learning evolved and became at their turn the inevitable backbone for all Artificial Intelligence algorithms behind successful AI applications. In parallel to dozens of step-by-step case studies\, the workshop will explore simultaneously\, and under different angles\, all Machine Learning algorithms applied to the famous generic must-know case study “Iris Flowers”\, as well as on “Pulse”\, a real healthcare data set related to hospitalized patients. This exclusive approach will allow participants to compare all solutions and adapt the exact one that fits their needs in real life.
URL:https://marketing.com.au/event/healthcare-automation-from-machine-learning-to-ai-masterclass/
LOCATION:Online
CATEGORIES:AI,All Event Locations,All Event Topics,All Event Types
END:VEVENT
BEGIN:VEVENT
DTSTART;VALUE=DATE:20201211
DTEND;VALUE=DATE:20201212
DTSTAMP:20260422T201011
CREATED:20201010T093951Z
LAST-MODIFIED:20201010T112000Z
UID:17170-1607644800-1607731199@marketing.com.au
SUMMARY:Marketing Planning Friday Forum
DESCRIPTION:Join us for our Marketing Planning Friday Forum for a step-by-step guide on creating marketing plans that are meaningful\, flexible\, and accountable. \nThe year will be winding down and many of your “plans” will involve eggnog and fruitcake (or not?). But if you can find it within yourself to get even the most basic 2021 marketing plans started before you break for holiday cheer\, you’ll thank yourself on the other side.
URL:https://marketing.com.au/event/marketing-planning-friday-forum/
LOCATION:Online
CATEGORIES:Advertising,All Event Locations,All Event Topics,All Event Types,Online,Workshop
END:VEVENT
BEGIN:VEVENT
DTSTART;TZID=Australia/Melbourne:20201211T113000
DTEND;TZID=Australia/Melbourne:20201211T170000
DTSTAMP:20260422T201011
CREATED:20201115T095006Z
LAST-MODIFIED:20210118T073331Z
UID:17673-1607686200-1607706000@marketing.com.au
SUMMARY:Marketing Planning Friday Forum
DESCRIPTION:The year will be winding down and many of your “plans” will involve eggnog and fruitcake (or not?). But if you can find it within yourself to get even the most basic 2021 marketing plans started before you break for holiday cheer\, you’ll thank yourself on the other side. Sponsored by ZoomInfo. \nJoin us for our Marketing Planning Friday Forum for a step-by-step guide on creating marketing plans that are meaningful\, flexible\, and accountable. \nRegister to attend and you’ll get three educational sessions\, live Q&A\, and resources. \nCan’t make it on December 11? Don’t worry. Sign up and you’ll receive on-demand access for 90 days after the event.
URL:https://marketing.com.au/event/marketing-planning-friday-forum-2/
LOCATION:Online
CATEGORIES:All Event Locations,All Event Topics,All Event Types,Marketing
END:VEVENT
END:VCALENDAR