BEGIN:VCALENDAR
VERSION:2.0
PRODID:-//Marketing.com.au - ECPv6.15.20//NONSGML v1.0//EN
CALSCALE:GREGORIAN
METHOD:PUBLISH
X-ORIGINAL-URL:https://marketing.com.au
X-WR-CALDESC:Events for Marketing.com.au
REFRESH-INTERVAL;VALUE=DURATION:PT1H
X-Robots-Tag:noindex
X-PUBLISHED-TTL:PT1H
BEGIN:VTIMEZONE
TZID:Australia/Melbourne
BEGIN:STANDARD
TZOFFSETFROM:+1100
TZOFFSETTO:+1000
TZNAME:AEST
DTSTART:20190406T160000
END:STANDARD
BEGIN:DAYLIGHT
TZOFFSETFROM:+1000
TZOFFSETTO:+1100
TZNAME:AEDT
DTSTART:20191005T160000
END:DAYLIGHT
BEGIN:STANDARD
TZOFFSETFROM:+1100
TZOFFSETTO:+1000
TZNAME:AEST
DTSTART:20200404T160000
END:STANDARD
BEGIN:DAYLIGHT
TZOFFSETFROM:+1000
TZOFFSETTO:+1100
TZNAME:AEDT
DTSTART:20201003T160000
END:DAYLIGHT
BEGIN:STANDARD
TZOFFSETFROM:+1100
TZOFFSETTO:+1000
TZNAME:AEST
DTSTART:20210403T160000
END:STANDARD
BEGIN:DAYLIGHT
TZOFFSETFROM:+1000
TZOFFSETTO:+1100
TZNAME:AEDT
DTSTART:20211002T160000
END:DAYLIGHT
END:VTIMEZONE
BEGIN:VEVENT
DTSTART;TZID=Australia/Melbourne:20200326T090000
DTEND;TZID=Australia/Melbourne:20200326T120000
DTSTAMP:20260424T012443
CREATED:20200105T100946Z
LAST-MODIFIED:20201002T055146Z
UID:14730-1585213200-1585224000@marketing.com.au
SUMMARY:Content Marketing – Creation\, Curation & Strategies [MASTERCLASS]
DESCRIPTION:Create and curate content that converts.\nSo many ways to generate content. So many content creation and curation tools.  \nSo\, how do you formulate a content strategy that will maximise the return on your content marketing investment and minimise your workload? \nJoin social media strategist and certified trainer Meg Coffey on Thursday March 26th at the Alex Hotel for our Content Marketing: Creation\, Curation & Strategies workshop – a masterclass in perfecting your content marketing and social media strategy. \nFind out the essentials to make sure you can utilise social media for your business efficiently and strategically. \nThe Content Marketing Masterclass will examine:\n\nChoose and use the right apps and tools\nDefine your brand personality and use it consistently\nCreate a realistic content calendar and save time\nUnderstand when to create and when to curate\nHarness the power of user-generated content\nMeasure your effectiveness and report on ROI\n\nWHO SHOULD ATTEND\nIf you understand the basics of digital marketing and are ready to take it to the next level\, this is the Masterclass for you. Marketing professionals\, media personnel or small business owners who are looking for great ideas\, tips and tricks about how to a create and maintain a great content strategy should look no further!
URL:https://marketing.com.au/event/content-marketing-creation-curation-strategies-masterclass/
LOCATION:Alex Hotel\, 50 James Street\, Perth\, WA\, 6000\, Australia
CATEGORIES:All Event Locations,All Event Topics,All Event Types,Perth
END:VEVENT
BEGIN:VEVENT
DTSTART;TZID=Australia/Melbourne:20200326T090000
DTEND;TZID=Australia/Melbourne:20200326T120000
DTSTAMP:20260424T012443
CREATED:20200222T060035Z
LAST-MODIFIED:20201002T055239Z
UID:14906-1585213200-1585224000@marketing.com.au
SUMMARY:Content Marketing – Creation\, Curation & Strategies [MASTERCLASS]
DESCRIPTION:So many ways to generate content. So many content creation and curation tools.  \nSo\, how do you formulate a content strategy that will maximise the return on your content marketing investment and minimise your workload? \nJoin social media strategist and certified trainer Meg Coffey on Thursday March 26th at the Alex Hotel for our Content Marketing: Creation\, Curation & Strategies workshop – a masterclass in perfecting your content marketing and social media strategy. \nFind out the essentials to make sure you can utilise social media for your business efficiently and strategically. \nThe Content Marketing Masterclass will examine:\n\nChoose and use the right apps and tools\nDefine your brand personality and use it consistently\nCreate a realistic content calendar and save time\nUnderstand when to create and when to curate\nHarness the power of user-generated content\nMeasure your effectiveness and report on ROI\n\nWHO SHOULD ATTEND\nIf you understand the basics of digital marketing and are ready to take it to the next level\, this is the Masterclass for you. Marketing professionals\, media personnel or small business owners who are looking for great ideas\, tips and tricks about how to a create and maintain a great content strategy should look no further!
URL:https://marketing.com.au/event/content-marketing-creation-curation-strategies-masterclass-2/
LOCATION:Alex Hotel\, 50 James Street\, Perth\, WA\, 6000\, Australia
CATEGORIES:All Event Locations,All Event Topics,All Event Types,Perth,Social Media
ORGANIZER;CN="Social Media Perth":MAILTO:info@smperth.com
END:VEVENT
END:VCALENDAR