BEGIN:VCALENDAR
VERSION:2.0
PRODID:-//Marketing.com.au - ECPv6.15.20//NONSGML v1.0//EN
CALSCALE:GREGORIAN
METHOD:PUBLISH
X-ORIGINAL-URL:https://marketing.com.au
X-WR-CALDESC:Events for Marketing.com.au
REFRESH-INTERVAL;VALUE=DURATION:PT1H
X-Robots-Tag:noindex
X-PUBLISHED-TTL:PT1H
BEGIN:VTIMEZONE
TZID:Australia/Melbourne
BEGIN:STANDARD
TZOFFSETFROM:+1100
TZOFFSETTO:+1000
TZNAME:AEST
DTSTART:20190406T160000
END:STANDARD
BEGIN:DAYLIGHT
TZOFFSETFROM:+1000
TZOFFSETTO:+1100
TZNAME:AEDT
DTSTART:20191005T160000
END:DAYLIGHT
BEGIN:STANDARD
TZOFFSETFROM:+1100
TZOFFSETTO:+1000
TZNAME:AEST
DTSTART:20200404T160000
END:STANDARD
BEGIN:DAYLIGHT
TZOFFSETFROM:+1000
TZOFFSETTO:+1100
TZNAME:AEDT
DTSTART:20201003T160000
END:DAYLIGHT
BEGIN:STANDARD
TZOFFSETFROM:+1100
TZOFFSETTO:+1000
TZNAME:AEST
DTSTART:20210403T160000
END:STANDARD
BEGIN:DAYLIGHT
TZOFFSETFROM:+1000
TZOFFSETTO:+1100
TZNAME:AEDT
DTSTART:20211002T160000
END:DAYLIGHT
END:VTIMEZONE
BEGIN:VEVENT
DTSTART;VALUE=DATE:20200306
DTEND;VALUE=DATE:20200307
DTSTAMP:20260424T011131
CREATED:20200222T055820Z
LAST-MODIFIED:20200808T045611Z
UID:14903-1583452800-1583539199@marketing.com.au
SUMMARY:Make 2020 Your Best Year - 10 Marketing Secrets To Hack Your Success
DESCRIPTION:Are you wanting to make 2020 your best year ever? \nAre you struggling to find new ways to market your business? \nThen this event is for you. Not only is it a chance to Network with other liked minded business owners but you will get 10 Marketing Strategies to help make 2020 your best year ever. \nSchedule: \n9.00am-10.00am – Networking Opportunity/Free Coffee! \n10.00am – 10.45am – 10 Marketing Strategies To Hack Success in 2020 \n10.45am – 11.00am – Q&A \n11.00am – 11.30am – Networking Opportunity
URL:https://marketing.com.au/event/make-2020-your-best-year-10-marketing-secrets-to-hack-your-success/
LOCATION:Richardson Park Clubrooms\, Amherst Street\, South Perth\, WA\, 6151\, Australia
CATEGORIES:All Event Locations,All Event Topics,All Event Types,Marketing
END:VEVENT
BEGIN:VEVENT
DTSTART;TZID=Australia/Melbourne:20200306T080000
DTEND;TZID=Australia/Melbourne:20200306T123000
DTSTAMP:20260424T011131
CREATED:20200105T102845Z
LAST-MODIFIED:20200808T045552Z
UID:14753-1583481600-1583497800@marketing.com.au
SUMMARY:Marketing Workshop for Accountants
DESCRIPTION:FROM ACCOUNTANT TO DIGITAL MARKETING GURU IN 4 HOURS\nThe marketing workshop for accountants will provide you with real tools and knowledge that you can use immediately to grow your business. You don’t need to be an IT expert to compete online\, just a few simple tools and know-how. \nWORKSHOP OUTLINE\n\nGet your practice found online today\nGet new clients now\nKeep your existing clients\nUpsell your services with ease\n\nTOOLS\n\nGoogle My Business\nGoogle Reviews\nInstant Messaging\nAuto client newsletter\nClient factsheets\nEasy booking
URL:https://marketing.com.au/event/marketing-workshop-for-accountants/
LOCATION:Rendezvous Hotel – Perth\, 24 Mount Street\, Perth\, WA\, Australia
CATEGORIES:All Event Locations,All Event Topics,All Event Types,Perth
END:VEVENT
END:VCALENDAR