BEGIN:VCALENDAR
VERSION:2.0
PRODID:-//Marketing.com.au - ECPv6.15.20//NONSGML v1.0//EN
CALSCALE:GREGORIAN
METHOD:PUBLISH
X-ORIGINAL-URL:https://marketing.com.au
X-WR-CALDESC:Events for Marketing.com.au
REFRESH-INTERVAL;VALUE=DURATION:PT1H
X-Robots-Tag:noindex
X-PUBLISHED-TTL:PT1H
BEGIN:VTIMEZONE
TZID:Australia/Melbourne
BEGIN:STANDARD
TZOFFSETFROM:+1100
TZOFFSETTO:+1000
TZNAME:AEST
DTSTART:20190406T160000
END:STANDARD
BEGIN:DAYLIGHT
TZOFFSETFROM:+1000
TZOFFSETTO:+1100
TZNAME:AEDT
DTSTART:20191005T160000
END:DAYLIGHT
BEGIN:STANDARD
TZOFFSETFROM:+1100
TZOFFSETTO:+1000
TZNAME:AEST
DTSTART:20200404T160000
END:STANDARD
BEGIN:DAYLIGHT
TZOFFSETFROM:+1000
TZOFFSETTO:+1100
TZNAME:AEDT
DTSTART:20201003T160000
END:DAYLIGHT
BEGIN:STANDARD
TZOFFSETFROM:+1100
TZOFFSETTO:+1000
TZNAME:AEST
DTSTART:20210403T160000
END:STANDARD
BEGIN:DAYLIGHT
TZOFFSETFROM:+1000
TZOFFSETTO:+1100
TZNAME:AEDT
DTSTART:20211002T160000
END:DAYLIGHT
END:VTIMEZONE
BEGIN:VEVENT
DTSTART;VALUE=DATE:20200129
DTEND;VALUE=DATE:20200201
DTSTAMP:20260424T022321
CREATED:20191228T052932Z
LAST-MODIFIED:20200222T051724Z
UID:14626-1580256000-1580515199@marketing.com.au
SUMMARY:ANZ Influencer\, Millennial and Growth Hacking Marketing Forum
DESCRIPTION:In this new age of customer experience\, marketing professionals need to continuously evolve and adopt strategic differentiators to gain a competitive edge for their brands against the ultra-competitive landscape. Three key strategies have been repeatedly emphasized as what can set the leaders apart from the laggards: Influencer\, Millennial and Growth Hacking. With the Internet and social media platforms like Instagram\, Facebook and YouTube\, consumers have unlimited freedom and choice over the content they wish to view\, creating a huge problem for brands. Influencer marketing\, while not a new concept\, has made its way to the forefront of the marketing game and could offer a solution to this problem. Twitter estimates that the influencer marketing industry can hit $10 billion by 2020 and more brands are hopping on the influencer marketing train. \nUnderstanding your need to build your capabilities to serve the next generation customers\, Clariden Global cordially invites you to the inaugural ANZ Influencer\, Millennial and Growth Hacking Marketing Forum: Powerful Strategies to Reach the Largest and Most Influential Generation of Customer this coming January. Join the global gathering of marketing\, communications and CX experts and thought leaders in the region to better understand\, incorporate and devise successful and strategic customer-centric strategies. This event is carefully researched and crafted with the most desired and unparalleled insights on influencer\, millennial and growth hacking marketing that will help you ignite a successful transformation. \nMark 29 – 31 January 2020 on your calendar and book your seat now! Join us in harnessing the promising potential of the ANZ Influencer\, Millennial and Growth Hacking Marketing Forum by tapping into the expertise of marketing\, communications and CX professionals with leading case studies and proven solutions. We look forward to welcoming you!
URL:https://marketing.com.au/event/anz-influencer-millennial-and-growth-hacking-marketing-forum/
LOCATION:Hilton Sydney\, 488 George Street\, Sydney\, NSW\, 2000\, Australia
CATEGORIES:All Event Locations,All Event Topics,All Event Types,Content Marketing,Digital Marketing,Sydney
END:VEVENT
BEGIN:VEVENT
DTSTART;VALUE=DATE:20200131
DTEND;VALUE=DATE:20200303
DTSTAMP:20260424T022321
CREATED:20200127T031944Z
LAST-MODIFIED:20200222T051724Z
UID:14851-1580428800-1583193599@marketing.com.au
SUMMARY:Rainmaker Digital Summit
DESCRIPTION:A Virtual Business & Marketing Summit to benefit the people and animals of Australia\n45 Speakers. One Global Community. One Goal: Australian Bushfire Relief. \nAttendance fee: minimum $50 suggested donation to one of our recommended Australian charities. 100% of all donations go directly to recognized charities working in Australia. \nJoin 45 international speakers and recognized top industry experts as they bring you the best tutorial sessions packed full of actionable strategies and advice for business and marketing. \nYour donation gets you full access to the online summit from January 31 to March 2\, 2020 with topics covering digital marketing\, social media\, content creation\, and business development.
URL:https://marketing.com.au/event/rainmaker-digital-summit/
LOCATION:Online
CATEGORIES:All Event Locations,All Event Topics,All Event Types
END:VEVENT
END:VCALENDAR