BEGIN:VCALENDAR
VERSION:2.0
PRODID:-//Marketing.com.au - ECPv6.15.20//NONSGML v1.0//EN
CALSCALE:GREGORIAN
METHOD:PUBLISH
X-WR-CALNAME:Marketing.com.au
X-ORIGINAL-URL:https://marketing.com.au
X-WR-CALDESC:Events for Marketing.com.au
REFRESH-INTERVAL;VALUE=DURATION:PT1H
X-Robots-Tag:noindex
X-PUBLISHED-TTL:PT1H
BEGIN:VTIMEZONE
TZID:Australia/Melbourne
BEGIN:STANDARD
TZOFFSETFROM:+1100
TZOFFSETTO:+1000
TZNAME:AEST
DTSTART:20180331T160000
END:STANDARD
BEGIN:DAYLIGHT
TZOFFSETFROM:+1000
TZOFFSETTO:+1100
TZNAME:AEDT
DTSTART:20181006T160000
END:DAYLIGHT
BEGIN:STANDARD
TZOFFSETFROM:+1100
TZOFFSETTO:+1000
TZNAME:AEST
DTSTART:20190406T160000
END:STANDARD
BEGIN:DAYLIGHT
TZOFFSETFROM:+1000
TZOFFSETTO:+1100
TZNAME:AEDT
DTSTART:20191005T160000
END:DAYLIGHT
BEGIN:STANDARD
TZOFFSETFROM:+1100
TZOFFSETTO:+1000
TZNAME:AEST
DTSTART:20200404T160000
END:STANDARD
BEGIN:DAYLIGHT
TZOFFSETFROM:+1000
TZOFFSETTO:+1100
TZNAME:AEDT
DTSTART:20201003T160000
END:DAYLIGHT
END:VTIMEZONE
BEGIN:VEVENT
DTSTART;TZID=Australia/Melbourne:20190805T080000
DTEND;TZID=Australia/Melbourne:20190807T170000
DTSTAMP:20260424T224357
CREATED:20190728T021553Z
LAST-MODIFIED:20201002T041507Z
UID:13971-1564992000-1565197200@marketing.com.au
SUMMARY:Chief Marketing Officer Summit
DESCRIPTION:The CMO Summit allows you to meet and do business with Australia and New Zealand’s leading Chief Marketing Officers from the largest corporations in the most cost-effective way. \nWe partner only with a limited number of solution provider companies offering valuable services and expertise. Approved solution providers get the opportunity to conduct mutually selected and pre-scheduled one-on-one meetings with interested buyers of their products and services. Prior to the event\, they receive exclusive access to the profiles of all delegates\, allowing to make educated meeting selections and prepare for productive interactions. \nThe CMO Summit 2019 focuses on the key topics below: \n\n\n\nGoing Back to Basics – Instilling confidence in long term investments to recalibrate the focus on brand recognition\, awareness and perception\nCut the Clutter – Reviewing organisational structures\, skill sets and marketing mixes in a saturated market to differentiate the brand\nRoadmap for Results – Matching customer needs by assessing marketing opportunities across various platforms with effective segmentation and targeting\nKeeping Authenticity in Check – Sparking meaningful conversations with authentic content that resonates with target audiences\nAutomating with Finesse – Uncovering new\, improved ways to continually engage with customers amidst intensity of resources\nPowered by Digital – Embarking on a digital transformation journey in an ever more interconnected world to be competitive for the future
URL:https://marketing.com.au/event/chief-marketing-officer-summit-2/
LOCATION:RACV Royal Pines Resort\, Benowa\, Gold Coast\, QLD\, 4217\, Australia
CATEGORIES:All Event Locations,All Event Topics,All Event Types,Marketing
END:VEVENT
END:VCALENDAR