BEGIN:VCALENDAR
VERSION:2.0
PRODID:-//Marketing.com.au - ECPv6.15.20//NONSGML v1.0//EN
CALSCALE:GREGORIAN
METHOD:PUBLISH
X-ORIGINAL-URL:https://marketing.com.au
X-WR-CALDESC:Events for Marketing.com.au
REFRESH-INTERVAL;VALUE=DURATION:PT1H
X-Robots-Tag:noindex
X-PUBLISHED-TTL:PT1H
BEGIN:VTIMEZONE
TZID:Australia/Melbourne
BEGIN:STANDARD
TZOFFSETFROM:+1100
TZOFFSETTO:+1000
TZNAME:AEST
DTSTART:20180331T160000
END:STANDARD
BEGIN:DAYLIGHT
TZOFFSETFROM:+1000
TZOFFSETTO:+1100
TZNAME:AEDT
DTSTART:20181006T160000
END:DAYLIGHT
BEGIN:STANDARD
TZOFFSETFROM:+1100
TZOFFSETTO:+1000
TZNAME:AEST
DTSTART:20190406T160000
END:STANDARD
BEGIN:DAYLIGHT
TZOFFSETFROM:+1000
TZOFFSETTO:+1100
TZNAME:AEDT
DTSTART:20191005T160000
END:DAYLIGHT
BEGIN:STANDARD
TZOFFSETFROM:+1100
TZOFFSETTO:+1000
TZNAME:AEST
DTSTART:20200404T160000
END:STANDARD
BEGIN:DAYLIGHT
TZOFFSETFROM:+1000
TZOFFSETTO:+1100
TZNAME:AEDT
DTSTART:20201003T160000
END:DAYLIGHT
END:VTIMEZONE
BEGIN:VEVENT
DTSTART;TZID=Australia/Melbourne:20190312T080000
DTEND;TZID=Australia/Melbourne:20190313T170000
DTSTAMP:20260425T005116
CREATED:20181225T094355Z
LAST-MODIFIED:20191020T054415Z
UID:12910-1552377600-1552496400@marketing.com.au
SUMMARY:ad:tech Sydney 2019
DESCRIPTION:ad:tech is the original industry authority for marketing and media technology\, where marketing\, technology and media communities assemble to share new ways of thinking\, build strong partnerships\, and define new strategies to compete in an ever-changing marketplace. \n2019 keynote speakers include: \n\nTom Eslinger\, global chief creative officer\, Burson Cohn & Wolfe\nMari Kauppinen\, head of marketing\, digital & demand generation\, IBM\nJeff Rosenblum\, co-president\, Questus\nTom Goodwin\, evp\, head of innovation\, Zenith USA\nAlexander Nick\, global AR/VR ads go-to-market lead\, Google\nKshira Saagar\, head of analytics and data science\, The Iconic\nAna Milicevic\, co-founder\, Sparrow Advisers
URL:https://marketing.com.au/event/adtech-sydney-2019/
LOCATION:Hilton Sydney\, 488 Georges Street\, Sydney\, New South Wales\, 2000\, Australia
CATEGORIES:All Event Locations,All Event Topics,All Event Types
END:VEVENT
BEGIN:VEVENT
DTSTART;TZID=Australia/Melbourne:20190313T080000
DTEND;TZID=Australia/Melbourne:20190314T170000
DTSTAMP:20260425T005116
CREATED:20181225T101807Z
LAST-MODIFIED:20191020T054415Z
UID:12940-1552464000-1552582800@marketing.com.au
SUMMARY:B2B Expo Melbourne
DESCRIPTION:It’s now or never\, Australian businesses must step up in order to stay in business\, to capture new market opportunities and to prepare for intense competition from overseas. SMEs need to urgently innovate\, to evolve beyond the status quo. \nPresented by Officeworks\, B2B Expo provides business owners\, entrepreneurs\, senior management and startups the platform to learn\, connect and grow. A feature of B2B Expo is the free Business Matters Seminars. Startups are also a focus of the exhibition with a PitchComp and startup seminars. With more than 30 seminar presentations\, more than 60 exhibitors\, advice\, opportunities and much more\, can you afford to miss out!
URL:https://marketing.com.au/event/b2b-expo-melbourne/
LOCATION:Marvel Stadium\, Docklands\, Melbourne
CATEGORIES:All Event Locations,All Event Topics,All Event Types
END:VEVENT
END:VCALENDAR