BEGIN:VCALENDAR
VERSION:2.0
PRODID:-//Marketing.com.au - ECPv6.15.20//NONSGML v1.0//EN
CALSCALE:GREGORIAN
METHOD:PUBLISH
X-WR-CALNAME:Marketing.com.au
X-ORIGINAL-URL:https://marketing.com.au
X-WR-CALDESC:Events for Marketing.com.au
REFRESH-INTERVAL;VALUE=DURATION:PT1H
X-Robots-Tag:noindex
X-PUBLISHED-TTL:PT1H
BEGIN:VTIMEZONE
TZID:Australia/Melbourne
BEGIN:STANDARD
TZOFFSETFROM:+1100
TZOFFSETTO:+1000
TZNAME:AEST
DTSTART:20180331T160000
END:STANDARD
BEGIN:DAYLIGHT
TZOFFSETFROM:+1000
TZOFFSETTO:+1100
TZNAME:AEDT
DTSTART:20181006T160000
END:DAYLIGHT
BEGIN:STANDARD
TZOFFSETFROM:+1100
TZOFFSETTO:+1000
TZNAME:AEST
DTSTART:20190406T160000
END:STANDARD
BEGIN:DAYLIGHT
TZOFFSETFROM:+1000
TZOFFSETTO:+1100
TZNAME:AEDT
DTSTART:20191005T160000
END:DAYLIGHT
BEGIN:STANDARD
TZOFFSETFROM:+1100
TZOFFSETTO:+1000
TZNAME:AEST
DTSTART:20200404T160000
END:STANDARD
BEGIN:DAYLIGHT
TZOFFSETFROM:+1000
TZOFFSETTO:+1100
TZNAME:AEDT
DTSTART:20201003T160000
END:DAYLIGHT
END:VTIMEZONE
BEGIN:VEVENT
DTSTART;TZID=Australia/Melbourne:20190306T090000
DTEND;TZID=Australia/Melbourne:20190306T133000
DTSTAMP:20260425T005002
CREATED:20190301T010156Z
LAST-MODIFIED:20201002T014853Z
UID:13266-1551862800-1551879000@marketing.com.au
SUMMARY:Conversion Optimisation: Reaching Your Full Digital Potential Using Customer Data
DESCRIPTION:Data is the voice of your customers. Yet it is rarely used when trying to answer common dilemmas such as how to increase conversion rates\, how optimise landing pages or deciding on website redesigns and rebuilds. In today’s interconnected world it is this data\, opinions that should be dictating marketing strategy. \nThis Seminar is designed for senior marketers\, digital marketers and e-commerce specialists wanting to learn how to truly understand their customer’s behaviour online and how to leverage that data to engage customers and profit their brand.
URL:https://marketing.com.au/event/conversion-optimisation/
LOCATION:Bentleys Sydney\, Level 14\, 60 Margaret Street\, Sydney\, NSW\, 2000\, Australia
CATEGORIES:All Event Locations,All Event Topics,All Event Types,Content Marketing,Digital Marketing,Market Research,Marketing,Sydney,Workshop
END:VEVENT
END:VCALENDAR