BEGIN:VCALENDAR
VERSION:2.0
PRODID:-//Marketing.com.au - ECPv6.15.20//NONSGML v1.0//EN
CALSCALE:GREGORIAN
METHOD:PUBLISH
X-WR-CALNAME:Marketing.com.au
X-ORIGINAL-URL:https://marketing.com.au
X-WR-CALDESC:Events for Marketing.com.au
REFRESH-INTERVAL;VALUE=DURATION:PT1H
X-Robots-Tag:noindex
X-PUBLISHED-TTL:PT1H
BEGIN:VTIMEZONE
TZID:Australia/Melbourne
BEGIN:STANDARD
TZOFFSETFROM:+1100
TZOFFSETTO:+1000
TZNAME:AEST
DTSTART:20180331T160000
END:STANDARD
BEGIN:DAYLIGHT
TZOFFSETFROM:+1000
TZOFFSETTO:+1100
TZNAME:AEDT
DTSTART:20181006T160000
END:DAYLIGHT
BEGIN:STANDARD
TZOFFSETFROM:+1100
TZOFFSETTO:+1000
TZNAME:AEST
DTSTART:20190406T160000
END:STANDARD
BEGIN:DAYLIGHT
TZOFFSETFROM:+1000
TZOFFSETTO:+1100
TZNAME:AEDT
DTSTART:20191005T160000
END:DAYLIGHT
BEGIN:STANDARD
TZOFFSETFROM:+1100
TZOFFSETTO:+1000
TZNAME:AEST
DTSTART:20200404T160000
END:STANDARD
BEGIN:DAYLIGHT
TZOFFSETFROM:+1000
TZOFFSETTO:+1100
TZNAME:AEDT
DTSTART:20201003T160000
END:DAYLIGHT
END:VTIMEZONE
BEGIN:VEVENT
DTSTART;VALUE=DATE:20190227
DTEND;VALUE=DATE:20190228
DTSTAMP:20260425T005003
CREATED:20190105T024144Z
LAST-MODIFIED:20191020T054416Z
UID:12990-1551225600-1551311999@marketing.com.au
SUMMARY:Future of Brands Sydney
DESCRIPTION:DRIVING BRAND GROWTH THROUGH MARKETING \nThe Future of Brands is co-located in Sydney with our leading broadcast event\, Future TV Advertising Forum \nWe will be picking up on the key issues facing brands in in this complex\, digital world. \nWe are keen to explore the impact voice marketing will make over the next few years – very significant in the view of some; and we will look more broadly at marketing to machines. \nWe will hear case studies on the development of brand experiences\, pulling together both offline and online examples; and explore the growth of social e-commerce. \nWith so many vying for the consumer’s attention in so many ways\, loyalty marketing is taking on new emphasis. We will explore that\, and the other possibility that you might be battling to deal with a loss of trust in your brand? \nIt’s no wonder in such a fast-moving world that marketers are starting to seek new and different agency relationships; and agencies in turn are keen to preserve their place at the table and extend their impact and influence where possible. We ask what agency models are coming to the fore and where the management consultancies sit in all this.
URL:https://marketing.com.au/event/future-of-brands-sydney/
LOCATION:Doltone House\, 26-32 Pirrama Rd\, Pyrmont\, NSW\, 2009\, Australia
CATEGORIES:Advertising,All Event Locations,All Event Topics,All Event Types,Marketing,Sydney
END:VEVENT
BEGIN:VEVENT
DTSTART;TZID=Australia/Melbourne:20190227T080000
DTEND;TZID=Australia/Melbourne:20190227T170000
DTSTAMP:20260425T005003
CREATED:20181225T101522Z
LAST-MODIFIED:20191020T054416Z
UID:12938-1551254400-1551286800@marketing.com.au
SUMMARY:Intrigue Summit Melbourne
DESCRIPTION:An interactive and global annual marketing/advertising event that is a great platform for client side marketers\, global brand advertisers\, advertising technology providers\, digital agencies\, online publishers\, portals and media professionals. \nIntrigue Summits are organised in many of the world’s most prominent cities including New York\, San Francisco\, Los Angeles\, Singapore\, Hong Kong\, New Delhi\, London\, Melbourne\, Sydney and many more. It is a unique conference + exhibition which will have many of the finest speakers from Melbourne and the surrounding cities with an intriguing agenda covering the latest trends in marketing and advertising technologies.
URL:https://marketing.com.au/event/intrigue-summit-melbourne/
LOCATION:Melbourne Cricket Ground\, Brunton Avenue\, Richmond\, VIC\, 3002\, Australia
CATEGORIES:All Event Locations,All Event Topics,All Event Types
END:VEVENT
BEGIN:VEVENT
DTSTART;TZID=Australia/Melbourne:20190227T080000
DTEND;TZID=Australia/Melbourne:20190228T170000
DTSTAMP:20260425T005003
CREATED:20181225T101316Z
LAST-MODIFIED:20201002T060805Z
UID:12936-1551254400-1551373200@marketing.com.au
SUMMARY:Digital Marketing Leaders Summit
DESCRIPTION:Join us at Australia’s most anticipated and influential digital marketing summit\, taking your place alongside more than 100 senior marketers and digital strategists over two days of networking and learning. \nWe believe true innovation comes from changing perspectives. Our speakers are hand picked for their expertise\, experience and influence in the digital marketing field\, from a wide range of industries.
URL:https://marketing.com.au/event/digital-marketing-leaders-summit-2/
LOCATION:NSW
CATEGORIES:All Event Locations,All Event Topics,All Event Types
END:VEVENT
END:VCALENDAR