BEGIN:VCALENDAR
VERSION:2.0
PRODID:-//Marketing.com.au - ECPv6.15.20//NONSGML v1.0//EN
CALSCALE:GREGORIAN
METHOD:PUBLISH
X-ORIGINAL-URL:https://marketing.com.au
X-WR-CALDESC:Events for Marketing.com.au
REFRESH-INTERVAL;VALUE=DURATION:PT1H
X-Robots-Tag:noindex
X-PUBLISHED-TTL:PT1H
BEGIN:VTIMEZONE
TZID:Australia/Melbourne
BEGIN:STANDARD
TZOFFSETFROM:+1100
TZOFFSETTO:+1000
TZNAME:AEST
DTSTART:20170401T160000
END:STANDARD
BEGIN:DAYLIGHT
TZOFFSETFROM:+1000
TZOFFSETTO:+1100
TZNAME:AEDT
DTSTART:20170930T160000
END:DAYLIGHT
BEGIN:STANDARD
TZOFFSETFROM:+1100
TZOFFSETTO:+1000
TZNAME:AEST
DTSTART:20180331T160000
END:STANDARD
BEGIN:DAYLIGHT
TZOFFSETFROM:+1000
TZOFFSETTO:+1100
TZNAME:AEDT
DTSTART:20181006T160000
END:DAYLIGHT
BEGIN:STANDARD
TZOFFSETFROM:+1100
TZOFFSETTO:+1000
TZNAME:AEST
DTSTART:20190406T160000
END:STANDARD
BEGIN:DAYLIGHT
TZOFFSETFROM:+1000
TZOFFSETTO:+1100
TZNAME:AEDT
DTSTART:20191005T160000
END:DAYLIGHT
END:VTIMEZONE
BEGIN:VEVENT
DTSTART;VALUE=DATE:20180528
DTEND;VALUE=DATE:20180602
DTSTAMP:20260425T221856
CREATED:20180419T060439Z
LAST-MODIFIED:20180424T140304Z
UID:11101-1527465600-1527897599@marketing.com.au
SUMMARY:Search Marketing Summit
DESCRIPTION:Search Marketing Summit is the refreshed and updated leading 5-day event that offers Online Marketing practitioners in Australia\, New Zealand & Asia Pacific the best place to update their skills. \nBelow are the topics that will be talked about on each day: \n\nMay 28\, Day One – Advanced PPC Workshop\nMay 29\, Day Two – Search Marketing Summit + FREE SEMrush Networking Cruise\nMay 30\, Day Three – Search Marketing Summit\nMay 31\, Day Four – Advanced SEO Workshop\nJune 1st\, Day Five – Mobile Marketing Workshop with Cindy Krum\n\nThere are twenty-six of our local and international speakers\, including: \n\nAshley Ward\, Corporate Speaker & Evangelist\, SEMrush\nBritney Muller\, Senior SEO Scientist\, Moz\nJohn Mueller\, Senior Webmaster Trends Analyst\, Google\nRoey Rafael\, Paid Growth Director\, Envato\, plus many more!
URL:https://marketing.com.au/event/search-marketing-summit/
LOCATION:SMC Conference & Function Centre\, 66 Goulburn St\, Sydney\, NSW\, 2000\, Australia
CATEGORIES:All Event Locations,All Event Topics,All Event Types,Conference,Content Marketing,Digital Marketing,Marketing,Presentation,Sydney,Workshop
ATTACH;FMTTYPE=image/jpeg:https://marketing.com.au/wp-content/uploads/2018/04/Search-Marketing-Summit-2018.jpg
END:VEVENT
BEGIN:VEVENT
DTSTART;VALUE=DATE:20180531
DTEND;VALUE=DATE:20180602
DTSTAMP:20260425T221856
CREATED:20180418T121906Z
LAST-MODIFIED:20201002T043754Z
UID:11453-1527724800-1527897599@marketing.com.au
SUMMARY:Future Social Media Strategy 2018 Forum
DESCRIPTION:With social media being a fast-changing industry relevance can be hard to achieve. This 2-day conference with your leading social media strategist colleagues has been put together to ensure the imminent trends in social strategy are uncovered\, it also explorers global social innovations. \nIt will cover: \n\nThe rise of augmented reality and the impact on social strategy\nDeveloping Instagram stories effectively for your business\nThe continued importance of harnessing influencer marketing\nGaining relevance with the Gen Zers – new platforms and the innovative strategies\, plus more!
URL:https://marketing.com.au/event/future-social-media-strategy-2018-forum-2/
LOCATION:Grace Hotel\, Sydney\, 77 York street\, Sydney\, NSW\, 2000\, Australia
CATEGORIES:All Event Locations,All Event Topics,All Event Types,Conference,Marketing,Social Media,Sydney
END:VEVENT
END:VCALENDAR