BEGIN:VCALENDAR
VERSION:2.0
PRODID:-//Marketing.com.au - ECPv6.15.20//NONSGML v1.0//EN
CALSCALE:GREGORIAN
METHOD:PUBLISH
X-WR-CALNAME:Marketing.com.au
X-ORIGINAL-URL:https://marketing.com.au
X-WR-CALDESC:Events for Marketing.com.au
REFRESH-INTERVAL;VALUE=DURATION:PT1H
X-Robots-Tag:noindex
X-PUBLISHED-TTL:PT1H
BEGIN:VTIMEZONE
TZID:Australia/Melbourne
BEGIN:STANDARD
TZOFFSETFROM:+1100
TZOFFSETTO:+1000
TZNAME:AEST
DTSTART:20170401T160000
END:STANDARD
BEGIN:DAYLIGHT
TZOFFSETFROM:+1000
TZOFFSETTO:+1100
TZNAME:AEDT
DTSTART:20170930T160000
END:DAYLIGHT
BEGIN:STANDARD
TZOFFSETFROM:+1100
TZOFFSETTO:+1000
TZNAME:AEST
DTSTART:20180331T160000
END:STANDARD
BEGIN:DAYLIGHT
TZOFFSETFROM:+1000
TZOFFSETTO:+1100
TZNAME:AEDT
DTSTART:20181006T160000
END:DAYLIGHT
BEGIN:STANDARD
TZOFFSETFROM:+1100
TZOFFSETTO:+1000
TZNAME:AEST
DTSTART:20190406T160000
END:STANDARD
BEGIN:DAYLIGHT
TZOFFSETFROM:+1000
TZOFFSETTO:+1100
TZNAME:AEDT
DTSTART:20191005T160000
END:DAYLIGHT
END:VTIMEZONE
BEGIN:VEVENT
DTSTART;VALUE=DATE:20180522
DTEND;VALUE=DATE:20180525
DTSTAMP:20260426T005605
CREATED:20180418T140856Z
LAST-MODIFIED:20180418T140856Z
UID:11460-1526947200-1527206399@marketing.com.au
SUMMARY:2nd Social Media for Higher Education
DESCRIPTION:With so many people going into university and being on social media. The most powerful tool for both current and prospective student engagement is in social media. Social media will expand market scope\, increase student recruitment and also drive engagement. This event is about using the current and upcoming online platform’s to fuel engagement with students throughout their higher education experience. This conference will explore best practices for creating media content\, amplifying your message to your target audience and help with returns on your social media investment
URL:https://marketing.com.au/event/2nd-social-media-for-higher-education/
LOCATION:Grace Hotel\, Sydney\, 77 York street\, Sydney\, NSW\, 2000\, Australia
CATEGORIES:All Event Locations,All Event Topics,All Event Types,Conference,Content Marketing,Digital Marketing,Marketing,Social Media,Sydney
END:VEVENT
BEGIN:VEVENT
DTSTART;VALUE=DATE:20180523
DTEND;VALUE=DATE:20180525
DTSTAMP:20260426T005605
CREATED:20180425T025426Z
LAST-MODIFIED:20201002T055423Z
UID:11496-1527033600-1527206399@marketing.com.au
SUMMARY:Youth Marketing Australia Conference
DESCRIPTION:Previously known as Millennials Marketing Conference\, YMA Melbourne is here to help marketing professionals keep their finger on the pulse of youth marketing (millennials and GenZ). Some of the speakers come from companies such as Google\, Junkee Media\, UNiDAYS\, Pedestrian.TV\, Ooh! Media and many more. It has been designed for Marketing Directors\, Marketing Managers\, CEO’s\, Social Media Managers\, Brand Managers & everyone in between. \nDay one of YMA follows a single stream conference structure. Hear from 12+ industry heavy weights and help your brand get the edge. Day two of YMA revolves around your personal and professional development to help you stay on top of your game as a modern marketer. \nIf you would like to arrange 1-1 meetings\, problem solve and form long lasting relationships\, YMA is the place to be. Build relationships with 400+ advanced marketers from around Australia.
URL:https://marketing.com.au/event/youth-marketing-australia-conference/
LOCATION:ACMI\, Federation Square\, Flinders St\, Melbourne\, VIC\, 3000\, Australia
CATEGORIES:All Event Locations,All Event Topics,All Event Types,Conference,Content Marketing,Digital Marketing,Market Research,Marketing,Melbourne
END:VEVENT
BEGIN:VEVENT
DTSTART;VALUE=DATE:20180524
DTEND;VALUE=DATE:20180525
DTSTAMP:20260426T005605
CREATED:20180501T144204Z
LAST-MODIFIED:20180501T144219Z
UID:11554-1527120000-1527206399@marketing.com.au
SUMMARY:The Marketing Conference “Chameleon: Becoming an Expert Adapter”
DESCRIPTION:As marketers we know consumers and disruptive technologies constantly change in this industries. There are always battles with pressure\, while still relying on experience of best practice. You understand the nature of this profession and the increased accountability to be revenue-drivers and not cost centres. \nSome of the key takeaways include: \n\nGain actionable insights\nMake industry connections\nBe active in your marketing community\nBe inspired by a supercharged line-up of thought leaders
URL:https://marketing.com.au/event/the-marketing-conference-chameleon-becoming-an-expert-adapter/
LOCATION:Pullman Hotel\, King George Square\, Corner Ann & Roma Street\, Brisbane\, QLD\, 4000\, Australia
CATEGORIES:All Event Locations,All Event Topics,All Event Types,Brisbane,Content Marketing,Digital Marketing,Marketing,Workshop
END:VEVENT
BEGIN:VEVENT
DTSTART;VALUE=DATE:20180524
DTEND;VALUE=DATE:20180526
DTSTAMP:20260426T005605
CREATED:20180313T141828Z
LAST-MODIFIED:20201008T045318Z
UID:11262-1527120000-1527292799@marketing.com.au
SUMMARY:Digital Sales and Marketing Masterclass
DESCRIPTION:Over 2-days\, you will be immersed in: \n\nHow to run a better\, more efficient digital business;\nHow to make more money and increase overall sales by creating and managing a sales funnel unique to your situation;\nTactics perfect for generating leads\, demonstrate how to make networking and referral marketing work for you and unlock all the best practices for your services and Avatar.\n\nAt the end of the final day\, you will develop a 3-month Digital Sales & Marketing Strategy\, unique to your own agency’s needs that delivers any outcome you create.
URL:https://marketing.com.au/event/digital-sales-and-marketing-masterclass-2/
LOCATION:The Sitting Rooms\, Level 1/484 Albany Highway\, Victoria Park\, WA\, 6100\, Australia
CATEGORIES:All Event Locations,All Event Topics,All Event Types,Conference,Content Marketing,Digital Marketing,Marketing,Perth,Social Media,Workshop
END:VEVENT
END:VCALENDAR