BEGIN:VCALENDAR
VERSION:2.0
PRODID:-//Marketing.com.au - ECPv6.15.20//NONSGML v1.0//EN
CALSCALE:GREGORIAN
METHOD:PUBLISH
X-ORIGINAL-URL:https://marketing.com.au
X-WR-CALDESC:Events for Marketing.com.au
REFRESH-INTERVAL;VALUE=DURATION:PT1H
X-Robots-Tag:noindex
X-PUBLISHED-TTL:PT1H
BEGIN:VTIMEZONE
TZID:Australia/Melbourne
BEGIN:STANDARD
TZOFFSETFROM:+1100
TZOFFSETTO:+1000
TZNAME:AEST
DTSTART:20170401T160000
END:STANDARD
BEGIN:DAYLIGHT
TZOFFSETFROM:+1000
TZOFFSETTO:+1100
TZNAME:AEDT
DTSTART:20170930T160000
END:DAYLIGHT
BEGIN:STANDARD
TZOFFSETFROM:+1100
TZOFFSETTO:+1000
TZNAME:AEST
DTSTART:20180331T160000
END:STANDARD
BEGIN:DAYLIGHT
TZOFFSETFROM:+1000
TZOFFSETTO:+1100
TZNAME:AEDT
DTSTART:20181006T160000
END:DAYLIGHT
BEGIN:STANDARD
TZOFFSETFROM:+1100
TZOFFSETTO:+1000
TZNAME:AEST
DTSTART:20190406T160000
END:STANDARD
BEGIN:DAYLIGHT
TZOFFSETFROM:+1000
TZOFFSETTO:+1100
TZNAME:AEDT
DTSTART:20191005T160000
END:DAYLIGHT
END:VTIMEZONE
BEGIN:VEVENT
DTSTART;VALUE=DATE:20180510
DTEND;VALUE=DATE:20180512
DTSTAMP:20260426T004902
CREATED:20180313T140028Z
LAST-MODIFIED:20201002T050909Z
UID:11259-1525910400-1526083199@marketing.com.au
SUMMARY:Digital Sales and Marketing Masterclass
DESCRIPTION:This Digital Sales and Marketing Masterclass runs over 2 days and you will learn the following: \n\nHow to run a better\, more efficient digital business;\nHow to make more money and increase overall sales by creating and managing a sales funnel unique to your situation;\nTactics perfect for generating leads\, demonstrate how to make networking and referral marketing work for you and unlock all the best practices for your services and Avatar.\nAt the end of the final day\, you will develop a 3-month Digital Sales & Marketing Strategy\, unique to your own agency’s needs that delivers any outcome you create.
URL:https://marketing.com.au/event/digital-sales-and-marketing-masterclass/
LOCATION:Urban Hotel St Leonards\, 194 Pacific Highway\, Greenwich\, NSW\, 2065\, Australia
CATEGORIES:All Event Locations,All Event Topics,All Event Types,Content Marketing,Market Research,Marketing,Social Media,Sydney,Workshop
END:VEVENT
END:VCALENDAR