BEGIN:VCALENDAR
VERSION:2.0
PRODID:-//Marketing.com.au - ECPv6.15.20//NONSGML v1.0//EN
CALSCALE:GREGORIAN
METHOD:PUBLISH
X-WR-CALNAME:Marketing.com.au
X-ORIGINAL-URL:https://marketing.com.au
X-WR-CALDESC:Events for Marketing.com.au
REFRESH-INTERVAL;VALUE=DURATION:PT1H
X-Robots-Tag:noindex
X-PUBLISHED-TTL:PT1H
BEGIN:VTIMEZONE
TZID:Australia/Melbourne
BEGIN:STANDARD
TZOFFSETFROM:+1100
TZOFFSETTO:+1000
TZNAME:AEST
DTSTART:20170401T160000
END:STANDARD
BEGIN:DAYLIGHT
TZOFFSETFROM:+1000
TZOFFSETTO:+1100
TZNAME:AEDT
DTSTART:20170930T160000
END:DAYLIGHT
BEGIN:STANDARD
TZOFFSETFROM:+1100
TZOFFSETTO:+1000
TZNAME:AEST
DTSTART:20180331T160000
END:STANDARD
BEGIN:DAYLIGHT
TZOFFSETFROM:+1000
TZOFFSETTO:+1100
TZNAME:AEDT
DTSTART:20181006T160000
END:DAYLIGHT
BEGIN:STANDARD
TZOFFSETFROM:+1100
TZOFFSETTO:+1000
TZNAME:AEST
DTSTART:20190406T160000
END:STANDARD
BEGIN:DAYLIGHT
TZOFFSETFROM:+1000
TZOFFSETTO:+1100
TZNAME:AEDT
DTSTART:20191005T160000
END:DAYLIGHT
END:VTIMEZONE
BEGIN:VEVENT
DTSTART;VALUE=DATE:20180510
DTEND;VALUE=DATE:20180511
DTSTAMP:20260426T005605
CREATED:20180402T035858Z
LAST-MODIFIED:20201002T050039Z
UID:11392-1525910400-1525996799@marketing.com.au
SUMMARY:LinkedIn Training Course -  Sydney
DESCRIPTION:There are so many people using LinkedIn as a social platform\, however not everyone knows how to use it to their advantage. At this event you will learn how to make the most of some of the features including: \n\nProfile – what to write and how to write it\nConnections – who to connect with\, the right way to do it\nGroups – which to join and how to interact in them\nRecommendations – how to ask for and write recommendations\nCompanies – how to get the most out of business pages\nSearch – how to use LinkedIn search to find sales/work leads\nPublishing – what to write and how to do it\n\nSpeaker: Phil Stubbs\, LinkedIn Trainer & Founder
URL:https://marketing.com.au/event/linkedin-training-course-sydney-2/
LOCATION:Media School Studio – Sydney\, 335 Clovelly Road\, Clovelly\, NSW\, 2031\, Australia
CATEGORIES:All Event Locations,All Event Topics,All Event Types,Content Marketing,Marketing,Social Media,Sydney,Workshop
END:VEVENT
BEGIN:VEVENT
DTSTART;VALUE=DATE:20180510
DTEND;VALUE=DATE:20180512
DTSTAMP:20260426T005605
CREATED:20180313T140028Z
LAST-MODIFIED:20201002T050909Z
UID:11259-1525910400-1526083199@marketing.com.au
SUMMARY:Digital Sales and Marketing Masterclass
DESCRIPTION:This Digital Sales and Marketing Masterclass runs over 2 days and you will learn the following: \n\nHow to run a better\, more efficient digital business;\nHow to make more money and increase overall sales by creating and managing a sales funnel unique to your situation;\nTactics perfect for generating leads\, demonstrate how to make networking and referral marketing work for you and unlock all the best practices for your services and Avatar.\nAt the end of the final day\, you will develop a 3-month Digital Sales & Marketing Strategy\, unique to your own agency’s needs that delivers any outcome you create.
URL:https://marketing.com.au/event/digital-sales-and-marketing-masterclass/
LOCATION:Urban Hotel St Leonards\, 194 Pacific Highway\, Greenwich\, NSW\, 2065\, Australia
CATEGORIES:All Event Locations,All Event Topics,All Event Types,Content Marketing,Market Research,Marketing,Social Media,Sydney,Workshop
END:VEVENT
BEGIN:VEVENT
DTSTART;TZID=Australia/Melbourne:20180510T090000
DTEND;TZID=Australia/Melbourne:20180510T120000
DTSTAMP:20260426T005605
CREATED:20180316T142621Z
LAST-MODIFIED:20180316T142621Z
UID:11320-1525942800-1525953600@marketing.com.au
SUMMARY:Facebook Marketing – Advertising\, Analytics & Content Basics
DESCRIPTION:With social media always changing and expanding\, there is a lot to learn and understand. This event will include an in-depth look at the best practices of Facebook marketing including advertising\, analytics and strategies. The speaker will go through the foundations\, you will lean the important technical aspects of the platform. This event is will also cover: \n\nBusiness basics\nUnderstanding analytics\nContent strategies\nOffers & competitions\nIntegrating 3rd party apps\nIntro to advertising\n\nSpeaker\nMeg Coffey is a social media strategist\, brand marketing specialist\, public speaker\, and coach
URL:https://marketing.com.au/event/facebook-marketing-advertising-analytics-content-basics/
LOCATION:The Alex Hotel\, 50 James Street\, Perth\, WA\, 6000\, Australia
CATEGORIES:Advertising,All Event Locations,All Event Topics,All Event Types,Content Marketing,Digital Marketing,Marketing,Perth,Presentation,Social Media,Workshop
ORGANIZER;CN="Social Media Perth":MAILTO:info@smperth.com
END:VEVENT
END:VCALENDAR