BEGIN:VCALENDAR
VERSION:2.0
PRODID:-//Marketing.com.au - ECPv6.15.20//NONSGML v1.0//EN
CALSCALE:GREGORIAN
METHOD:PUBLISH
X-ORIGINAL-URL:https://marketing.com.au
X-WR-CALDESC:Events for Marketing.com.au
REFRESH-INTERVAL;VALUE=DURATION:PT1H
X-Robots-Tag:noindex
X-PUBLISHED-TTL:PT1H
BEGIN:VTIMEZONE
TZID:Australia/Melbourne
BEGIN:STANDARD
TZOFFSETFROM:+1100
TZOFFSETTO:+1000
TZNAME:AEST
DTSTART:20170401T160000
END:STANDARD
BEGIN:DAYLIGHT
TZOFFSETFROM:+1000
TZOFFSETTO:+1100
TZNAME:AEDT
DTSTART:20170930T160000
END:DAYLIGHT
BEGIN:STANDARD
TZOFFSETFROM:+1100
TZOFFSETTO:+1000
TZNAME:AEST
DTSTART:20180331T160000
END:STANDARD
BEGIN:DAYLIGHT
TZOFFSETFROM:+1000
TZOFFSETTO:+1100
TZNAME:AEDT
DTSTART:20181006T160000
END:DAYLIGHT
BEGIN:STANDARD
TZOFFSETFROM:+1100
TZOFFSETTO:+1000
TZNAME:AEST
DTSTART:20190406T160000
END:STANDARD
BEGIN:DAYLIGHT
TZOFFSETFROM:+1000
TZOFFSETTO:+1100
TZNAME:AEDT
DTSTART:20191005T160000
END:DAYLIGHT
END:VTIMEZONE
BEGIN:VEVENT
DTSTART;TZID=Australia/Melbourne:20180329T090000
DTEND;TZID=Australia/Melbourne:20180329T120000
DTSTAMP:20260426T070216
CREATED:20180316T132149Z
LAST-MODIFIED:20201002T045733Z
UID:11292-1522314000-1522324800@marketing.com.au
SUMMARY:Understanding Facebook Advertising
DESCRIPTION:When used correctly\, Facebook advertising is a very powerful platform. At this event you will be shown the possibilities within the platform and the targeting that is available. You will find out the essentials to help you utilise Facebook ads for your business efficiently. \nThe Masterclass will examine: \n\nDeveloping a Strategy\nRunning a Campaign in Ads Manager\nUnderstanding the Objectives\nDemographic\, Behaviour & Interest Targeting\, plus more!\n\nThe speaker is Meg Coffey\, Social media strategist\, brand marketing specialist\, public speaker
URL:https://marketing.com.au/event/understanding-facebook-advertising-3/
LOCATION:The Alex Hotel\, 50 James Street\, Perth\, WA\, 6000\, Australia
CATEGORIES:All Event Locations,All Event Topics,All Event Types,Content Marketing,Marketing,Perth,Social Media,Workshop
ORGANIZER;CN="Social Media Perth":MAILTO:info@smperth.com
END:VEVENT
END:VCALENDAR