BEGIN:VCALENDAR
VERSION:2.0
PRODID:-//Marketing.com.au - ECPv6.15.20//NONSGML v1.0//EN
CALSCALE:GREGORIAN
METHOD:PUBLISH
X-ORIGINAL-URL:https://marketing.com.au
X-WR-CALDESC:Events for Marketing.com.au
REFRESH-INTERVAL;VALUE=DURATION:PT1H
X-Robots-Tag:noindex
X-PUBLISHED-TTL:PT1H
BEGIN:VTIMEZONE
TZID:Australia/Melbourne
BEGIN:STANDARD
TZOFFSETFROM:+1100
TZOFFSETTO:+1000
TZNAME:AEST
DTSTART:20170401T160000
END:STANDARD
BEGIN:DAYLIGHT
TZOFFSETFROM:+1000
TZOFFSETTO:+1100
TZNAME:AEDT
DTSTART:20170930T160000
END:DAYLIGHT
BEGIN:STANDARD
TZOFFSETFROM:+1100
TZOFFSETTO:+1000
TZNAME:AEST
DTSTART:20180331T160000
END:STANDARD
BEGIN:DAYLIGHT
TZOFFSETFROM:+1000
TZOFFSETTO:+1100
TZNAME:AEDT
DTSTART:20181006T160000
END:DAYLIGHT
BEGIN:STANDARD
TZOFFSETFROM:+1100
TZOFFSETTO:+1000
TZNAME:AEST
DTSTART:20190406T160000
END:STANDARD
BEGIN:DAYLIGHT
TZOFFSETFROM:+1000
TZOFFSETTO:+1100
TZNAME:AEDT
DTSTART:20191005T160000
END:DAYLIGHT
END:VTIMEZONE
BEGIN:VEVENT
DTSTART;VALUE=DATE:20180314
DTEND;VALUE=DATE:20180316
DTSTAMP:20260426T070250
CREATED:20180108T110638Z
LAST-MODIFIED:20201002T054057Z
UID:10992-1520985600-1521158399@marketing.com.au
SUMMARY:Digital Marketing Strategies for Higher Education
DESCRIPTION:Just like every industry the higher education market is becoming increasingly competitive. Different data-driven strategies and marketing automation are being used to help personalise content. The goal of this is to increase student engagement. There are so many online platforms and technologies that are available to assist wiht this that it could be quite overwhelming to understand which systems are best suited to your organisation. At this conference you will explore leading higher education and industry case studies to assist you in improving your digital marketing strategies.
URL:https://marketing.com.au/event/digital-marketing-strategies-higher-education-2/
LOCATION:CQ Function Centre\, 113 Queen Street\, Melbourne\, VIC\, 3000\, Australia
CATEGORIES:All Event Locations,All Event Topics,All Event Types,Conference,Content Marketing,Digital Marketing,Market Research,Marketing,Melbourne,Workshop
ORGANIZER;CN="Criterion Conferences":MAILTO:customercare(at)criterionconferences.com
END:VEVENT
BEGIN:VEVENT
DTSTART;VALUE=DATE:20180315
DTEND;VALUE=DATE:20180317
DTSTAMP:20260426T070250
CREATED:20180309T022646Z
LAST-MODIFIED:20180309T022646Z
UID:11225-1521072000-1521244799@marketing.com.au
SUMMARY:Globital’s Digital Sales and Marketing Masterclass – Brisbane
DESCRIPTION:During the 2 days\, you will be immersed in the following subjects: \n\nHow to run a better\, more efficient digital business;\nHow to make more money and increase overall sales by creating and managing a sales funnel unique to your situation;\nTactics perfect for generating leads\, demonstrate how to make networking and referral marketing work for you and unlock all the best practices for your services;\nUnderstand and activate your niche market that is salivating for the solutions you have to grow their business;\n\nOn the end of the final day\, you will develop a 3-month Digital Sales & Marketing Strategy\, unique to your own agency’s needs and deliver on any outcome you create.
URL:https://marketing.com.au/event/globitals-digital-sales-marketing-masterclass-brisbane/
LOCATION:Regus – Brisbane\, 127 Creek Street\, Brisbane\, VIC\, 3000\, Australia
CATEGORIES:All Event Locations,All Event Topics,All Event Types,Brisbane,Conference,Content Marketing,Digital Marketing,Marketing
END:VEVENT
BEGIN:VEVENT
DTSTART;TZID=Australia/Melbourne:20180315T083000
DTEND;TZID=Australia/Melbourne:20180315T123000
DTSTAMP:20260426T070250
CREATED:20171124T051627Z
LAST-MODIFIED:20201002T053602Z
UID:10856-1521102600-1521117000@marketing.com.au
SUMMARY:Digital Marketing Masterclass - Sydney
DESCRIPTION:This event will start off with a brief presentation before moving into an in-depth consultation during the round-table discussions. The discussions will be from social media strategies to data management\, content marketing and mobile marketing plus more. As well as all of this occurring there will also be a leading brand who will be giving a keynote about its digital journey.
URL:https://marketing.com.au/event/digital-marketing-masterclass-sydney-2/
LOCATION:Karstens Sydney\, 111 Harrington Street\, Sydney\, NSW\, 2000\, Australia
CATEGORIES:All Event Locations,All Event Topics,All Event Types,Content Marketing,Digital Marketing,Market Research,Marketing,Presentation,Sydney,Workshop
END:VEVENT
BEGIN:VEVENT
DTSTART;TZID=Australia/Melbourne:20180315T133000
DTEND;TZID=Australia/Melbourne:20180315T173000
DTSTAMP:20260426T070250
CREATED:20171124T053607Z
LAST-MODIFIED:20171124T053607Z
UID:10858-1521120600-1521135000@marketing.com.au
SUMMARY:Digital Marketing Masterclass - Sydney - Afternoon
DESCRIPTION:Are you senior management from a B2C brand and want to learn how you can deploy the latest digital marketing tools and techniques to help gain new business and help retain loyal customers? Then this the event for you! There will be an in-depth consultation during a round-table discussion\, with topics covered from content marketing to programmatic advertising and everything in between.
URL:https://marketing.com.au/event/digital-marketing-masterclass-sydney-afternoon/
LOCATION:Karstens Sydney\, 111 Harrington Street\, Sydney\, NSW\, 2000\, Australia
CATEGORIES:All Event Locations,All Event Topics,All Event Types,Content Marketing,Digital Marketing,Market Research,Marketing,Presentation,Social Media,Sydney,Workshop
END:VEVENT
END:VCALENDAR