BEGIN:VCALENDAR
VERSION:2.0
PRODID:-//Marketing.com.au - ECPv6.15.20//NONSGML v1.0//EN
CALSCALE:GREGORIAN
METHOD:PUBLISH
X-ORIGINAL-URL:https://marketing.com.au
X-WR-CALDESC:Events for Marketing.com.au
REFRESH-INTERVAL;VALUE=DURATION:PT1H
X-Robots-Tag:noindex
X-PUBLISHED-TTL:PT1H
BEGIN:VTIMEZONE
TZID:Australia/Melbourne
BEGIN:STANDARD
TZOFFSETFROM:+1100
TZOFFSETTO:+1000
TZNAME:AEST
DTSTART:20170401T160000
END:STANDARD
BEGIN:DAYLIGHT
TZOFFSETFROM:+1000
TZOFFSETTO:+1100
TZNAME:AEDT
DTSTART:20170930T160000
END:DAYLIGHT
BEGIN:STANDARD
TZOFFSETFROM:+1100
TZOFFSETTO:+1000
TZNAME:AEST
DTSTART:20180331T160000
END:STANDARD
BEGIN:DAYLIGHT
TZOFFSETFROM:+1000
TZOFFSETTO:+1100
TZNAME:AEDT
DTSTART:20181006T160000
END:DAYLIGHT
BEGIN:STANDARD
TZOFFSETFROM:+1100
TZOFFSETTO:+1000
TZNAME:AEST
DTSTART:20190406T160000
END:STANDARD
BEGIN:DAYLIGHT
TZOFFSETFROM:+1000
TZOFFSETTO:+1100
TZNAME:AEDT
DTSTART:20191005T160000
END:DAYLIGHT
END:VTIMEZONE
BEGIN:VEVENT
DTSTART;TZID=Australia/Melbourne:20180202T080000
DTEND;TZID=Australia/Melbourne:20180202T170000
DTSTAMP:20260426T081616
CREATED:20171124T063440Z
LAST-MODIFIED:20201002T042853Z
UID:10860-1517558400-1517590800@marketing.com.au
SUMMARY:Social Media Course - Sydney
DESCRIPTION:There is so much information around the web that is can become overwhelming with what is right and wrong and best practice. The course will give you the essential tools\, direction and confidence which will help you get focused and become more effective with your marketing plans. There will be a focus on the 6 different platforms (Facebook\, Instagram\, LinkedIn\, Twitter\, YouTube and blogging – with a focus on Facebook and Instagram). You will learn: \n\nhow they work (a simple intro)\nhow to use them for marketing\nkey strategies for success\nwhat content to post\ntips for quick gains\nexamples of best practice
URL:https://marketing.com.au/event/social-media-course-sydney/
LOCATION:Media School Studio – Sydney\, 335 Clovelly Road\, Clovelly\, NSW\, 2031\, Australia
CATEGORIES:All Event Locations,All Event Topics,All Event Types,Content Marketing,Marketing,Social Media,Sydney,Workshop
END:VEVENT
END:VCALENDAR