BEGIN:VCALENDAR
VERSION:2.0
PRODID:-//Marketing.com.au - ECPv6.15.20//NONSGML v1.0//EN
CALSCALE:GREGORIAN
METHOD:PUBLISH
X-WR-CALNAME:Marketing.com.au
X-ORIGINAL-URL:https://marketing.com.au
X-WR-CALDESC:Events for Marketing.com.au
REFRESH-INTERVAL;VALUE=DURATION:PT1H
X-Robots-Tag:noindex
X-PUBLISHED-TTL:PT1H
BEGIN:VTIMEZONE
TZID:Australia/Melbourne
BEGIN:STANDARD
TZOFFSETFROM:+1100
TZOFFSETTO:+1000
TZNAME:AEST
DTSTART:20160402T160000
END:STANDARD
BEGIN:DAYLIGHT
TZOFFSETFROM:+1000
TZOFFSETTO:+1100
TZNAME:AEDT
DTSTART:20161001T160000
END:DAYLIGHT
BEGIN:STANDARD
TZOFFSETFROM:+1100
TZOFFSETTO:+1000
TZNAME:AEST
DTSTART:20170401T160000
END:STANDARD
BEGIN:DAYLIGHT
TZOFFSETFROM:+1000
TZOFFSETTO:+1100
TZNAME:AEDT
DTSTART:20170930T160000
END:DAYLIGHT
BEGIN:STANDARD
TZOFFSETFROM:+1100
TZOFFSETTO:+1000
TZNAME:AEST
DTSTART:20180331T160000
END:STANDARD
BEGIN:DAYLIGHT
TZOFFSETFROM:+1000
TZOFFSETTO:+1100
TZNAME:AEDT
DTSTART:20181006T160000
END:DAYLIGHT
END:VTIMEZONE
BEGIN:VEVENT
DTSTART;VALUE=DATE:20171110
DTEND;VALUE=DATE:20171111
DTSTAMP:20260426T131831
CREATED:20171101T000652Z
LAST-MODIFIED:20171101T000652Z
UID:10727-1510272000-1510358399@marketing.com.au
SUMMARY:LinkedIn Training Course
DESCRIPTION:This one day course has been created to give you tools\, direction and confidence to get focused and effective with your social media marketing. You will be taught how to think strategically about your social media so you can be more successful in the long run. You will be introduced to different aspects of social media planning including considering which platform to choose. brainstorming ideas and helping you start your own plan. There will also be a section where you will be taught how to measure and track what’s working\, how to handle negative comments and different tools to help you save time.
URL:https://marketing.com.au/event/linkedin-training-course/
LOCATION:Media School Studio – Sydney\, 335 Clovelly Road\, Clovelly\, NSW\, 2031\, Australia
CATEGORIES:All Event Locations,All Event Topics,All Event Types,Content Marketing,Market Research,Marketing,Social Media,Sydney,Workshop
END:VEVENT
END:VCALENDAR