BEGIN:VCALENDAR
VERSION:2.0
PRODID:-//Marketing.com.au - ECPv6.15.20//NONSGML v1.0//EN
CALSCALE:GREGORIAN
METHOD:PUBLISH
X-ORIGINAL-URL:https://marketing.com.au
X-WR-CALDESC:Events for Marketing.com.au
REFRESH-INTERVAL;VALUE=DURATION:PT1H
X-Robots-Tag:noindex
X-PUBLISHED-TTL:PT1H
BEGIN:VTIMEZONE
TZID:Australia/Melbourne
BEGIN:STANDARD
TZOFFSETFROM:+1100
TZOFFSETTO:+1000
TZNAME:AEST
DTSTART:20200404T160000
END:STANDARD
BEGIN:DAYLIGHT
TZOFFSETFROM:+1000
TZOFFSETTO:+1100
TZNAME:AEDT
DTSTART:20201003T160000
END:DAYLIGHT
BEGIN:STANDARD
TZOFFSETFROM:+1100
TZOFFSETTO:+1000
TZNAME:AEST
DTSTART:20210403T160000
END:STANDARD
BEGIN:DAYLIGHT
TZOFFSETFROM:+1000
TZOFFSETTO:+1100
TZNAME:AEDT
DTSTART:20211002T160000
END:DAYLIGHT
BEGIN:STANDARD
TZOFFSETFROM:+1100
TZOFFSETTO:+1000
TZNAME:AEST
DTSTART:20220402T160000
END:STANDARD
BEGIN:DAYLIGHT
TZOFFSETFROM:+1000
TZOFFSETTO:+1100
TZNAME:AEDT
DTSTART:20221001T160000
END:DAYLIGHT
END:VTIMEZONE
BEGIN:VEVENT
DTSTART;TZID=Australia/Melbourne:20210401T123000
DTEND;TZID=Australia/Melbourne:20210401T160000
DTSTAMP:20260422T020254
CREATED:20210321T084741Z
LAST-MODIFIED:20210410T092336Z
UID:18790-1617280200-1617292800@marketing.com.au
SUMMARY:SEO Workshop: Rank and Outrank Organically on Search
DESCRIPTION:Create content that ranks and outranks on search\nJoin expert SEO practitioner Shawn Powrie to learn how to improve your website’s performance on search using search engine optimisation (SEO) to drive potential customers to your business. This practical workshop for marketers gives you the skills to leverage your content organically and at scale\, providing you with a higher return on investment for your marketing efforts. \nKey Takeaways:\n\nTake a theoretical deep dive into how Google really works and its organic ranking algorithm in simple\, non-technical terms.\nLearn a practical framework of SEO activity using case studies and learn step-by-step how to optimise a website’s performance.\nExplore and discuss the topics in detail with an SEO expert.\nSearch features; knowledge graphs\, local maps\, etc.\nRanking signals: how content outranks other content.\nUnderstand technicality of SEO in an easily digestible manner; scoring and the clusters of thematic ranking signals\, content targeting and off-page SEO
URL:https://marketing.com.au/event/seo-workshop-rank-and-outrank-organically-on-search/
LOCATION:Online
CATEGORIES:All Event Locations,All Event Topics,All Event Types,Digital Marketing,SEO
END:VEVENT
BEGIN:VEVENT
DTSTART;VALUE=DATE:20210407
DTEND;VALUE=DATE:20210409
DTSTAMP:20260422T020254
CREATED:20210118T092126Z
LAST-MODIFIED:20210410T092336Z
UID:18213-1617753600-1617926399@marketing.com.au
SUMMARY:MarketingProfs B2B Forum Online
DESCRIPTION:2 days | 5 keynotes |40+ sessions \nEvery year our programming team works with leading B2B marketers to develop a program that covers everything B2B marketers need to know (from the latest tactics to strategies that stand the test of time) to succeed today… and into the future. \nWe also understand that watching from your living room is entirely different than being face-to-face in a session room. Our Watch Party with Q&A format is designed to give you the education you expect\, with live access to the speakers\, in a format that won’t leave you in a state of screen fatigue.
URL:https://marketing.com.au/event/marketingprofs-b2b-forum-online/
LOCATION:Online
CATEGORIES:All Event Locations,All Event Topics,All Event Types,Marketing,Online
END:VEVENT
BEGIN:VEVENT
DTSTART;TZID=Australia/Melbourne:20210407T083000
DTEND;TZID=Australia/Melbourne:20210407T173000
DTSTAMP:20260422T020254
CREATED:20210321T064519Z
LAST-MODIFIED:20210410T092336Z
UID:18752-1617784200-1617816600@marketing.com.au
SUMMARY:LocalU Advanced Virtual
DESCRIPTION:Join us from anywhere in the world on April 7\, 2021\, from 9 am to 5:30 pm Eastern time for Local U Advanced – See the top experts in Local Search with one goal… sharing everything. \nIf you’ve attended one of our other virtual events in the past 12-months – rest assured – this is going to be completely new content.  New research & case studies\, new topics\, features & opportunities will be discussed. \nOur planning team works hard to ensure our speakers do not regurgitate the things you’ve heard at our conferences\, or any others dedicated to local search.  We pay our speakers\, and as a result\, we have some of the best minds and information available – for an incredibly reasonable cost to you. \nWhether you run an agency that serves brick-and-mortar businesses\, work in-house for a large brand\, or manages multiple locations & enterprise accounts. Or if you’re looking to expand into local marketing from traditional SEO\, you won’t want to miss Local U Advanced Training. All new content is presented by thought leaders in the industry. \nThese sessions will be action-packed\, presented at an advanced level\, and feature ALL of the most up-to-date information about what’s working and what’s not in Local Search Engine Optimization. Join us for a great day.
URL:https://marketing.com.au/event/localu-advanced-virtual/
LOCATION:Online
CATEGORIES:All Event Locations,All Event Topics,All Event Types,Online,SEO,Website
END:VEVENT
BEGIN:VEVENT
DTSTART;VALUE=DATE:20210409
DTEND;VALUE=DATE:20210415
DTSTAMP:20260422T020254
CREATED:20210321T111901Z
LAST-MODIFIED:20210410T092335Z
UID:18805-1617926400-1618444799@marketing.com.au
SUMMARY:Fundamentals of Digital Marketing
DESCRIPTION:Digital marketing encompasses all marketing efforts that use an electronic device or the internet. In this 6 week programme\, Connect Me Marketing will assist Carlow/Kilkenny members in reviewing how their business is leveraging digital channels such as their website\, search engines\, social media\, email\, and other websites to connect with current and prospective customers. \n  \nThere will be 6 modules as well as a two hour one to one per company mentoring session. \nModule 1: Introduction to Digital Marketing \nIn this module\, we will discuss the Who\, What\, Why\, & How of Digital Marketing. We will identify the purpose\, benefits and functions of a website including a review of your website goals\, sales strategy\, value proposition\, brand identity\, buyer journey and buyer persona. \nModule 2: Website Audit and Marketing Review \nIn this module\, we will discuss how to objectively audit your website\, see how your current offering compares to that of your competitors and most importantly – offer advice on how to make the most of your online assets. The audit will give you an opportunity to inspect the robustness of your website’s technical framework and infrastructure\, assess how friendly your website is to search engines\, and determine how easy it is for users to navigate and intuitively find content on your website. \nWe will look at the following steps in the review process;: \nCompetitor Evaluation \nVisual Assets – Above the Fold \nSocial Buttons \nNavigation and User Experience \nUsability \nLoad Speed \nContent \nBlog \nData Hotspots \nSearch Engine and Conversion Rate Optimisation \nModule 3: Inbound marketing & SEO \nWith everything else in place\, the final step is to ensure that users know about your website. Search Engine Optimisation is a hugely important tool to direct appropriate users to your website when you hold the solution to their problem. You’ll learn frequently used terms in the industry\, understand what objectives and KPIs are and we go through a few examples of performance-focused channels for different common objectives. \nBefore any marketing campaign or tactic can be launched\, tracking needs to be in place\, so you’ll get an introduction to the incredible tool that is Google Analytics. This module walks you through various marketing funnels and provides helpful tools and tips to help ensure your own objectives are realistic including the following: \nThe World of Google Adwords. \nAffiliate Marketing – Developing Strategic Partnerships Online \nSales Funnel – Nurturing Your Leads \nSocial Media for Business \nSocial media platforms like Facebook and Instagram can help businesses nurture strong relationships with their target audiences whilst promoting their products and services. While this all sounds great you may be left wondering how it all works with social media and where to even start? Or maybe you already have a small presence online but your business’s social media marketing leaves you feeling overwhelmed? If the answer to either of these questions is yes\, then you are not alone. With over 3.3 million adults currently active on social media in Ireland and more demand than ever to support local businesses now is the time to put your best foot forward on social media. It is one of the cheapest and easiest ways to connect with your customers and is a particular lifeline during these turbulent times. Through these three modules\, Connect Me Marketing will take it back to basics and provide you with a set of practical and effective tips to help you get started and to stay on track to building a strong online presence. \n  \nModule 4: Set Up and Kickstart Your Social Media \nThis module is for businesses who are new to the world of Social Media and wish to set up Facebook and or Instagram accounts or improve accounts that they aren’t active on and link these platforms back to their websites. Learn what Facebook and Instagram offer as individual platforms and see how to successfully use Facebook and Instagram together. Effective social media practice can strengthen your brand and build a loyal following. This information will help your business implement strategies to connect with your loyal audiences. It’s also important to stay on top of the rapid changes in the industry so you can get the most from your social media platforms. \nCourse outline: \n● Introduction to Facebook and Instagram \n● Signing up for a Facebook and Instagram account \n● Personalising your profile \n● Liking and following public pages \n● Timeline/Newsfeed \n● Increasing your following \n● Posting \n● Target Audience Identification \n● Social Media Mission and Vision \n● Profile Set Up and Branding \n● Creating a Social Media calendar \n● Content Creation \n● Social Media Tools and Resources \n  \nModule 5: Step Up Your Social Media \nBy paying attention to your format\, content\, audience\, KPIs and performance analysis\, you can improve your social media strategy in no time The aim of this course is to help you to hone your social media marketing skills\, refine and improve your current activity. \nCourse Outline: \n● Social Media Audit \n● Review Target Audience \n● Social Media Planning \n● Post Creation and scheduling \n● Post Promotion \n● Graphic Design for Social Media \n● Creating Facebook and Instagram stories \n● Facebook and Instagram Live \n● Optimising your profile page \n● Insights Monitoring \nModule 6. Paid Social Media Marketing (Facebook and Instagram) \nSocial Media platforms dominate marketing strategies due to the sheer number of people you can reach on the multiple channels available. This module will help you understand how people and businesses use different channels\, which Facebook and Instagram campaign options might suit you best\, including the ad types across these platforms. \nFind out how to target your audience for lead generation\, create content and get that content in front of the right audience so as to drive conversions. Most importantly we will show you how to track your successes. \nCourse outline: \n● The decline of organic reach \n● Getting Started \n● Facebook Ads Manager \n● Campaign Goals \n● Targeting your audience \n● Setting a budget and duration \n● Ad placement \n● Adding a payment method \n● Estimated daily results \n● Going live with your ad \n● Analysing campaign performance \n● Successful Facebook ads \nMentoring \nEach company will be offered 2 hours one to one mentoring which will be broken up into a one hour session during the first or second week of the training and one following completion of the course. \nThe mentoring is a key part of the overall training and helps identify areas that need to be addressed and to put in place an action plan.
URL:https://marketing.com.au/event/fundamentals-of-digital-marketing/
LOCATION:Online
CATEGORIES:All Event Locations,All Event Topics,All Event Types,Digital Marketing,Marketing,Website
END:VEVENT
BEGIN:VEVENT
DTSTART;VALUE=DATE:20210413
DTEND;VALUE=DATE:20210414
DTSTAMP:20260422T020254
CREATED:20210118T074711Z
LAST-MODIFIED:20210410T092335Z
UID:18185-1618272000-1618358399@marketing.com.au
SUMMARY:SMX Create: Content & Copy Training For Search Marketers
DESCRIPTION:“Great content” yields top results\, whether in organic rankings or paid search ROI… at least according to the search engines. SMX Create explores how great content and ad copy are developed and implemented\, all in the service of driving awareness\, traffic\, conversions\, and sales. \nAttend this exclusive edition of SMX for a deep dive on content strategy\, ad copywriting\, landing page optimization\, A/B testing\, and writing for intent\, among other crucial topics. You’ll also look at how recent changes such as passage-based indexing are affecting how search marketers approach content. \nContent makes or breaks search marketing performance. SMX Create delivers the most effective tactics from the expert marketers who are pioneering them. \nAgenda\nAfter attending SMX Create\, you’ll be able to… \n\nDevelop and execute a successful content strategy\nCraft compelling ad copy\nOptimize your landing pages\nIdentify winning ad copy through A/B testing\nNavigate recent industry changes that directly impact the value of content\n\nAll sessions will be available for viewing live or on-demand\, so you can train at your convenience.
URL:https://marketing.com.au/event/smx-create-content-copy-training-for-search-marketers/
LOCATION:Online
CATEGORIES:All Event Locations,All Event Topics,All Event Types,Content Marketing,Online
END:VEVENT
BEGIN:VEVENT
DTSTART;VALUE=DATE:20210420
DTEND;VALUE=DATE:20210422
DTSTAMP:20260422T020254
CREATED:20210321T065354Z
LAST-MODIFIED:20210410T092334Z
UID:18755-1618876800-1619049599@marketing.com.au
SUMMARY:Conductor’s 10th annual SEO + content marketing conference
DESCRIPTION:C3 has evolved. Connect with the biggest names and brightest minds in marketing — from anywhere — at Conductor’s 10th annual SEO + content marketing conference. \nThis year\, success means evolving your marketing to meet changing needs. At C3\, you’ll be part of the search evolution. Join us for this 2-day Organic Marketing event. \nConnect \nConnect with marketers facing the same challenges and reaching for the same goals as you. \nLearn \nLearn tactical strategies to engage your customers through search and empower your team to take action. \nEvolve \nEvolve your marketing to meet shifting search trends so you can be where your customers are. \nNetwork with and learn from a curated lineup of digital marketing leaders. \n\n\nFeaturing Shark Tank’s Daymond John\nFrom his wildly successful role on ABC’s smash hit\, Shark Tank\, to his distinguished status as a Presidential Ambassador for Global Entrepreneurship\, Daymond John has become globally recognized for his relentless commitment to promoting and supporting entrepreneurs. \nJoin “The People’s Shark” as he shares relatable advice and practical takeaways about business\, marketing and branding. \n\n\n 
URL:https://marketing.com.au/event/conductors-10th-annual-seo-content-marketing-conference/
LOCATION:Online
CATEGORIES:All Event Locations,All Event Topics,All Event Types,Online,SEO,Website
END:VEVENT
BEGIN:VEVENT
DTSTART;VALUE=DATE:20210420
DTEND;VALUE=DATE:20210423
DTSTAMP:20260422T020254
CREATED:20210321T083433Z
LAST-MODIFIED:20210410T092334Z
UID:18785-1618876800-1619135999@marketing.com.au
SUMMARY:WFA Global Marketer Week 2021
DESCRIPTION:WFA Global Marketer Week is back under a new remote format from 20 to 22 April 2021. \n\nTaking place remotely from 20 to 22 April\, the event will offer unparalleled insight and thought leadership into how marketers can be a positive force for change as the world looks to build back from the pandemic. \nMeeting for breakfast in the Americas\, lunch in EMEA and dinner in Singapore\, the event will feature outstanding content and virtual member-only networking opportunities. \n 
URL:https://marketing.com.au/event/wfa-global-marketer-week-2021/
LOCATION:Online
CATEGORIES:All Event Locations,All Event Topics,All Event Types,Digital Marketing,Marketing,Online
END:VEVENT
BEGIN:VEVENT
DTSTART;TZID=Australia/Melbourne:20210420T090000
DTEND;TZID=Australia/Melbourne:20210420T170000
DTSTAMP:20260422T020254
CREATED:20210321T082014Z
LAST-MODIFIED:20210410T092333Z
UID:18778-1618909200-1618938000@marketing.com.au
SUMMARY:Power BI Fundamentals Masterclass Live Webinar
DESCRIPTION:This one-day masterclass will guide you through what you need to stand up a Power BI analytics capability in your organisation. It will be ideal for anyone in a management role who has been tasked with modernising organisational reporting or dashboards\, creating an investigative analytics capability\, or team leaders asked to plan or support such a rollout. The course will cover what business needs Power BI can meet\, the things that you need to have in place to be ready to start a roll out of the capability\, what skills you need to have on your team\, and how to choose and develop some initial proofs of concept that will realise business value and demonstrate the utility of the capability. The final part of the masterclass will cover how to move from the initial demonstration into integrating an analytics capability into the day to day operations of your organisation\, both through production level reporting and by enabling business users to perform their own analytics using standardised and reliable data models.
URL:https://marketing.com.au/event/power-bi-fundamentals-masterclass-live-webinar/
LOCATION:Queensland\, QLD\, 4000\, Australia
CATEGORIES:All Event Locations,All Event Topics,All Event Types,Data,Workshop
END:VEVENT
BEGIN:VEVENT
DTSTART;TZID=Australia/Melbourne:20210422T080000
DTEND;TZID=Australia/Melbourne:20210423T170000
DTSTAMP:20260422T020254
CREATED:20201222T033427Z
LAST-MODIFIED:20210118T073243Z
UID:17967-1619078400-1619197200@marketing.com.au
SUMMARY:B2B Essentials Seminar Series 2021
DESCRIPTION:Business Essentials Seminar Series focus on trending topics and issues affecting SMEs including\, growth opportunities.\n\n\n\n\n\n\n\n\nBusiness Essentials Seminar Series focus on trending topics and issues affecting SMEs including\, growth opportunities and how SMEs can harness success in the digital economy and the challenging global market. \nThe series address key SMEs challenges and aspirations: digital disruption\, access to finance\, government grants\, marketing\, growth and profitability strategies\, exporting and more \nWith the speed of innovation and the impact of AI and new technologies\, industry experts will discuss new and critical options for business to stay ahead of the game. Other topics include the latest trends in cyber security\, how to approach business funding in the changing financial landscape and insights from our partners. \nHear from the experts\, panel discussions\, keynote speakers and case studies. \nMeet face to face with finance executives\, understand all the funding options. \n 
URL:https://marketing.com.au/event/b2b-essentials-seminar-series-2021/
LOCATION:Marvel Stadium\, Docklands\, Melbourne
CATEGORIES:All Event Locations,All Event Topics,All Event Types,Digital Marketing,Melbourne
END:VEVENT
BEGIN:VEVENT
DTSTART;TZID=Australia/Melbourne:20210423T080000
DTEND;TZID=Australia/Melbourne:20210423T100000
DTSTAMP:20260422T020254
CREATED:20210321T111338Z
LAST-MODIFIED:20210410T092333Z
UID:18801-1619164800-1619172000@marketing.com.au
SUMMARY:Digital Marketing 101
DESCRIPTION:The world has gone virtual. \nThere is a lot to navigate and your business needs are unique. Digital Marketing 101 is an introductory course in all the elements of social media and digital marketing. We will discuss primary marketplaces to build and promote your business\, the basic tools required for successful social media platforms and where your business needs to be visible. \nParticipants will leave with the tools to complete a Digital Marketing Canvas provided in the workshop. This foundational course will help guide you into our digital development courses including LinkedIn\, Google My Business\, Intro to E-Commerce and more.
URL:https://marketing.com.au/event/digital-marketing-101/
LOCATION:Online
CATEGORIES:All Event Locations,All Event Topics,All Event Types,Digital Marketing,Marketing
END:VEVENT
BEGIN:VEVENT
DTSTART;VALUE=DATE:20210427
DTEND;VALUE=DATE:20210430
DTSTAMP:20260422T020254
CREATED:20210214T091215Z
LAST-MODIFIED:20210410T092332Z
UID:18507-1619481600-1619740799@marketing.com.au
SUMMARY:Adobe Summit—The Digital Experience Conference
DESCRIPTION:The future of customer experience is waiting for you. Join us to expand your skills\, engage with other Experience Makers\, and be inspired to create exceptional experiences that drive business growth and customer loyalty. \n\n\nDevelop new skills\nLearn from more than 200 sessions and training workshops across 11 session tracks. \n\n\nAdobe Experience Platform\nAnalytics\, Insights\, and Activation\nB2B Marketing and ABM\nCampaign Management\nCollaborative Work Management\nContent Creation\nDeveloper Ecosystem\nDigital Commerce\nDigital Document Productivity\nPersonalization\nTrends and Inspiration\n\n\nLearn best practices\nWhatever your area of interest — from data to analytics\, content to commerce\, personalization to marketing automation — you’ll learn from other top brands like these. \n\n\nMake experience your business\n\n\n\nLearn how to make every interaction valuable — with experiences that are connected\, personal\, relevant\, and meet rising expectations. \nSummit 2021 will be an engaging virtual event with Experience Makers from around the globe.\nJoin us at Summit for expert content\, inspiring speakers\, and networking opportunities.
URL:https://marketing.com.au/event/adobe-summit-the-digital-experience-conference/
LOCATION:Online
CATEGORIES:Advertising,All Event Locations,All Event Topics,All Event Types,Content Marketing,Data,Design,Digital Marketing,Graphic Design,Online,Website
END:VEVENT
END:VCALENDAR