BEGIN:VCALENDAR
VERSION:2.0
PRODID:-//Marketing.com.au - ECPv6.15.20//NONSGML v1.0//EN
CALSCALE:GREGORIAN
METHOD:PUBLISH
X-ORIGINAL-URL:https://marketing.com.au
X-WR-CALDESC:Events for Marketing.com.au
REFRESH-INTERVAL;VALUE=DURATION:PT1H
X-Robots-Tag:noindex
X-PUBLISHED-TTL:PT1H
BEGIN:VTIMEZONE
TZID:Australia/Melbourne
BEGIN:STANDARD
TZOFFSETFROM:+1100
TZOFFSETTO:+1000
TZNAME:AEST
DTSTART:20190406T160000
END:STANDARD
BEGIN:DAYLIGHT
TZOFFSETFROM:+1000
TZOFFSETTO:+1100
TZNAME:AEDT
DTSTART:20191005T160000
END:DAYLIGHT
BEGIN:STANDARD
TZOFFSETFROM:+1100
TZOFFSETTO:+1000
TZNAME:AEST
DTSTART:20200404T160000
END:STANDARD
BEGIN:DAYLIGHT
TZOFFSETFROM:+1000
TZOFFSETTO:+1100
TZNAME:AEDT
DTSTART:20201003T160000
END:DAYLIGHT
BEGIN:STANDARD
TZOFFSETFROM:+1100
TZOFFSETTO:+1000
TZNAME:AEST
DTSTART:20210403T160000
END:STANDARD
BEGIN:DAYLIGHT
TZOFFSETFROM:+1000
TZOFFSETTO:+1100
TZNAME:AEDT
DTSTART:20211002T160000
END:DAYLIGHT
END:VTIMEZONE
BEGIN:VEVENT
DTSTART;TZID=Australia/Melbourne:20201201T180000
DTEND;TZID=Australia/Melbourne:20201201T193000
DTSTAMP:20260422T123612
CREATED:20201115T093758Z
LAST-MODIFIED:20210118T073334Z
UID:17665-1606845600-1606851000@marketing.com.au
SUMMARY:Marketing Your Business
DESCRIPTION:Whether you are an established business or just starting out\, this workshop is an essential part of your business tool kit and crucial to your success. \nLearn to: \n\nSet marketing goals that work\nChoose the right activities for your business\nUse market research and maximise customer service\nMake the most of marketing processes and systems\nDevelop an effective marketing action plan\nAttract and keep customers coming back\nGet your business noticed\nMaximise social media
URL:https://marketing.com.au/event/marketing-your-business/
LOCATION:Online
CATEGORIES:All Event Locations,All Event Topics,All Event Types,Digital Marketing,Market Research,Online,Social Media
END:VEVENT
BEGIN:VEVENT
DTSTART;TZID=Australia/Melbourne:20201203T110000
DTEND;TZID=Australia/Melbourne:20201203T140000
DTSTAMP:20260422T123612
CREATED:20201115T095159Z
LAST-MODIFIED:20210118T073334Z
UID:17675-1606993200-1607004000@marketing.com.au
SUMMARY:Keys to Driving Webinar & Digital Event Registration
DESCRIPTION:In a digital-first world\, webinars have redefined how we engage with our prospects and customers. But your webinars and digital events are only as good as your ability to get people to attend them. \nJoin us for “Keys to Driving Webinar & Digital Event Registration” and learn best practices that have helped companies build their audiences from tens to thousands\, including: \n\nHow to optimize your email invitations\nPicking subject lines and titles\nBest days to promote your events\nStrategies for A/B testing your promotions\n\nIt’s time to find your audience\, register now and learn how.
URL:https://marketing.com.au/event/keys-to-driving-webinar-digital-event-registration/
LOCATION:Online
CATEGORIES:All Event Locations,All Event Topics,All Event Types,Digital Marketing,Email marketing
END:VEVENT
BEGIN:VEVENT
DTSTART;TZID=Australia/Melbourne:20201203T180000
DTEND;TZID=Australia/Melbourne:20201203T190000
DTSTAMP:20260422T123612
CREATED:20201115T092041Z
LAST-MODIFIED:20210118T073334Z
UID:17651-1607018400-1607022000@marketing.com.au
SUMMARY:Advertising Week Briefings: 5 Things in Sports
DESCRIPTION:n partnership with Advertising Week APAC\, and Pause Festival\, this month we will be diving into the fascinating and challenging world of Sports Marketing: \nAdvertising Week Briefings 5 Things: Sports.  \n\nLiz Kozmevski – Senior Manager of Marketing at Australian Grand Prix Corporation. Building brands and meaningful connections through data and insights is at the core of everything Liz does. As a marketing leader\, Liz has worked on global brands in sport\, major events and tourism in Australia and the USA\, developing award winning campaigns for the likes of Hilton. At the Australian Grand Prix Corporation\, Liz oversees the marketing and audience strategy for two world class sporting brands and events\, the Formula 1 Australian Grand Prix and the Australian Motorcycle Grand Prix.\nDavid Currie – Head of Partnerships Sales for Melbourne City FC. David is responsible for driving commercial value for partners\, inspiring fans to [re]discover brands through a new lens by developing integrated campaigns and creating more impactful experiences. David joined Melbourne City FC in 2019\, from Seven West Media where he was responsible for leading media partnerships for some of the networks key brands\, and prior\, spent several years at the BBC developing global ad funded content solutions for the likes of Top Gear\, BBC Sport\, and BBC.com. A native of Scotland\, David has worked with some of the most highly regarded brands in the US\, UK and Aus. He is a Marketing Academy Scholar\, and sits on the club commercial group for the A-League.\n\nAdvertising Week Briefings 5 Things is presented by Lucio Ribeiro\, marketing consultant and RMIT and Deakin Lecturer of Market Insights\, Digital Marketing and A.I.\, the Advertising Week Briefings: 5 Things\, are monthly sessions where experts in different categories and verticals respond to five questions about their industry. \nPacked with category insights and educative content\, these sessions are ideal for: \n\nfuture leaders looking to understand category dynamics\nbrand managers\ntechnology professionals\nmarketers and agencies\n\nCome along for an evening full of exclusive and remarkable opportunities to learn.
URL:https://marketing.com.au/event/advertising-week-briefings-5-things-in-sports/
LOCATION:Online
CATEGORIES:All Event Locations,All Event Topics,All Event Types,Marketing
END:VEVENT
BEGIN:VEVENT
DTSTART;VALUE=DATE:20201208
DTEND;VALUE=DATE:20201213
DTSTAMP:20260422T123612
CREATED:20201115T092757Z
LAST-MODIFIED:20210118T073333Z
UID:17657-1607385600-1607817599@marketing.com.au
SUMMARY:Marketing Boot Camp
DESCRIPTION:Marketing is the fuel for your business! \nThe hard part of being a small business owner is you have more tasks than time and money. \nYou want to be a better marketer for your business but you don’t know where to start\, and hiring a marketing professional is way too expensive. \nThe Empower Team knows how you feel. \nThat’s why we created the Marketing Boot Camp. \nWhat is Marketing Boot Camp? \nFREE One of a Kind Marketing Event. \nOver 20 Marketing Professionals. \n$1025 Value in Free Bonuses. \n 
URL:https://marketing.com.au/event/marketing-boot-camp/
LOCATION:Online
CATEGORIES:All Event Locations,All Event Topics,All Event Types,Content Marketing,Digital Marketing,Online
END:VEVENT
BEGIN:VEVENT
DTSTART;TZID=Australia/Melbourne:20201208T030000
DTEND;TZID=Australia/Melbourne:20201208T170000
DTSTAMP:20260422T123612
CREATED:20201115T094110Z
LAST-MODIFIED:20210118T073333Z
UID:17667-1607396400-1607446800@marketing.com.au
SUMMARY:The Gartner Top Marketing Predictions for 2021 and Beyond
DESCRIPTION:Predicting the future during unprecedented global change has never been more difficult. Yet\, the need for vision\, innovation and transformation has never been more pronounced. COVID-19 reshaped the lives of customers and employees\, demands on businesses and brands\, and the landscape in which we operate. This complimentary webinar projects a future of marketing based on a present filled with uncertainty.
URL:https://marketing.com.au/event/the-gartner-top-marketing-predictions-for-2021-and-beyond/
LOCATION:Online
CATEGORIES:All Event Locations,All Event Topics,All Event Types,Marketing
END:VEVENT
BEGIN:VEVENT
DTSTART;TZID=Australia/Melbourne:20201208T080000
DTEND;TZID=Australia/Melbourne:20201209T170000
DTSTAMP:20260422T123612
CREATED:20201010T231728Z
LAST-MODIFIED:20210118T073333Z
UID:17238-1607414400-1607533200@marketing.com.au
SUMMARY:Search Marketing Expo SMX 2020
DESCRIPTION:Expert-Led Search Marketing Training & Workshops\nJoin us online\, December 8-9\, for actionable tactics & virtual networking \nInvest in your company and yourself: Attend Search Marketing Expo for the actionable tactics and strategies that drive more traffic\, conversions\, and ROI. Join us online December 8-9 to access our largest virtual conference ever: 45+ tactic-rich sessions\, empowering keynotes\, and invaluable community networking — all for just $149! \nHere’s a look at what’s in store: \nAll-new agenda\nEverything you need to succeed in the “new normal”\, where paid search budgets are crunched\, organic reach is more important (and more cost-effective) than ever\, and major changes to how Google handles content present major challenges… and opportunities… all programmed by the Search Engine Land experts. \n4 content tracks\nOrganic. Paid. Technical. Solutions. Dive deep into your specialty or cross-train on them all. All sessions will be available for viewing on-demand after the event so you can watch and rewatch at your convenience! \nInteractive learning\nSessions will feature live Q&A with the speakers so you can learn even more. Still have questions? Stick around for Overtime — interactive video meetings with speakers that follow each session. This is your chance to dig deeper into the material presented\, hear what your SMX community has to say\, and get your questions answered! \nForward-thinking keynotes\nKickstart each day with inspiring keynotes from search marketing experts that will prepare you for a profitable 2021. \nCommunity networking\nConnect with like-minded attendees at our virtual Birds of the Feather roundtables and 1:1 networking. Meet marketers from around the world who share your professional interests and are excited to talk shop and trade ideas. \nHands-on workshops\nBundle your All Access pass with a two-day\, post-conference workshop for the ultimate SEO and SEM training experience and additional savings. (Workshops take place online the following week\, December 15-16.
URL:https://marketing.com.au/event/search-marketing-expo-smx-2020/
LOCATION:Online
CATEGORIES:All Event Locations,All Event Topics,All Event Types,Online,SEO
END:VEVENT
BEGIN:VEVENT
DTSTART;TZID=Australia/Melbourne:20201208T130000
DTEND;TZID=Australia/Melbourne:20201208T170000
DTSTAMP:20260422T123612
CREATED:20201115T102133Z
LAST-MODIFIED:20210118T073333Z
UID:17683-1607432400-1607446800@marketing.com.au
SUMMARY:Humor\, Empathy\, and Human Connection: The Rise of Video-Based Storytelling in B2B Marketing
DESCRIPTION:The world of B2B marketing is undergoing a creative storytelling renaissance. No longer can we simply wax poetic about features\, stats\, and benefits\, our audiences now demand more! And it’s not just about unlocking the power of storytelling for top-of-funnel ad campaigns; video-based stories have a role to play throughout the entire buyer’s journey. Join Tyler Lessard\, host of the Creating Connections show and VP Marketing at Vidyard\, to learn how to unlock the power of video-based stories to pique curiosity\, build rapport\, and create a sense of urgency to act. See real examples of amazing video-based storytelling used throughout the B2B customer lifecycle and walk away inspired to create your own masterpiece.
URL:https://marketing.com.au/event/humor-empathy-and-human-connection-the-rise-of-video-based-storytelling-in-b2b-marketing/
LOCATION:Online
CATEGORIES:All Event Locations,All Event Topics,All Event Types,Content Marketing,Copywriting
END:VEVENT
BEGIN:VEVENT
DTSTART;TZID=Australia/Melbourne:20201208T153000
DTEND;TZID=Australia/Melbourne:20201208T203000
DTSTAMP:20260422T123612
CREATED:20201115T092527Z
LAST-MODIFIED:20210118T073332Z
UID:17655-1607441400-1607459400@marketing.com.au
SUMMARY:The Virtual MarTech Exchange Summit
DESCRIPTION:Welcome to The Virtual MarTech Exchange Summit where industry thought leaders and pioneer service providers come together. \nWe will be discussing the MarTech pain-points and where the future holds for a re-emergence post-COVID strategy. The pandemic has left businesses dramatically improving their digital agility and savviness as they face an ever-increasing online world\, which leaves many asking how future ready are we? \nJoin us at the event\, where we will cover digital revolution and MarTech innovation through topics of AI and data\, digital content personalisation\, customer experience design and strategy\, digital transformation and engagement.
URL:https://marketing.com.au/event/the-virtual-martech-exchange-summit/
LOCATION:Online
CATEGORIES:All Event Locations,All Event Topics,All Event Types,Marketing,Online
END:VEVENT
BEGIN:VEVENT
DTSTART;TZID=Australia/Melbourne:20201208T190000
DTEND;TZID=Australia/Melbourne:20201208T203000
DTSTAMP:20260422T123612
CREATED:20201115T092212Z
LAST-MODIFIED:20210118T073332Z
UID:17653-1607454000-1607459400@marketing.com.au
SUMMARY:How the biggest search engine can help YOUR small business grow
DESCRIPTION:You’ll know Google as the biggest search engine on the planet\, but did you know that it has plenty of features that can really enhance your business’s online presence? Not only are these tools free\, but they are actually really simple to use- once you know about them! In this webinar\, we’ll be covering everything you need to know to help Google help you\, including Google My Business features and how they can help you show up on the first page of Google’s search results.
URL:https://marketing.com.au/event/how-the-biggest-search-engine-can-help-your-small-business-grow/
LOCATION:Online
CATEGORIES:All Event Locations,All Event Topics,All Event Types,Online,SEO
END:VEVENT
BEGIN:VEVENT
DTSTART;VALUE=DATE:20201209
DTEND;VALUE=DATE:20201212
DTSTAMP:20260422T123612
CREATED:20201115T101517Z
LAST-MODIFIED:20210118T073332Z
UID:17681-1607472000-1607731199@marketing.com.au
SUMMARY:Healthcare automation from Machine Learning to AI MasterClass
DESCRIPTION:This 3-day online live course is intended to go through the complete roadmap that leads to the immense universe of Artificial Intelligence. It starts from ground zero\, a quick overview of basic statistics and data analysis\, pillars upon which both “supervised” and “unsupervised” Machine Learning evolved and became at their turn the inevitable backbone for all Artificial Intelligence algorithms behind successful AI applications. In parallel to dozens of step-by-step case studies\, the workshop will explore simultaneously\, and under different angles\, all Machine Learning algorithms applied to the famous generic must-know case study “Iris Flowers”\, as well as on “Pulse”\, a real healthcare data set related to hospitalized patients. This exclusive approach will allow participants to compare all solutions and adapt the exact one that fits their needs in real life.
URL:https://marketing.com.au/event/healthcare-automation-from-machine-learning-to-ai-masterclass/
LOCATION:Online
CATEGORIES:AI,All Event Locations,All Event Topics,All Event Types
END:VEVENT
BEGIN:VEVENT
DTSTART;TZID=Australia/Melbourne:20201210T090000
DTEND;TZID=Australia/Melbourne:20201210T100000
DTSTAMP:20260422T123612
CREATED:20201115T101335Z
LAST-MODIFIED:20210118T073331Z
UID:17679-1607590800-1607594400@marketing.com.au
SUMMARY:Restart Your Career: Data Science
DESCRIPTION:Data Scientists are one of the hottest properties in technology. Skills are in high demand and a lack of skilled professionals is driving salaries and consultancy fees higher than ever before. Curious about the role of Tech’s Most Wanted role\, Data Scientists at different companies? Wondering where and how most data scientists start their careers & why they hold the highest demand tech job? Interested in hearing the diversity of paths & experiences data scientists take? \nIn this special edition of Restart Your Career event\, we will cover the steps that you need to take to get into the Data Science industry\, what you can expect to be paid throughout your career and key areas of growth within the industry. \n\n\nTakeaways\nIn this session\, we will cover: \n\nThe current landscape of data science and available opportunities\nPossible career paths and roles in data science\nSkills required to land a job in data science\nMisconceptions about software engineers\nUseful resources and materials for aspiring data scientists
URL:https://marketing.com.au/event/restart-your-career-data-science/
LOCATION:Online
CATEGORIES:All Event Locations,All Event Topics,All Event Types,Data
END:VEVENT
BEGIN:VEVENT
DTSTART;VALUE=DATE:20201211
DTEND;VALUE=DATE:20201212
DTSTAMP:20260422T123612
CREATED:20201010T093951Z
LAST-MODIFIED:20201010T112000Z
UID:17170-1607644800-1607731199@marketing.com.au
SUMMARY:Marketing Planning Friday Forum
DESCRIPTION:Join us for our Marketing Planning Friday Forum for a step-by-step guide on creating marketing plans that are meaningful\, flexible\, and accountable. \nThe year will be winding down and many of your “plans” will involve eggnog and fruitcake (or not?). But if you can find it within yourself to get even the most basic 2021 marketing plans started before you break for holiday cheer\, you’ll thank yourself on the other side.
URL:https://marketing.com.au/event/marketing-planning-friday-forum/
LOCATION:Online
CATEGORIES:Advertising,All Event Locations,All Event Topics,All Event Types,Online,Workshop
END:VEVENT
BEGIN:VEVENT
DTSTART;TZID=Australia/Melbourne:20201211T113000
DTEND;TZID=Australia/Melbourne:20201211T170000
DTSTAMP:20260422T123612
CREATED:20201115T095006Z
LAST-MODIFIED:20210118T073331Z
UID:17673-1607686200-1607706000@marketing.com.au
SUMMARY:Marketing Planning Friday Forum
DESCRIPTION:The year will be winding down and many of your “plans” will involve eggnog and fruitcake (or not?). But if you can find it within yourself to get even the most basic 2021 marketing plans started before you break for holiday cheer\, you’ll thank yourself on the other side. Sponsored by ZoomInfo. \nJoin us for our Marketing Planning Friday Forum for a step-by-step guide on creating marketing plans that are meaningful\, flexible\, and accountable. \nRegister to attend and you’ll get three educational sessions\, live Q&A\, and resources. \nCan’t make it on December 11? Don’t worry. Sign up and you’ll receive on-demand access for 90 days after the event.
URL:https://marketing.com.au/event/marketing-planning-friday-forum-2/
LOCATION:Online
CATEGORIES:All Event Locations,All Event Topics,All Event Types,Marketing
END:VEVENT
BEGIN:VEVENT
DTSTART;TZID=Australia/Melbourne:20201215T150000
DTEND;TZID=Australia/Melbourne:20201215T160000
DTSTAMP:20260422T123612
CREATED:20201115T101209Z
LAST-MODIFIED:20210118T073244Z
UID:17677-1608044400-1608048000@marketing.com.au
SUMMARY:Making the Leap: Breaking into UX Design
DESCRIPTION:UX designers are in great demand these days. Why? What is UX design? Why is good UX design important? What skills are required of a good UX designer? There is much confusion about what good UX designers do and the roles they should play in organizations. \nJoin General Assembly for a panel of incredible community leaders about the various paths available to User Experience Designers – from agency to freelance\, to in-house\, the skills companies look for in a hire\, and the resources to get you started. \nBring your questions for our panel of UX Design pros. They will give you insight into their roles\, help you understand what is needed to get there\, and\, just maybe\, inspire you to make a change. \nWhat You’ll Take Away: \n\nWhat the day-to-day of a User Experience Designer looks like\nVarious career paths\nTop skills needed to succeed\nThe best communities to meet other design and research folks\nThe ups and downs of this career
URL:https://marketing.com.au/event/making-the-leap-breaking-into-ux-design/
LOCATION:Online
CATEGORIES:All Event Locations,All Event Topics,All Event Types,UX
END:VEVENT
BEGIN:VEVENT
DTSTART;TZID=Australia/Melbourne:20201216T190000
DTEND;TZID=Australia/Melbourne:20201216T203000
DTSTAMP:20260422T123612
CREATED:20201115T093435Z
LAST-MODIFIED:20210118T073244Z
UID:17661-1608145200-1608150600@marketing.com.au
SUMMARY:Digital Marketing for Small Business
DESCRIPTION:Sign up for this class if you are a small or medium business owner\, or want to expand your knowledge and understanding of: \n– Social Media Marketing \n– Email Marketing \n– Google Ads \n– SEO \n– Reputation Management \n– Content Production \n– Website Optimization \n– ADA / Accessibility for Websites \n– Inbound Marketing \n– Lead Generation \n– Much more \nIf you have made it your goal for 2020/2021 to grow your business or become a digital marketing expert\, this free course is the best way to get started! \n\n\nAbout Your Host: \nCarlos Zuluaga is an entrepreneur\, digital marketing enthusiast\, and educator. For the past 10 years\, he has become the go-to speaker and teacher for organizations like the American Marketing Association\, PPAI Expo\, Florida Restaurant Lodging Association\, Greater Hollywood Chamber of Commerce\, Greater Fort Lauderdale Chamber of Commerce\, Hallandale Beach Chamber of Commerce\, Dania Beach Chamber of Commerce\, and other business organizations\, especifically in South Florida. \nOwner of multiple businesses\, Carlos knows that it takes to take an idea from start to finish\, and what is even better\, how to grow it into a successful venture through marketing\, innovation and technology.
URL:https://marketing.com.au/event/digital-marketing-for-small-business/
LOCATION:Online
CATEGORIES:All Event Locations,All Event Topics,All Event Types,Content Marketing,Digital Marketing,Email marketing,Graphic Design,Marketing,SEO,Social Media
END:VEVENT
END:VCALENDAR