BEGIN:VCALENDAR
VERSION:2.0
PRODID:-//Marketing.com.au - ECPv6.15.20//NONSGML v1.0//EN
CALSCALE:GREGORIAN
METHOD:PUBLISH
X-ORIGINAL-URL:https://marketing.com.au
X-WR-CALDESC:Events for Marketing.com.au
REFRESH-INTERVAL;VALUE=DURATION:PT1H
X-Robots-Tag:noindex
X-PUBLISHED-TTL:PT1H
BEGIN:VTIMEZONE
TZID:Australia/Melbourne
BEGIN:STANDARD
TZOFFSETFROM:+1100
TZOFFSETTO:+1000
TZNAME:AEST
DTSTART:20160402T160000
END:STANDARD
BEGIN:DAYLIGHT
TZOFFSETFROM:+1000
TZOFFSETTO:+1100
TZNAME:AEDT
DTSTART:20161001T160000
END:DAYLIGHT
BEGIN:STANDARD
TZOFFSETFROM:+1100
TZOFFSETTO:+1000
TZNAME:AEST
DTSTART:20170401T160000
END:STANDARD
BEGIN:DAYLIGHT
TZOFFSETFROM:+1000
TZOFFSETTO:+1100
TZNAME:AEDT
DTSTART:20170930T160000
END:DAYLIGHT
BEGIN:STANDARD
TZOFFSETFROM:+1100
TZOFFSETTO:+1000
TZNAME:AEST
DTSTART:20180331T160000
END:STANDARD
BEGIN:DAYLIGHT
TZOFFSETFROM:+1000
TZOFFSETTO:+1100
TZNAME:AEDT
DTSTART:20181006T160000
END:DAYLIGHT
END:VTIMEZONE
BEGIN:VEVENT
DTSTART;TZID=Australia/Melbourne:20171202T090000
DTEND;TZID=Australia/Melbourne:20171202T120000
DTSTAMP:20260426T115757
CREATED:20170926T050329Z
LAST-MODIFIED:20170926T051111Z
UID:10588-1512205200-1512216000@marketing.com.au
SUMMARY:Content Content Content – Creation\, Curation & Strategies
DESCRIPTION:Do you want to take your content creation to the next level? Oppose to just adding to the noise in my industry? This event is designed to help you create and curate content and how to maximise it.\nThis masterclass will look at: creating v curating; user generated content; tie-saving tips and tricks for content creation plus much\, much more! \nSpeaker: Meg Coffey is a social media strategist\, brand marketing specialist\, public speaker\, and coach
URL:https://marketing.com.au/event/content-content-content-creation-curation-strategies/
LOCATION:The Alex Hotel\, 50 James Street\, Perth\, WA\, 6000\, Australia
CATEGORIES:All Event Locations,All Event Topics,All Event Types,Content Marketing,Digital Marketing,Marketing,Perth,Presentation,Social Media,Workshop
ORGANIZER;CN="Social Media Perth":MAILTO:info@smperth.com
END:VEVENT
BEGIN:VEVENT
DTSTART;TZID=Australia/Melbourne:20171202T100000
DTEND;TZID=Australia/Melbourne:20171202T170000
DTSTAMP:20260426T115757
CREATED:20171124T042926Z
LAST-MODIFIED:20201002T014557Z
UID:10846-1512208800-1512234000@marketing.com.au
SUMMARY:Launch into UX Design
DESCRIPTION:Academy Xi has condensed the basics of how to understand User Experience and its varied applications. This event will give you a high level understanding of User Experience and how to apply the process in your everyday. On the day you will start with problem identification and then they will guide you through from an approach to collaborative design thinking\, product Vision Exploration to leading you to usability testing techniques and everything in between.
URL:https://marketing.com.au/event/launch-ux-design-2/
LOCATION:Academy Xi Melbourne\, 23/303 Collins Street\, Melbourne\, Vic\, 3000\, Australia
CATEGORIES:All Event Locations,All Event Topics,All Event Types,Marketing,Melbourne,Workshop
END:VEVENT
BEGIN:VEVENT
DTSTART;TZID=Australia/Melbourne:20171206T173000
DTEND;TZID=Australia/Melbourne:20171206T193000
DTSTAMP:20260426T115757
CREATED:20171123T095837Z
LAST-MODIFIED:20171123T095837Z
UID:10833-1512581400-1512588600@marketing.com.au
SUMMARY:WA Sundowner 2017
DESCRIPTION:Join ADMA WA with their annual WA Sundowner as they celebrate the end of another year. As you enjoy drinks and nibbles with your colleagues they will recap the year that it has been\, including the big topics that were covered at the Guru Breakfasts and other events.
URL:https://marketing.com.au/event/wa-sundowner-2017/
LOCATION:The Globe Bar & Eatery\, 495 Wellington Street\, Perth\, WA\, 6000\, Australia
CATEGORIES:All Event Locations,All Event Topics,All Event Types,Dinner,Perth
END:VEVENT
BEGIN:VEVENT
DTSTART;TZID=Australia/Melbourne:20171206T173000
DTEND;TZID=Australia/Melbourne:20171206T203000
DTSTAMP:20260426T115757
CREATED:20171123T063956Z
LAST-MODIFIED:20171123T063956Z
UID:10823-1512581400-1512592200@marketing.com.au
SUMMARY:SEO Masterclass
DESCRIPTION:With SEO changing it can be hard to keep up\, this event has been designed to teach you how to learn how to conduct a technical SEO audit on your own website. Rankings are about on-page and off-page factors. \nAt this event you will be taught how to: \n\nCrawl your own website like a search engine\nReproduce your website in the crawlers eyes\nIdentify and fix 300\, 400\, 500 errors\nRender your content correctly\nPlus more!
URL:https://marketing.com.au/event/seo-masterclass/
LOCATION:Academy Xi\, 66-68 Devonshire Street\, Surry Hills\, NSW\, 2010\, Australia
CATEGORIES:All Event Locations,All Event Topics,All Event Types,Marketing,SEO,Sydney,Workshop
END:VEVENT
BEGIN:VEVENT
DTSTART;VALUE=DATE:20171207
DTEND;VALUE=DATE:20171208
DTSTAMP:20260426T115757
CREATED:20171123T064634Z
LAST-MODIFIED:20171123T064634Z
UID:10825-1512604800-1512691199@marketing.com.au
SUMMARY:Writing for the Web One-day Short Course
DESCRIPTION:Want to learn how to write compelling online copy? This workshop will be taught by a former Sydney Morning Herald editor and journalist. There will be writing exercises that are included throughout the class\, so you can practice what you have learnt straightaway. There are only 9 places available so be sure to register.
URL:https://marketing.com.au/event/writing-web-one-day-short-course/
LOCATION:North Sydney\, Level 2\, 80 Mount Street\, NSW\, 2060\, Australia
CATEGORIES:All Event Locations,All Event Topics,All Event Types,Content Marketing,Marketing,Sydney,Workshop
END:VEVENT
BEGIN:VEVENT
DTSTART;TZID=Australia/Melbourne:20171207T173000
DTEND;TZID=Australia/Melbourne:20171207T203000
DTSTAMP:20260426T115757
CREATED:20171123T102536Z
LAST-MODIFIED:20171123T102536Z
UID:10840-1512667800-1512678600@marketing.com.au
SUMMARY:SA Christmas Event: Storytelling
DESCRIPTION:At this year’s ADMA SA Christmas Party\, Matthew Hanton from Motor Accident Commission will be discussing how you can use storytelling in your marketing to create engaging and compelling content\, as in this day and age\, the amount of digital media consumption is growing year on year\, as well as the rate that businesses and brands are pumping out content.
URL:https://marketing.com.au/event/sa-christmas-event-storytelling/
LOCATION:The Kings Head\, 357 King William Street\, Adelaide\, SA\, 5000\, Australia
CATEGORIES:Adelaide,All Event Locations,All Event Topics,All Event Types,Content Marketing,Dinner,Market Research,Marketing
END:VEVENT
END:VCALENDAR