BEGIN:VCALENDAR
VERSION:2.0
PRODID:-//Marketing.com.au - ECPv6.15.20//NONSGML v1.0//EN
CALSCALE:GREGORIAN
METHOD:PUBLISH
X-WR-CALNAME:Marketing.com.au
X-ORIGINAL-URL:https://marketing.com.au
X-WR-CALDESC:Events for Marketing.com.au
REFRESH-INTERVAL;VALUE=DURATION:PT1H
X-Robots-Tag:noindex
X-PUBLISHED-TTL:PT1H
BEGIN:VTIMEZONE
TZID:Australia/Melbourne
BEGIN:STANDARD
TZOFFSETFROM:+1100
TZOFFSETTO:+1000
TZNAME:AEST
DTSTART:20240406T160000
END:STANDARD
BEGIN:DAYLIGHT
TZOFFSETFROM:+1000
TZOFFSETTO:+1100
TZNAME:AEDT
DTSTART:20241005T160000
END:DAYLIGHT
BEGIN:STANDARD
TZOFFSETFROM:+1100
TZOFFSETTO:+1000
TZNAME:AEST
DTSTART:20250405T160000
END:STANDARD
BEGIN:DAYLIGHT
TZOFFSETFROM:+1000
TZOFFSETTO:+1100
TZNAME:AEDT
DTSTART:20251004T160000
END:DAYLIGHT
BEGIN:STANDARD
TZOFFSETFROM:+1100
TZOFFSETTO:+1000
TZNAME:AEST
DTSTART:20260404T160000
END:STANDARD
BEGIN:DAYLIGHT
TZOFFSETFROM:+1000
TZOFFSETTO:+1100
TZNAME:AEDT
DTSTART:20261003T160000
END:DAYLIGHT
END:VTIMEZONE
BEGIN:VEVENT
DTSTART;VALUE=DATE:20250226
DTEND;VALUE=DATE:20250227
DTSTAMP:20260419T225340
CREATED:20250126T233407Z
LAST-MODIFIED:20250316T012205Z
UID:26682-1740528000-1740614399@marketing.com.au
SUMMARY:Agentforce World Tour - Sydney 2025
DESCRIPTION:The future of business is coming to Sydney\, and it’s your chance to power-up with the #1 AI CRM*. Dive into expert-led sessions\, demos and workshops\, and discover the groundbreaking innovation of Agentforce. All in one day\, and all for free. \n\n\n\n\nMeet your agents. Revolutionise the way you work.\n\nWith Agentforce\, customisable and autonomous agents work side-by-side with your employees to extend your workforce and serve your customers 24/7. Discover how being agent-first on the Salesforce Platform can help you boost productivity and drive deeper customer relationships. \n\n\n\n\n\n\n\n\n\nBe inspired and empowered. Learn from the best.\n\nHear trailblazing\, local stories of customer success. Learn directly from trusted experts and thought leaders and get inspired by real\, AI-driven use cases \n\n\n\n\n\n\n\n\n\nConnect. Collaborate. Braindate.\n\nEngage and exchange with industry leaders and peers to get real-time solutions for any business challenge. Seize the opportunity to have meaningful conversations and crowdsource knowledge by collaborating in a Braindate.
URL:https://marketing.com.au/event/agentforce-world-tour-sydney-2025/
LOCATION:ICC Sydney\, 14 Darling Drive\, Sydney\, NSW\, 2000\, Australia
CATEGORIES:AI,All Event Locations,All Event Topics,All Event Types,Data,Digital Marketing,Sydney
END:VEVENT
END:VCALENDAR