BEGIN:VCALENDAR
VERSION:2.0
PRODID:-//Marketing.com.au - ECPv6.15.20//NONSGML v1.0//EN
CALSCALE:GREGORIAN
METHOD:PUBLISH
X-WR-CALNAME:Marketing.com.au
X-ORIGINAL-URL:https://marketing.com.au
X-WR-CALDESC:Events for Marketing.com.au
REFRESH-INTERVAL;VALUE=DURATION:PT1H
X-Robots-Tag:noindex
X-PUBLISHED-TTL:PT1H
BEGIN:VTIMEZONE
TZID:Australia/Melbourne
BEGIN:STANDARD
TZOFFSETFROM:+1100
TZOFFSETTO:+1000
TZNAME:AEST
DTSTART:20140405T160000
END:STANDARD
BEGIN:DAYLIGHT
TZOFFSETFROM:+1000
TZOFFSETTO:+1100
TZNAME:AEDT
DTSTART:20141004T160000
END:DAYLIGHT
BEGIN:STANDARD
TZOFFSETFROM:+1100
TZOFFSETTO:+1000
TZNAME:AEST
DTSTART:20150404T160000
END:STANDARD
BEGIN:DAYLIGHT
TZOFFSETFROM:+1000
TZOFFSETTO:+1100
TZNAME:AEDT
DTSTART:20151003T160000
END:DAYLIGHT
BEGIN:STANDARD
TZOFFSETFROM:+1100
TZOFFSETTO:+1000
TZNAME:AEST
DTSTART:20160402T160000
END:STANDARD
BEGIN:DAYLIGHT
TZOFFSETFROM:+1000
TZOFFSETTO:+1100
TZNAME:AEDT
DTSTART:20161001T160000
END:DAYLIGHT
END:VTIMEZONE
BEGIN:VEVENT
DTSTART;TZID=Australia/Melbourne:20151202T083000
DTEND;TZID=Australia/Melbourne:20151202T113000
DTSTAMP:20260419T235159
CREATED:20151126T054602Z
LAST-MODIFIED:20151126T054602Z
UID:7280-1449045000-1449055800@marketing.com.au
SUMMARY:Retailered – The Ultimate Knowledge Feast For The Modern Retailer
DESCRIPTION:This three-hour session will take you through a collection of exciting ideas for you to implement into your retail operation. Hear from a panel of retail gurus\, tech wizards and creative icons along with a bunch of people who share a passion for growing knowledge in Australia’s retail economy. \nWith four expert speakers consisting of; Daniel Flynn (Thankyou)\, Tania Burstin (mycause)\, Kevin Ke (Hisense) and Matthew Khoury (LOKE Group)\, Participants are sure to learn a great deal of information from such a wealth of experience and education in Australia’s retail industry.
URL:https://marketing.com.au/event/retailered-the-ultimate-knowledge-feast-for-the-modern-retailer/
LOCATION:Romulus & Remus\, 648 Bridge Rd\, Richmond\, VIC\, 3121\, Australia
CATEGORIES:Advertising,All Event Locations,All Event Topics,All Event Types,Conference,Content Marketing,Digital Marketing,Marketing,Melbourne,Public Relations,Workshop
ORGANIZER;CN="Emote Digital":MAILTO:hello(at)emotedigital.com.au
END:VEVENT
END:VCALENDAR