BEGIN:VCALENDAR
VERSION:2.0
PRODID:-//Marketing.com.au - ECPv6.15.20//NONSGML v1.0//EN
CALSCALE:GREGORIAN
METHOD:PUBLISH
X-ORIGINAL-URL:https://marketing.com.au
X-WR-CALDESC:Events for Marketing.com.au
REFRESH-INTERVAL;VALUE=DURATION:PT1H
X-Robots-Tag:noindex
X-PUBLISHED-TTL:PT1H
BEGIN:VTIMEZONE
TZID:Australia/Melbourne
BEGIN:STANDARD
TZOFFSETFROM:+1100
TZOFFSETTO:+1000
TZNAME:AEST
DTSTART:20140405T160000
END:STANDARD
BEGIN:DAYLIGHT
TZOFFSETFROM:+1000
TZOFFSETTO:+1100
TZNAME:AEDT
DTSTART:20141004T160000
END:DAYLIGHT
BEGIN:STANDARD
TZOFFSETFROM:+1100
TZOFFSETTO:+1000
TZNAME:AEST
DTSTART:20150404T160000
END:STANDARD
BEGIN:DAYLIGHT
TZOFFSETFROM:+1000
TZOFFSETTO:+1100
TZNAME:AEDT
DTSTART:20151003T160000
END:DAYLIGHT
BEGIN:STANDARD
TZOFFSETFROM:+1100
TZOFFSETTO:+1000
TZNAME:AEST
DTSTART:20160402T160000
END:STANDARD
BEGIN:DAYLIGHT
TZOFFSETFROM:+1000
TZOFFSETTO:+1100
TZNAME:AEDT
DTSTART:20161001T160000
END:DAYLIGHT
END:VTIMEZONE
BEGIN:VEVENT
DTSTART;VALUE=DATE:20151130
DTEND;VALUE=DATE:20151201
DTSTAMP:20260419T235247
CREATED:20151119T051420Z
LAST-MODIFIED:20151119T051420Z
UID:7249-1448841600-1448927999@marketing.com.au
SUMMARY:TurnLive Australia - REACH CUSTOMERS AT THE MOMENTS That Most Influence Their Decision
DESCRIPTION:Gain global insight and advice from practitioners on programmatic success. Join a panel of industry experts to hear techniques on building effective campaigns and be steered towards the opportunities.
URL:https://marketing.com.au/event/turnlive-australia-reach-customers-at-the-moments-that-most-influence-their-decision/
LOCATION:Ivy Sunroom\, Level 3\, 330 St. George St\, Sydney\, NSW\, 2000\, Australia
CATEGORIES:Advertising,All Event Locations,All Event Types,Conference,Content Marketing,Digital Marketing,Market Research,Marketing,Public Relations,Sydney,Workshop
ORGANIZER;CN="Turn":MAILTO:apacmarketing(at)turn.com
END:VEVENT
END:VCALENDAR