BEGIN:VCALENDAR
VERSION:2.0
PRODID:-//Marketing.com.au - ECPv6.15.20//NONSGML v1.0//EN
CALSCALE:GREGORIAN
METHOD:PUBLISH
X-WR-CALNAME:Marketing.com.au
X-ORIGINAL-URL:https://marketing.com.au
X-WR-CALDESC:Events for Marketing.com.au
REFRESH-INTERVAL;VALUE=DURATION:PT1H
X-Robots-Tag:noindex
X-PUBLISHED-TTL:PT1H
BEGIN:VTIMEZONE
TZID:Australia/Melbourne
BEGIN:STANDARD
TZOFFSETFROM:+1100
TZOFFSETTO:+1000
TZNAME:AEST
DTSTART:20140405T160000
END:STANDARD
BEGIN:DAYLIGHT
TZOFFSETFROM:+1000
TZOFFSETTO:+1100
TZNAME:AEDT
DTSTART:20141004T160000
END:DAYLIGHT
BEGIN:STANDARD
TZOFFSETFROM:+1100
TZOFFSETTO:+1000
TZNAME:AEST
DTSTART:20150404T160000
END:STANDARD
BEGIN:DAYLIGHT
TZOFFSETFROM:+1000
TZOFFSETTO:+1100
TZNAME:AEDT
DTSTART:20151003T160000
END:DAYLIGHT
BEGIN:STANDARD
TZOFFSETFROM:+1100
TZOFFSETTO:+1000
TZNAME:AEST
DTSTART:20160402T160000
END:STANDARD
BEGIN:DAYLIGHT
TZOFFSETFROM:+1000
TZOFFSETTO:+1100
TZNAME:AEDT
DTSTART:20161001T160000
END:DAYLIGHT
END:VTIMEZONE
BEGIN:VEVENT
DTSTART;VALUE=DATE:20150804
DTEND;VALUE=DATE:20150806
DTSTAMP:20260420T052450
CREATED:20150519T061253Z
LAST-MODIFIED:20201002T051306Z
UID:6752-1438646400-1438819199@marketing.com.au
SUMMARY:ADMA Global Forum
DESCRIPTION:The annual two day marketing & advertising conference that brings together the industries’ global leaders who are changing today’s world of data-driven marketing and advertising. \nTo express your interest in attending ADMA Global Forum – Marketing & Advertising Conference\, please follow the event website link below to register and receive the program details once confirmed.
URL:https://marketing.com.au/event/adma-global-forum/
LOCATION:Hilton Sydney\, 488 Georges Street\, Sydney\, New South Wales\, 2000\, Australia
CATEGORIES:Advertising,All Event Locations,All Event Topics,All Event Types,Conference,Content Marketing,Digital Marketing,Marketing,Social Media,Sydney
END:VEVENT
END:VCALENDAR