BEGIN:VCALENDAR
VERSION:2.0
PRODID:-//Marketing.com.au - ECPv6.15.20//NONSGML v1.0//EN
CALSCALE:GREGORIAN
METHOD:PUBLISH
X-ORIGINAL-URL:https://marketing.com.au
X-WR-CALDESC:Events for Marketing.com.au
REFRESH-INTERVAL;VALUE=DURATION:PT1H
X-Robots-Tag:noindex
X-PUBLISHED-TTL:PT1H
BEGIN:VTIMEZONE
TZID:Australia/Melbourne
BEGIN:STANDARD
TZOFFSETFROM:+1100
TZOFFSETTO:+1000
TZNAME:AEST
DTSTART:20140405T160000
END:STANDARD
BEGIN:DAYLIGHT
TZOFFSETFROM:+1000
TZOFFSETTO:+1100
TZNAME:AEDT
DTSTART:20141004T160000
END:DAYLIGHT
BEGIN:STANDARD
TZOFFSETFROM:+1100
TZOFFSETTO:+1000
TZNAME:AEST
DTSTART:20150404T160000
END:STANDARD
BEGIN:DAYLIGHT
TZOFFSETFROM:+1000
TZOFFSETTO:+1100
TZNAME:AEDT
DTSTART:20151003T160000
END:DAYLIGHT
BEGIN:STANDARD
TZOFFSETFROM:+1100
TZOFFSETTO:+1000
TZNAME:AEST
DTSTART:20160402T160000
END:STANDARD
BEGIN:DAYLIGHT
TZOFFSETFROM:+1000
TZOFFSETTO:+1100
TZNAME:AEDT
DTSTART:20161001T160000
END:DAYLIGHT
END:VTIMEZONE
BEGIN:VEVENT
DTSTART;VALUE=DATE:20150730
DTEND;VALUE=DATE:20150801
DTSTAMP:20260420T052532
CREATED:20150701T084258Z
LAST-MODIFIED:20150701T084258Z
UID:6870-1438214400-1438387199@marketing.com.au
SUMMARY:Customer Experience Tech Fest
DESCRIPTION:Customer Experience Tech Fest is a conference designed to help discover how to get your customers experience strategy right\, utilize commercial value of your customers data and help engage with your customers across all channels\, placing your customers as the heart of your business. Find out how some of the worlds leading brands are using CRM and other digital technologies to create\, engage and maintain customers.
URL:https://marketing.com.au/event/customer-experience-tech-fest/
LOCATION:Crown Plaza Melbourne\, 1-5 Spencer St\, Docklands\, VIC\, 3008
CATEGORIES:Advertising,All Event Locations,All Event Topics,All Event Types,Conference,Content Marketing,Market Research,Marketing,Melbourne,Public Relations
ORGANIZER;CN="The Eventful Group":MAILTO:claire.jones(at)theeventfulgroup.com
END:VEVENT
END:VCALENDAR