BEGIN:VCALENDAR
VERSION:2.0
PRODID:-//Marketing.com.au - ECPv6.15.20//NONSGML v1.0//EN
CALSCALE:GREGORIAN
METHOD:PUBLISH
X-ORIGINAL-URL:https://marketing.com.au
X-WR-CALDESC:Events for Marketing.com.au
REFRESH-INTERVAL;VALUE=DURATION:PT1H
X-Robots-Tag:noindex
X-PUBLISHED-TTL:PT1H
BEGIN:VTIMEZONE
TZID:Australia/Melbourne
BEGIN:STANDARD
TZOFFSETFROM:+1100
TZOFFSETTO:+1000
TZNAME:AEST
DTSTART:20140405T160000
END:STANDARD
BEGIN:DAYLIGHT
TZOFFSETFROM:+1000
TZOFFSETTO:+1100
TZNAME:AEDT
DTSTART:20141004T160000
END:DAYLIGHT
BEGIN:STANDARD
TZOFFSETFROM:+1100
TZOFFSETTO:+1000
TZNAME:AEST
DTSTART:20150404T160000
END:STANDARD
BEGIN:DAYLIGHT
TZOFFSETFROM:+1000
TZOFFSETTO:+1100
TZNAME:AEDT
DTSTART:20151003T160000
END:DAYLIGHT
BEGIN:STANDARD
TZOFFSETFROM:+1100
TZOFFSETTO:+1000
TZNAME:AEST
DTSTART:20160402T160000
END:STANDARD
BEGIN:DAYLIGHT
TZOFFSETFROM:+1000
TZOFFSETTO:+1100
TZNAME:AEDT
DTSTART:20161001T160000
END:DAYLIGHT
END:VTIMEZONE
BEGIN:VEVENT
DTSTART;VALUE=DATE:20150728
DTEND;VALUE=DATE:20150730
DTSTAMP:20260420T052533
CREATED:20150514T064337Z
LAST-MODIFIED:20150514T064337Z
UID:6736-1438041600-1438214399@marketing.com.au
SUMMARY:Content Strategy Masterclass Melbourne – July 2015
DESCRIPTION:This 2-day practical & interactive masterclass is designed to offer unambiguous & clear steps to designing\, documenting\, implementing & improving a content strategy facilitated by Jonathan Crossfield.
URL:https://marketing.com.au/event/content-strategy-masterclass-melbourne-july-2015/
LOCATION:Karstens Melbourne\, 123 Queen Street\, Melbourne\, VIC\, 3000\, Australia
CATEGORIES:Advertising,All Event Locations,All Event Topics,All Event Types,Conference,Content Marketing,Marketing,Melbourne
ORGANIZER;CN="Progress Media":MAILTO:davidl@progressmedia.com.au
END:VEVENT
BEGIN:VEVENT
DTSTART;TZID=Australia/Melbourne:20150728T083000
DTEND;TZID=Australia/Melbourne:20150728T180000
DTSTAMP:20260420T052533
CREATED:20150403T044128Z
LAST-MODIFIED:20150403T044128Z
UID:6607-1438072200-1438106400@marketing.com.au
SUMMARY:Adobe Digital Marketing Symposium
DESCRIPTION:The 2015 Adobe Digital Marketing Symposium gives marketers the opportunity to gather the latest insights\, best practices and trends in the digital marketing world. The event will focus on creating\, measuring and maximizing digital experiences to help marketers build brand loyalty and bring in new customers. The symposium will also focus on best practices for optimizing web analytics\, social\, cross-channel campaign management and web experience management. \nThe Adobe Symposium has quickly become a key marketing event in Australia\, last year boasting more than 1\,400 marketers attending.
URL:https://marketing.com.au/event/adobe-digital-marketing-symposium/
LOCATION:The Star\, 80 Pyrmont Street\, Sydney\, New South Wales\, 2009\, Australia
CATEGORIES:Advertising,All Event Locations,All Event Topics,All Event Types,Conference,Content Marketing,Digital Marketing,Graphic Design,Market Research,Marketing,Presentation,Social Media,Sydney,Workshop
END:VEVENT
END:VCALENDAR