BEGIN:VCALENDAR
VERSION:2.0
PRODID:-//Marketing.com.au - ECPv6.15.20//NONSGML v1.0//EN
CALSCALE:GREGORIAN
METHOD:PUBLISH
X-ORIGINAL-URL:https://marketing.com.au
X-WR-CALDESC:Events for Marketing.com.au
REFRESH-INTERVAL;VALUE=DURATION:PT1H
X-Robots-Tag:noindex
X-PUBLISHED-TTL:PT1H
BEGIN:VTIMEZONE
TZID:Australia/Melbourne
BEGIN:STANDARD
TZOFFSETFROM:+1100
TZOFFSETTO:+1000
TZNAME:AEST
DTSTART:20220402T160000
END:STANDARD
BEGIN:DAYLIGHT
TZOFFSETFROM:+1000
TZOFFSETTO:+1100
TZNAME:AEDT
DTSTART:20221001T160000
END:DAYLIGHT
BEGIN:STANDARD
TZOFFSETFROM:+1100
TZOFFSETTO:+1000
TZNAME:AEST
DTSTART:20230401T160000
END:STANDARD
BEGIN:DAYLIGHT
TZOFFSETFROM:+1000
TZOFFSETTO:+1100
TZNAME:AEDT
DTSTART:20230930T160000
END:DAYLIGHT
BEGIN:STANDARD
TZOFFSETFROM:+1100
TZOFFSETTO:+1000
TZNAME:AEST
DTSTART:20240406T160000
END:STANDARD
BEGIN:DAYLIGHT
TZOFFSETFROM:+1000
TZOFFSETTO:+1100
TZNAME:AEDT
DTSTART:20241005T160000
END:DAYLIGHT
END:VTIMEZONE
BEGIN:VEVENT
DTSTART;VALUE=DATE:20230214
DTEND;VALUE=DATE:20230217
DTSTAMP:20260420T143744
CREATED:20220924T104309Z
LAST-MODIFIED:20230106T034223Z
UID:22668-1676332800-1676591999@marketing.com.au
SUMMARY:eTail Australia 2023
DESCRIPTION:Your only opportunity to learn from and network with Australia’s leading eCommerce and digital marketing retail leaders at one time.\n\n\n\n\nAs THE market leading annual meeting place for Australia’s top retail leaders\, only at eTail Australia can you learn from\, network and collaborate with leading Founders\, CEOs\, CMOs\, Heads of eCommerce and Digital Marketing Leaders (and more!) as they share practical insights on how to: \n\nThrive in the face of faltering consumer sentiment and overcome rising inflation and a bearish economy\nMeet customers in their channel of choice without burning a hole in your pocket\nUnravel the complexities of Web 3.0 (raise your hand if you still don’t get it) and get the hard truths about metaverse before you dive headfirst into it\nDeliver consistent value to your customers so that they will continue buy from you no matter the circumstances\nExpand into new markets and look like an experienced player while doing so (not the new kid on the block)\n\nWe CAN’T WAIT to welcome you to eTail Australia 2023! Attend and be a part of retails future.
URL:https://marketing.com.au/event/etail-australia-2023/
LOCATION:NSW
END:VEVENT
END:VCALENDAR