BEGIN:VCALENDAR
VERSION:2.0
PRODID:-//Marketing.com.au - ECPv6.15.20//NONSGML v1.0//EN
CALSCALE:GREGORIAN
METHOD:PUBLISH
X-WR-CALNAME:Marketing.com.au
X-ORIGINAL-URL:https://marketing.com.au
X-WR-CALDESC:Events for Marketing.com.au
REFRESH-INTERVAL;VALUE=DURATION:PT1H
X-Robots-Tag:noindex
X-PUBLISHED-TTL:PT1H
BEGIN:VTIMEZONE
TZID:Australia/Melbourne
BEGIN:STANDARD
TZOFFSETFROM:+1100
TZOFFSETTO:+1000
TZNAME:AEST
DTSTART:20190406T160000
END:STANDARD
BEGIN:DAYLIGHT
TZOFFSETFROM:+1000
TZOFFSETTO:+1100
TZNAME:AEDT
DTSTART:20191005T160000
END:DAYLIGHT
BEGIN:STANDARD
TZOFFSETFROM:+1100
TZOFFSETTO:+1000
TZNAME:AEST
DTSTART:20200404T160000
END:STANDARD
BEGIN:DAYLIGHT
TZOFFSETFROM:+1000
TZOFFSETTO:+1100
TZNAME:AEDT
DTSTART:20201003T160000
END:DAYLIGHT
BEGIN:STANDARD
TZOFFSETFROM:+1100
TZOFFSETTO:+1000
TZNAME:AEST
DTSTART:20210403T160000
END:STANDARD
BEGIN:DAYLIGHT
TZOFFSETFROM:+1000
TZOFFSETTO:+1100
TZNAME:AEDT
DTSTART:20211002T160000
END:DAYLIGHT
END:VTIMEZONE
BEGIN:VEVENT
DTSTART;VALUE=DATE:20201005
DTEND;VALUE=DATE:20201010
DTSTAMP:20260423T161649
CREATED:20200712T065958Z
LAST-MODIFIED:20201010T112338Z
UID:15801-1601856000-1602287999@marketing.com.au
SUMMARY:The Festival of Marketing 2020
DESCRIPTION:The Festival of Marketing is going digital! \nSame insight\, inspiration and learning\, but a new and exciting digital experience. \nExpect a week-long series of online sessions\, featuring thought leaders from the world of marketing\, business and beyond\, to provide you with unmatched learning. Gain leading edge insight\, inspiration and the learnings required to meet the challenges that lie ahead. \nThe Festival will gather together an unrivalled collection of global speakers\, from internationally renowned brands. The digital presence provides a unique opportunity for the worldwide marketing community to connect with each other. Festival will address the five biggest issues faced by you and your brand\, as we look to create a blueprint that will better serve your customers\, company and colleagues. \nWe’re proud to announce Mark Ritson\, Founder of the Marketing Week Mini MBA\, as the first Festival 2020 headliner. \nMark has worked globally on projects ranging from brand strategy\, market research\, segmentation\, CRM\, marketing communications\, brand acquisition\, brand valuation and brand extension. For thirteen years – from 2002 to 2015 – he served as in-house professor for LVMH – the world’s largest luxury group – working with senior executives from brands like Louis Vuitton\, Dom Perignon\, Fendi\, Tag Heuer\, Dior and Hennessy. \nMark has written a weekly column on branding for Marketing Week for over a decade\, and is widely acknowledged as one of the world’s best marketing instructors. \nHis session will be a must-attend of the week!
URL:https://marketing.com.au/event/the-festival-of-marketing-2020/
LOCATION:Online
CATEGORIES:All Event Locations,All Event Topics,All Event Types,Marketing,Online
END:VEVENT
BEGIN:VEVENT
DTSTART;VALUE=DATE:20201006
DTEND;VALUE=DATE:20201009
DTSTAMP:20260423T161649
CREATED:20200804T095627Z
LAST-MODIFIED:20201010T112338Z
UID:16349-1601942400-1602201599@marketing.com.au
SUMMARY:MARTECH Virtual 2020
DESCRIPTION:MarTech: A Virtual Event For Strategies & Solutions\n\n\nOctober 6-8\, 2020\n\nJust because you can’t attend in-person conferences this year doesn’t mean you can’t continue improving your marketing efficiency\, scale\, and effectiveness: Join us online\, this October 6-8\, for FREE! \nThis exclusive virtual experience will help you stay up-to-speed on the latest developments in modern marketing and identify\, evaluate\, and implement time-saving\, profit-generating marketing technologies — all from the comfort and safety of your own computer. \nBonus! The Stackies are going virtual\, too! Discover the scope of your very own marketing stack (and promote your organization across the marketing industry\, while you’re at it) by entering the 2020 Stackie Awards! \nDon’t miss this exciting opportunity to continue your learning initiatives\, engage with solution providers\, and connect with the marketing technology community — all for free. \n 
URL:https://marketing.com.au/event/martech-virtual-2020/
LOCATION:Online
CATEGORIES:All Event Locations,All Event Topics,All Event Types,Digital Marketing,Marketing,Online
END:VEVENT
BEGIN:VEVENT
DTSTART;VALUE=DATE:20201006
DTEND;VALUE=DATE:20201009
DTSTAMP:20260423T161649
CREATED:20200906T050529Z
LAST-MODIFIED:20201010T112338Z
UID:16617-1601942400-1602201599@marketing.com.au
SUMMARY:Make It Big 2020
DESCRIPTION:Make it Big is a free\, three-day virtual conference.\nIf you’re a retailer\, entrepreneur or ecommerce professional looking to fuel your next stage of growth\, Make it Big is for you. Unlock your full potential with proven success strategies\, expert tips and actionable advice from global thought leaders. \nOver the course of three days\, we’ll dive into current industry trends and discuss ways to scale your business\, build your customer base and plan for the future. \n\n\nProven strategies\nLearn how to create\, refine and expand upon your ecommerce strategies to accelerate growth\, stay competitive\, and future-proof your business in an ever-changing ecommerce landscape. \n\n\nExpert tips and tactics\nUnlock exclusive access to detailed tips and tactics on topics like increasing organic traffic\, selling across channels\, and B2B — all crafted to build\, innovate and grow your business. \n\n\nReal-world success stories\nWe’ve curated a global lineup of speakers to share their stories\, so you can learn firsthand from our customers\, partners and industry experts from around the world.
URL:https://marketing.com.au/event/make-it-big-2020/
LOCATION:Online
CATEGORIES:All Event Locations,All Event Topics,All Event Types,Content Marketing,Online
END:VEVENT
BEGIN:VEVENT
DTSTART;VALUE=DATE:20201007
DTEND;VALUE=DATE:20201008
DTSTAMP:20260423T161649
CREATED:20200906T054717Z
LAST-MODIFIED:20201010T112338Z
UID:16634-1602028800-1602115199@marketing.com.au
SUMMARY:Programmatic Pioneers APAC Virtual Summit
DESCRIPTION:The Largest Virtual Gathering of Programmatic Leaders From Asia’s Top Brands & Agencies \nWithout benchmarking and finding out what your peers are doing you could be missing out on critical information to keep your business afloat and get prepared for the future. \nJoin this virtual summit to find out how online consumption habits are changing and how advertisers are adapting their digital activities to better attract and convert customers. \n\nSign up for free to find out how you can:\n\n\nAdapt your advertising strategy to the Covid-19 landscape – get practical insights from the world’s leading brands\, agencies and publishers\nAccelerate your programmatic maturity – discover how the latest data and technology innovations are being leveraged\nBenchmark against peers and have your pressing questions answered – hear from 15 leading programmatic speakers and take part in live polling and Q&A after each session\n\nPresenters: \n\nAlexandra Vogler\, Senior Director P&G e-commerce Asia\, Middle East & Africa P&G\nAmerico Campos Silva\, Global Head of Integrated Brand & Communications Shell\nValentina Torrusio CEE\,Data & Productivity Connections Lead\,The Coca Cola Company\nSunil Subhedar\,Global Head Programmatic Advertising & Technology\, Uber\nCarlotta Meneghini\, Head of Programmatic\,Vodafone\nMazen Mroueh\, Global Digital Media & Technology Lead\, Friensland Campina\nJanet Leung\,Precision Lead\, North Asia\, Publicis\nColleen Ngo\, VP of Partnerships & Investment\,Xaxis APAC\nConrad Tallariti\, Regional VP Sales\, SEA\, DoubleVerify\nJohn-Jo Eastwood Managing\, Director Advertising\, Carousell\nDiogo Andrade\, Head of Automation\, SEA\, TW & HK\, Spotify\nSebastian Cruz\, Media Lead APAC\, Kimberly Clark\nKabeer Chaudhary\, Managing Partner APAC\, M&C Saatchi Performance\nSilas Lewis-Meilus\, Director & Head of Media APAC\, GSK\nRichard Kanolik\, Head of Programmatic\, Vodafone\nNeel Pandya\, Head of Media\, L’Oreal\nAlexander Pasch\, Head of Media\, Schneider Electric\nRoshat Adnani\, Country Director Indonesia\, M&C Saatchi Performance\nHemant Menon\, Associate Director\, Dentsu Aegis Network\nIan Hocking\, Vice President\, Digital\, South China Morning Post\nPreetam Jena\, Area Director of Digital Marketing & Online Distribution\, Accor Hotels\nAndres Mongrue\, Media Lead – Asia Pacific\, HP\nVincent Niou\, AVP\, Programmatic & Data Strategy\, APAC\, Essence\nFlorent Davach de Theze\, Head of Programmatic & Paid Social – APAC\, Havas\nAnthony Hymes\, Head of Digital Media\, Shiseido\nFilippo Stefanelli\, Chief Marketing Officer\, StashAway\nSumit Ramchandani\, CEO\, AirAsia Ads\nFrank Ravanelli\, APAC Digital Media & Marketing Operations Lead &Global Head of Affiliates. FOREO\nVishal Chinchankar\, Chief Digital Officer\, Madison World\nGuy Hearn\, Former Chief Product Officer\, Asia Pacific Omnicom Media Group & Principal Consultant\, Fullbeam\nStewart Hunter\, Independent\, Digital Consultant
URL:https://marketing.com.au/event/programmatic-pioneers-apac-virtual-summit/
LOCATION:Online
CATEGORIES:All Event Locations,All Event Topics,All Event Types,Conference,Digital Marketing,PPC,Website
END:VEVENT
END:VCALENDAR