BEGIN:VCALENDAR
VERSION:2.0
PRODID:-//Marketing.com.au - ECPv6.15.20//NONSGML v1.0//EN
CALSCALE:GREGORIAN
METHOD:PUBLISH
X-ORIGINAL-URL:https://marketing.com.au
X-WR-CALDESC:Events for Marketing.com.au
REFRESH-INTERVAL;VALUE=DURATION:PT1H
X-Robots-Tag:noindex
X-PUBLISHED-TTL:PT1H
BEGIN:VTIMEZONE
TZID:Australia/Melbourne
BEGIN:STANDARD
TZOFFSETFROM:+1100
TZOFFSETTO:+1000
TZNAME:AEST
DTSTART:20180331T160000
END:STANDARD
BEGIN:DAYLIGHT
TZOFFSETFROM:+1000
TZOFFSETTO:+1100
TZNAME:AEDT
DTSTART:20181006T160000
END:DAYLIGHT
BEGIN:STANDARD
TZOFFSETFROM:+1100
TZOFFSETTO:+1000
TZNAME:AEST
DTSTART:20190406T160000
END:STANDARD
BEGIN:DAYLIGHT
TZOFFSETFROM:+1000
TZOFFSETTO:+1100
TZNAME:AEDT
DTSTART:20191005T160000
END:DAYLIGHT
BEGIN:STANDARD
TZOFFSETFROM:+1100
TZOFFSETTO:+1000
TZNAME:AEST
DTSTART:20200404T160000
END:STANDARD
BEGIN:DAYLIGHT
TZOFFSETFROM:+1000
TZOFFSETTO:+1100
TZNAME:AEDT
DTSTART:20201003T160000
END:DAYLIGHT
END:VTIMEZONE
BEGIN:VEVENT
DTSTART;TZID=Australia/Melbourne:20191218T080000
DTEND;TZID=Australia/Melbourne:20191218T170000
DTSTAMP:20260424T170933
CREATED:20191117T011926Z
LAST-MODIFIED:20200222T051739Z
UID:14478-1576656000-1576688400@marketing.com.au
SUMMARY:Content Marketing For Beginners | December 18
DESCRIPTION:About This Class\nContent Marketing has become the biggest buzzword in digital marketing\, but very few people really know how to integrate content into their brand in a cohesive\, strategic\, and optimised way. \nIn this class\, we’ll cover the need-to-know aspects of creating and executing a content marketing plan\, from creating a style guide to setting an editorial calendar\, to measuring performance. \nThe goal: you walk away with a clear picture of what content can do for your brand\, and what you can do to get started using it. \n\n\nTakeaways\n\nLearn how and why producing original content can benefit your brand\nLearn how to create continuous\, unique content that both engages readers and achieves your business goals\nLearn the three steps to approaching content strategy:\n\nWhat type of content should your brand create?\nHow should you speak to your customers/readers?\nHow do you create a map/plan for your content?\n\n\n\n\n\nPreparation\n\nSome knowledge of marketing is helpful\, but not required\nLaptops not necessary\, slides will be made available to attendants.
URL:https://marketing.com.au/event/content-marketing-for-beginners-december-18/
LOCATION:General Assembly Sydney\, Level 2\, 1 Market Street\, Sydney\, NSW\, 2000\, Australia
CATEGORIES:All Event Locations,All Event Topics,All Event Types,Content Marketing,Sydney
END:VEVENT
END:VCALENDAR