BEGIN:VCALENDAR
VERSION:2.0
PRODID:-//Marketing.com.au - ECPv6.15.20//NONSGML v1.0//EN
CALSCALE:GREGORIAN
METHOD:PUBLISH
X-ORIGINAL-URL:https://marketing.com.au
X-WR-CALDESC:Events for Marketing.com.au
REFRESH-INTERVAL;VALUE=DURATION:PT1H
X-Robots-Tag:noindex
X-PUBLISHED-TTL:PT1H
BEGIN:VTIMEZONE
TZID:Australia/Melbourne
BEGIN:STANDARD
TZOFFSETFROM:+1100
TZOFFSETTO:+1000
TZNAME:AEST
DTSTART:20180331T160000
END:STANDARD
BEGIN:DAYLIGHT
TZOFFSETFROM:+1000
TZOFFSETTO:+1100
TZNAME:AEDT
DTSTART:20181006T160000
END:DAYLIGHT
BEGIN:STANDARD
TZOFFSETFROM:+1100
TZOFFSETTO:+1000
TZNAME:AEST
DTSTART:20190406T160000
END:STANDARD
BEGIN:DAYLIGHT
TZOFFSETFROM:+1000
TZOFFSETTO:+1100
TZNAME:AEDT
DTSTART:20191005T160000
END:DAYLIGHT
BEGIN:STANDARD
TZOFFSETFROM:+1100
TZOFFSETTO:+1000
TZNAME:AEST
DTSTART:20200404T160000
END:STANDARD
BEGIN:DAYLIGHT
TZOFFSETFROM:+1000
TZOFFSETTO:+1100
TZNAME:AEDT
DTSTART:20201003T160000
END:DAYLIGHT
END:VTIMEZONE
BEGIN:VEVENT
DTSTART;TZID=Australia/Melbourne:20191117T080000
DTEND;TZID=Australia/Melbourne:20191117T170000
DTSTAMP:20260424T182504
CREATED:20191117T012847Z
LAST-MODIFIED:20200222T051810Z
UID:14487-1573977600-1574010000@marketing.com.au
SUMMARY:Google Ads Strategy for the Holidays | Google Marketing Platform Sydney
DESCRIPTION:The holiday shopping season is in full swing and we are counting down to Christmas Day. \nWith the Australian consumer the most pessimistic in 4 years\, it’s more important than ever to spend your marketing dollars wisely. Erran Su\, Growth Marketing Analyst at In Marketing We Trust will be talking about how to utilise Google Ads to catch the final wave of holiday shopping by targeting the right audiences to make it the best December ever for your business. \nGeneral format:\n• 6:00 pm – Welcome and networking\n• 6:15 pm – GMP news & updates\n• 6:30 pm – Talks\n• 7:30 pm – Networking (with nibbles)
URL:https://marketing.com.au/event/google-ads-strategy-for-holidays/
LOCATION:Google Marketing Platform Sydney
CATEGORIES:All Event Locations,All Event Topics,All Event Types
END:VEVENT
END:VCALENDAR