BEGIN:VCALENDAR
VERSION:2.0
PRODID:-//Marketing.com.au - ECPv6.15.20//NONSGML v1.0//EN
CALSCALE:GREGORIAN
METHOD:PUBLISH
X-ORIGINAL-URL:https://marketing.com.au
X-WR-CALDESC:Events for Marketing.com.au
REFRESH-INTERVAL;VALUE=DURATION:PT1H
X-Robots-Tag:noindex
X-PUBLISHED-TTL:PT1H
BEGIN:VTIMEZONE
TZID:Australia/Melbourne
BEGIN:STANDARD
TZOFFSETFROM:+1100
TZOFFSETTO:+1000
TZNAME:AEST
DTSTART:20180331T160000
END:STANDARD
BEGIN:DAYLIGHT
TZOFFSETFROM:+1000
TZOFFSETTO:+1100
TZNAME:AEDT
DTSTART:20181006T160000
END:DAYLIGHT
BEGIN:STANDARD
TZOFFSETFROM:+1100
TZOFFSETTO:+1000
TZNAME:AEST
DTSTART:20190406T160000
END:STANDARD
BEGIN:DAYLIGHT
TZOFFSETFROM:+1000
TZOFFSETTO:+1100
TZNAME:AEDT
DTSTART:20191005T160000
END:DAYLIGHT
BEGIN:STANDARD
TZOFFSETFROM:+1100
TZOFFSETTO:+1000
TZNAME:AEST
DTSTART:20200404T160000
END:STANDARD
BEGIN:DAYLIGHT
TZOFFSETFROM:+1000
TZOFFSETTO:+1100
TZNAME:AEDT
DTSTART:20201003T160000
END:DAYLIGHT
END:VTIMEZONE
BEGIN:VEVENT
DTSTART;TZID=Australia/Melbourne:20191002T080000
DTEND;TZID=Australia/Melbourne:20191002T103000
DTSTAMP:20260424T205041
CREATED:20190919T095056Z
LAST-MODIFIED:20191020T054325Z
UID:14196-1570003200-1570012200@marketing.com.au
SUMMARY:Spotlight on Paid Social Media - Brisbane
DESCRIPTION:Social media is a key channel in many marketing plans and it experiences perhaps the highest rate of change of them all. How are you adjusting your social media strategy to accommodate changes across these platforms? \nAt this event\, we explore the latest in social media advertising. You’ll find out how to get the most from your ad budget\, how to best leverage the targeting capabilities of these platforms and what creative is getting the most cut through. \nOur speakers will share how they use paid social media in conjunction with their organic presence and how they decide what content and ad types to use where. Plus\, see what reporting organisations have in place to track and deliver results. \nWhether you are in B2B or B2C\, if social media forms part of your marketing strategy\, make sure you don’t miss this event.
URL:https://marketing.com.au/event/spotlight-on-paid-social-media-brisbane/
LOCATION:The Grove\, 480 Queen Street\, Brisbane\, QLD\, 4000\, Australia
CATEGORIES:All Event Locations,All Event Topics,All Event Types,Queensland,Social Media
ORGANIZER;CN="Interactive Minds":MAILTO:louisa(at)interactiveminds.com.au
END:VEVENT
BEGIN:VEVENT
DTSTART;TZID=Australia/Melbourne:20191002T093000
DTEND;TZID=Australia/Melbourne:20191002T163000
DTSTAMP:20260424T205041
CREATED:20190922T032235Z
LAST-MODIFIED:20191020T054325Z
UID:14217-1570008600-1570033800@marketing.com.au
SUMMARY:Sub-Editing and Proofreading One-Day Short Course
DESCRIPTION:Who can benefit from this sub-editing and proofreading workshop? \nThis subbing course will help anyone improve their editing skills\, regardless of whether they’re new to editing or are an experienced editor who wants a refresher. \nPeople who usually attend are often involved in: \n\ncommunications\npublishing\njournalism\nmarketing\npublic relations (PR)\nblogging.\n\nTaught by a former Sydney Morning Herald editor\, this practical course covers: \n\ntightening sentences\nwriting in the active voice\nusing positive phrasing\nwriting strong intros\nconnecting paragraphs\nmaking sure the lead isn’t buried\nrestructuring articles\ngrammar and punctuation tips\nmaintaining consistency\nfact checking\nproofreading mark-up symbols\nwriting strong headlines for both print and online\n\nOnly nine places are available to ensure every participant receives personalised attention. \nEditing exercises are included throughout the class so you can immediately practise what you’ve learnt. \nHandbooks and certificates will be handed out to each participant.
URL:https://marketing.com.au/event/sub-editing-and-proofreading-one-day-short-course/
LOCATION:North Sydney Training Rooms\, Level 2\, 80 Mount Street\, North Sydney\, NSW\, 2060\, Australia
CATEGORIES:All Event Locations,All Event Topics,All Event Types,Content Marketing,Sydney
END:VEVENT
END:VCALENDAR