BEGIN:VCALENDAR
VERSION:2.0
PRODID:-//Marketing.com.au - ECPv6.15.20//NONSGML v1.0//EN
CALSCALE:GREGORIAN
METHOD:PUBLISH
X-WR-CALNAME:Marketing.com.au
X-ORIGINAL-URL:https://marketing.com.au
X-WR-CALDESC:Events for Marketing.com.au
REFRESH-INTERVAL;VALUE=DURATION:PT1H
X-Robots-Tag:noindex
X-PUBLISHED-TTL:PT1H
BEGIN:VTIMEZONE
TZID:Australia/Melbourne
BEGIN:STANDARD
TZOFFSETFROM:+1100
TZOFFSETTO:+1000
TZNAME:AEST
DTSTART:20180331T160000
END:STANDARD
BEGIN:DAYLIGHT
TZOFFSETFROM:+1000
TZOFFSETTO:+1100
TZNAME:AEDT
DTSTART:20181006T160000
END:DAYLIGHT
BEGIN:STANDARD
TZOFFSETFROM:+1100
TZOFFSETTO:+1000
TZNAME:AEST
DTSTART:20190406T160000
END:STANDARD
BEGIN:DAYLIGHT
TZOFFSETFROM:+1000
TZOFFSETTO:+1100
TZNAME:AEDT
DTSTART:20191005T160000
END:DAYLIGHT
BEGIN:STANDARD
TZOFFSETFROM:+1100
TZOFFSETTO:+1000
TZNAME:AEST
DTSTART:20200404T160000
END:STANDARD
BEGIN:DAYLIGHT
TZOFFSETFROM:+1000
TZOFFSETTO:+1100
TZNAME:AEDT
DTSTART:20201003T160000
END:DAYLIGHT
END:VTIMEZONE
BEGIN:VEVENT
DTSTART;VALUE=DATE:20190814
DTEND;VALUE=DATE:20190815
DTSTAMP:20260424T232003
CREATED:20190728T014114Z
LAST-MODIFIED:20191020T054326Z
UID:13949-1565740800-1565827199@marketing.com.au
SUMMARY:The State of Data: Opportunities & Responsibilities in 2019
DESCRIPTION:Join us at the annual IAB Australia Data Council event at PwC in Sydney on August 14th. Data is currently the most discussed and critical topic in digital marketing in Australia. How can you effectively\, creatively and responsibly utilise data for marketing? What is the industry and the IAB doing to enable increased trust and transparency in data marketing practices? What are the current best practices and considerations with regards to consumer privacy? What do industry experts see happening in the identity space over the next 12-18 months? We’ll covering all of these topics in-depth and so much more. \nData Transparency panel – a panel of industry experts will discuss what the industry and IAB Australia are currently working on to enable increased trust and transparency across all aspects of digital data marketing practices. \nIdentity panel – everything that brands are wanting to do with marketing data puts identity management and consumer privacy front and centre. Particularly now with the growing restrictions on mobile devices\, the ever-evolving data privacy legislations and changes in the most popular browser standard settings.  Our expert panel will look to life the lid on the current state-of-play and build awareness around what to look out for over the next 12-18 months.
URL:https://marketing.com.au/event/the-state-of-data-opportunities-responsibilities-in-2019/
LOCATION:PwC Sydney\, Darling Park Tower 2\, 201 Sussex Street\, Sydney\, NSW\, 2000\, Australia
CATEGORIES:All Event Locations,All Event Topics,All Event Types,Conference,Digital Marketing,Market Research
END:VEVENT
END:VCALENDAR