BEGIN:VCALENDAR
VERSION:2.0
PRODID:-//Marketing.com.au - ECPv6.15.20//NONSGML v1.0//EN
CALSCALE:GREGORIAN
METHOD:PUBLISH
X-WR-CALNAME:Marketing.com.au
X-ORIGINAL-URL:https://marketing.com.au
X-WR-CALDESC:Events for Marketing.com.au
REFRESH-INTERVAL;VALUE=DURATION:PT1H
X-Robots-Tag:noindex
X-PUBLISHED-TTL:PT1H
BEGIN:VTIMEZONE
TZID:Australia/Melbourne
BEGIN:STANDARD
TZOFFSETFROM:+1100
TZOFFSETTO:+1000
TZNAME:AEST
DTSTART:20180331T160000
END:STANDARD
BEGIN:DAYLIGHT
TZOFFSETFROM:+1000
TZOFFSETTO:+1100
TZNAME:AEDT
DTSTART:20181006T160000
END:DAYLIGHT
BEGIN:STANDARD
TZOFFSETFROM:+1100
TZOFFSETTO:+1000
TZNAME:AEST
DTSTART:20190406T160000
END:STANDARD
BEGIN:DAYLIGHT
TZOFFSETFROM:+1000
TZOFFSETTO:+1100
TZNAME:AEDT
DTSTART:20191005T160000
END:DAYLIGHT
BEGIN:STANDARD
TZOFFSETFROM:+1100
TZOFFSETTO:+1000
TZNAME:AEST
DTSTART:20200404T160000
END:STANDARD
BEGIN:DAYLIGHT
TZOFFSETFROM:+1000
TZOFFSETTO:+1100
TZNAME:AEDT
DTSTART:20201003T160000
END:DAYLIGHT
END:VTIMEZONE
BEGIN:VEVENT
DTSTART;VALUE=DATE:20190724
DTEND;VALUE=DATE:20190725
DTSTAMP:20260424T232204
CREATED:20190622T070557Z
LAST-MODIFIED:20190622T070557Z
UID:13774-1563926400-1564012799@marketing.com.au
SUMMARY:Marketing Your Message in Melbourne
DESCRIPTION:We’re running a series of FREE 1-day Courses in all major cities where we’ll give you the exact steps to use for getting a flood of high-quality (and high-paying) clients. \n​Taught by Cham Tang\, the Head of Marketing for Authentic Education (BRW Fast 100 winner)\, you will learn Cham’s proven marketing methods developed over the last 9 years. \nIn fact\, Cham has spent more than $2-million in online advertising\, and has been able to refine his marketing methods down into a simple step-by-step plan anyone can use… regardless of their business or marketing experience.
URL:https://marketing.com.au/event/marketing-your-message-in-melbourne/
LOCATION:Rydges Melbourne\, 186 Exhibition Street\, Melbourne\, VIC\, 3000\, Australia
CATEGORIES:Digital Marketing,Marketing,Melbourne
END:VEVENT
BEGIN:VEVENT
DTSTART;VALUE=DATE:20190724
DTEND;VALUE=DATE:20190726
DTSTAMP:20260424T232204
CREATED:20190622T074716Z
LAST-MODIFIED:20190622T074716Z
UID:13798-1563926400-1564099199@marketing.com.au
SUMMARY:Online retailer
DESCRIPTION:Transform your business with Online Retailer Conference & Expo – two days jam-packed with cutting-edge ecommerce insights\, the latest trends\, tech innovation and retail solutions. \nDiscover the solutions to your biggest business problems with 140+ exhibitors\, plus experience a plethora of exhilarating show floor features.
URL:https://marketing.com.au/event/online-retailer/
LOCATION:ICC Sydney\, 14 Darling Drive\, Sydney\, NSW\, 2000\, Australia
CATEGORIES:Advertising,Conference,Digital Marketing
END:VEVENT
BEGIN:VEVENT
DTSTART;TZID=Australia/Melbourne:20190724T080000
DTEND;TZID=Australia/Melbourne:20190724T170000
DTSTAMP:20260424T232204
CREATED:20190414T011809Z
LAST-MODIFIED:20190414T031450Z
UID:13509-1563955200-1563987600@marketing.com.au
SUMMARY:Winning Sales Strategies – Brisbane
DESCRIPTION:Driving Sales – Boosting Profits\nTake your team to an explosive new level of growth and success with groundbreaking sales leadership tactics and strategies.\nInternationally renowned sales management expert\, Jack Daly brings over 30 years of field-proven experience to provide essential techniques to accelerate business growth\, drive sales and build a world-class sales organisation. \nMany sales executives understand sales skills but execute them poorly. This highly interactive seminar provides proven\, added-value strategies for productivity improvement while building long-term client relationships. \nYou Will Learn\n\nUnique strategies for capturing and closing more leads\nLow-cost tactics for increasing the value of your prospect and customer lists\nHow to drive greater sales and profits with existing resources\nLeveraging the web and social media to increase sales\nBuild a world-class sales organisation through recruitment\, empowerment\, training\, coaching & leadership and a winning culture\nSMART Selling – learn how to sell smarter through offering value and recognition systems\nCommunication – Social & Buying Styles\, Personality Profiles & The Call Critique – The Relationship Selling & Management Process\nThe Laws for Self Renewal\, Target & Personal Marketing\nEverything you need to know to Double Your Sales!\n\nWho Should Attend\n\nSales teams\nMarketing managers\nCEOs and business leaders\nEntrepreneurs
URL:https://marketing.com.au/event/winning-sales-strategies-brisbane/
LOCATION:Brisbane Convention and Exhibition Centre\, 80 Merivale Street\, South Brisbane\, Brisbane\, QLD\, 4101\, Australia
END:VEVENT
BEGIN:VEVENT
DTSTART;TZID=Australia/Melbourne:20190724T080000
DTEND;TZID=Australia/Melbourne:20190724T170000
DTSTAMP:20260424T232204
CREATED:20190622T070844Z
LAST-MODIFIED:20191020T054415Z
UID:13777-1563955200-1563987600@marketing.com.au
SUMMARY:2019 ALA Customer Engagement & Loyalty Conference
DESCRIPTION:Join your fellow Customer Engagement\, Marketing\, Data Analytics & Loyalty Professional as we take you through a comprehensive loyalty journey\, where you will hear from recognised local and international speakers\, discussing each critical stage of the loyalty journey.
URL:https://marketing.com.au/event/2019-ala-customer-engagement-loyalty-conference/
LOCATION:The Glasshouse\, Olympic Boulevard\, Olympic Park Precinct\, Melbourne\, VIC\, 3000\, Australia
CATEGORIES:Marketing,Melbourne
END:VEVENT
BEGIN:VEVENT
DTSTART;TZID=Australia/Melbourne:20190724T180000
DTEND;TZID=Australia/Melbourne:20190724T200000
DTSTAMP:20260424T232204
CREATED:20190622T072434Z
LAST-MODIFIED:20190622T072434Z
UID:13790-1563991200-1563998400@marketing.com.au
SUMMARY:Marketing your Business: How to get it right\, first time
DESCRIPTION:How well do your potential and existing customers know what your business does?\nAn effective marketing strategy should boost your brand\, capture customers\, keep them coming back\, and ultimately save you time and money. Find out why just a website and a Facebook page is not going to cut it at this back-to-basics workshop that will show you how to develop a marketing action plan to keep your effort and resources focused in the right areas. \nIs this workshop for me?\nWhether you’re an established business or are just starting out\, Marketing your business: How to get it right\, first time is an essential part of your business tool kit and crucial to your success. \nYou will learn how to: \n\nSet marketing goals that work\nChoose the right activities for your business\nUse market research and maximise customer service\nMake the most of marketing processes and systems\nDevelop an effective marketing action plan\nAttract and keep customers coming back\nGet your business noticed\nMaximise social media
URL:https://marketing.com.au/event/marketing-your-business-how-to-get-it-right-first-time/
LOCATION:iHarvest Coworking Sunshine\, 301 Hampshire Road\, Sunshine\, VIC\, 3020\, Australia
CATEGORIES:Conference,Market Research,Melbourne
END:VEVENT
END:VCALENDAR