BEGIN:VCALENDAR
VERSION:2.0
PRODID:-//Marketing.com.au - ECPv6.15.20//NONSGML v1.0//EN
CALSCALE:GREGORIAN
METHOD:PUBLISH
X-ORIGINAL-URL:https://marketing.com.au
X-WR-CALDESC:Events for Marketing.com.au
REFRESH-INTERVAL;VALUE=DURATION:PT1H
X-Robots-Tag:noindex
X-PUBLISHED-TTL:PT1H
BEGIN:VTIMEZONE
TZID:Australia/Melbourne
BEGIN:STANDARD
TZOFFSETFROM:+1100
TZOFFSETTO:+1000
TZNAME:AEST
DTSTART:20180331T160000
END:STANDARD
BEGIN:DAYLIGHT
TZOFFSETFROM:+1000
TZOFFSETTO:+1100
TZNAME:AEDT
DTSTART:20181006T160000
END:DAYLIGHT
BEGIN:STANDARD
TZOFFSETFROM:+1100
TZOFFSETTO:+1000
TZNAME:AEST
DTSTART:20190406T160000
END:STANDARD
BEGIN:DAYLIGHT
TZOFFSETFROM:+1000
TZOFFSETTO:+1100
TZNAME:AEDT
DTSTART:20191005T160000
END:DAYLIGHT
BEGIN:STANDARD
TZOFFSETFROM:+1100
TZOFFSETTO:+1000
TZNAME:AEST
DTSTART:20200404T160000
END:STANDARD
BEGIN:DAYLIGHT
TZOFFSETFROM:+1000
TZOFFSETTO:+1100
TZNAME:AEDT
DTSTART:20201003T160000
END:DAYLIGHT
END:VTIMEZONE
BEGIN:VEVENT
DTSTART;TZID=Australia/Melbourne:20190524T080000
DTEND;TZID=Australia/Melbourne:20190615T170000
DTSTAMP:20260425T015211
CREATED:20190414T004102Z
LAST-MODIFIED:20190414T004102Z
UID:13474-1558684800-1560618000@marketing.com.au
SUMMARY:Vivid Sydney - Light\, Music and Ideas
DESCRIPTION:Where art\, technology and commerce intersect. Three weeks of game changing ideas and seminars\, amazing music and light sculptures that transform the city. \n\nVivid Sydney’s multi-award-winning festival of light\, music and ideas returns to illuminate Sydney with mesmerising new light art and projections and deliver a fresh new program of music and ideas. \nExplore the brilliant Light Walk\, stretching for 2kms along the harbour foreshore from The Rocks to the Sydney Opera House and Royal Botanic Garden. Discover more breathtaking light art at Barangaroo and Darling Harbour\, along with the city’s Kings Cross\, Chatswood and Taronga Zoo. \nVivid Music showcases some of the best Australian and international acts at iconic Sydney venues and intimate bars and clubs. \nVivid Ideas is where you can explore fresh thinking across tech\, design and culture. \n\n 
URL:https://marketing.com.au/event/vivid-sydney-light-music-and-ideas/
LOCATION:Sydney\, NSW\, 2000
CATEGORIES:Conference,Sydney
END:VEVENT
BEGIN:VEVENT
DTSTART;TZID=Australia/Melbourne:20190604T180000
DTEND;TZID=Australia/Melbourne:20190604T200000
DTSTAMP:20260425T015211
CREATED:20190602T091549Z
LAST-MODIFIED:20190602T091549Z
UID:13718-1559671200-1559678400@marketing.com.au
SUMMARY:VIVID - Next Gen Female Innovators
DESCRIPTION:In Australia women represent only 34 per cent of entrepreneurs\, yet the number of female entrepreneurs is growing at a faster rate than for men. Determined to empower women and shift the gap\, Future Women and Sylvia Jeffreys are sharing the inspirational stories behind some of Australia’s most distinguished female entrepreneurs and investors.
URL:https://marketing.com.au/event/vivid-next-gen-female-innovators/
LOCATION:Eternity Playhouse\, Darlinghurst\, Eternity Playhouse\, Darlinghurst
CATEGORIES:Conference,Presentation,Sydney
END:VEVENT
BEGIN:VEVENT
DTSTART;TZID=Australia/Melbourne:20190604T180000
DTEND;TZID=Australia/Melbourne:20190604T220000
DTSTAMP:20260425T015211
CREATED:20190414T012329Z
LAST-MODIFIED:20210410T130509Z
UID:13515-1559671200-1559685600@marketing.com.au
SUMMARY:APG presents Battle of Big Thinking at Vivid
DESCRIPTION:Trust has been linked to every business and every kind of human emotion. But how does it connect to modern life? \nIs it tangible? Is it intangible? Does it live in institutions\, in people\, in leaders\, in brands? or is it up to every individual to decide. \nIs Australia a nation that has been taught not to trust? To only offer it as the ultimate reward. Have we been taught to start from distrust\, to be more cynical and to always expect someone or something to let us down? Or are we more tolerant and expecting of trust breaches? Can they still break a deal? Once trust is lost can it ever be truly regained? Or does it even exist anymore? \nIn today’s modern world\, standards are in flux and everything has become more movable\, more flippant and more transient. That means key values that guide business are shifting too. They are eroding and also being redefined with the way brands and business work. In this climate is it naïve to hope that trust will remain a key guiding principle of how we engage and how we operate? \nGrappling with the question “has trust left the building?” will be tricky. It will take the most trusted and brilliant minds around to provoke\, to debate\, to convince and to put forward a credible and trustworthy point of view. \nCome along and listen for yourself at The Battle of Big Thinking\, an APG event at Vivid Sydney this June. \nDiving into the trust fray will never be this much fun again. \nThis event is being held in partnership with Powered\, a division of Nine Entertainment. \n2019 Speakers\n\nLisa Davies\, Editor\, Sydney Morning Herald\nCarl Ratcliff\, Chief Strategy Officer\, DDB\, Sydney\nPeter Fray\, Co-Director at Centre for Media Transition\, University of Technology Sydney\nKate Smither\, Chief Strategy Officer & APG co-Chair\, Publicis Communications\nFran Clayton\, Chief Strategy Officer\, McCann Australia\nDavid Warren\, Group Strategy Director\, BMF\n\n 
URL:https://marketing.com.au/event/apg-presents-battle-of-big-thinking-at-vivid/
LOCATION:Australia
CATEGORIES:Advertising,Marketing,Sydney
END:VEVENT
END:VCALENDAR