BEGIN:VCALENDAR
VERSION:2.0
PRODID:-//Marketing.com.au - ECPv6.15.20//NONSGML v1.0//EN
CALSCALE:GREGORIAN
METHOD:PUBLISH
X-WR-CALNAME:Marketing.com.au
X-ORIGINAL-URL:https://marketing.com.au
X-WR-CALDESC:Events for Marketing.com.au
REFRESH-INTERVAL;VALUE=DURATION:PT1H
X-Robots-Tag:noindex
X-PUBLISHED-TTL:PT1H
BEGIN:VTIMEZONE
TZID:Australia/Melbourne
BEGIN:STANDARD
TZOFFSETFROM:+1100
TZOFFSETTO:+1000
TZNAME:AEST
DTSTART:20180331T160000
END:STANDARD
BEGIN:DAYLIGHT
TZOFFSETFROM:+1000
TZOFFSETTO:+1100
TZNAME:AEDT
DTSTART:20181006T160000
END:DAYLIGHT
BEGIN:STANDARD
TZOFFSETFROM:+1100
TZOFFSETTO:+1000
TZNAME:AEST
DTSTART:20190406T160000
END:STANDARD
BEGIN:DAYLIGHT
TZOFFSETFROM:+1000
TZOFFSETTO:+1100
TZNAME:AEDT
DTSTART:20191005T160000
END:DAYLIGHT
BEGIN:STANDARD
TZOFFSETFROM:+1100
TZOFFSETTO:+1000
TZNAME:AEST
DTSTART:20200404T160000
END:STANDARD
BEGIN:DAYLIGHT
TZOFFSETFROM:+1000
TZOFFSETTO:+1100
TZNAME:AEDT
DTSTART:20201003T160000
END:DAYLIGHT
END:VTIMEZONE
BEGIN:VEVENT
DTSTART;TZID=Australia/Melbourne:20190524T080000
DTEND;TZID=Australia/Melbourne:20190615T170000
DTSTAMP:20260425T003552
CREATED:20190414T004102Z
LAST-MODIFIED:20190414T004102Z
UID:13474-1558684800-1560618000@marketing.com.au
SUMMARY:Vivid Sydney - Light\, Music and Ideas
DESCRIPTION:Where art\, technology and commerce intersect. Three weeks of game changing ideas and seminars\, amazing music and light sculptures that transform the city. \n\nVivid Sydney’s multi-award-winning festival of light\, music and ideas returns to illuminate Sydney with mesmerising new light art and projections and deliver a fresh new program of music and ideas. \nExplore the brilliant Light Walk\, stretching for 2kms along the harbour foreshore from The Rocks to the Sydney Opera House and Royal Botanic Garden. Discover more breathtaking light art at Barangaroo and Darling Harbour\, along with the city’s Kings Cross\, Chatswood and Taronga Zoo. \nVivid Music showcases some of the best Australian and international acts at iconic Sydney venues and intimate bars and clubs. \nVivid Ideas is where you can explore fresh thinking across tech\, design and culture. \n\n 
URL:https://marketing.com.au/event/vivid-sydney-light-music-and-ideas/
LOCATION:Sydney\, NSW\, 2000
CATEGORIES:Conference,Sydney
END:VEVENT
BEGIN:VEVENT
DTSTART;TZID=Australia/Melbourne:20190528T080000
DTEND;TZID=Australia/Melbourne:20190529T170000
DTSTAMP:20260425T003552
CREATED:20181225T095549Z
LAST-MODIFIED:20201002T042405Z
UID:12920-1559030400-1559149200@marketing.com.au
SUMMARY:World Business Forum Sydney
DESCRIPTION:Learn and be inspired by some of the most influential figures in the business world and beyond; A blend of content delivered by CEOs\, entrepreneurs\, innovators\, thought leaders and creative minds. \nOffering a unique blend of ideas and inspiration\, the World Business Forum focuses on the issues most relevant to today’s businesspeople\, stimulating new thinking and motivating action\, whilst also offering a great opportunity for high-level networking. \nGet equipped for the exponential age at the World Business Forum Sydney 2019 – an age of movements\, of possibility\, of empowerment\, of impact. \nAs technological advancement accelerates transformation\, we are at an inflection point where the traditional ways of doing business are becoming rapidly obsolete. The principles of incrementalism and linear thinking\, once the foundations of our approach to strategy and business\, are being replaced by new principles of exponentialism. \nFor leaders and organisations capable of making the shift from an incremental to an exponential mindset lies the opportunity to drive unprecedented growth. \nAre you willing to make the leap? \n\nExponential ideas\nExponential performance\nExponential companies\nExponential results\n\n  \nThis year’s speakers and topics: \n\nJeff Immelt\nChairman and CEO\, General Electric (2001-2017)\nStrategy\nGary Hamel\nOne of the most influential figures in modern management\nNew Management\nMarcus Buckingham\nWorld’s leading expert on talent and pioneer on the future of work\nTalent\nDon Tapscott\nInfluential Management Thinker\nInnovation\nSusan David\nAward-winning Harvard Medical School psychologist\nPerformance\nMartha Rogers\nLeading authority on customer-focused business strategies\nMarketing\nJuan Enriquez\nLife sciences investigator\, author and entrepreneur\nFuture\nCharlene Li\nLeading expert on business and disruptive technology\nDigital Transformation\nStephen MR Covey\nOrganisational trust expert and #1 bestselling author\nLeadership
URL:https://marketing.com.au/event/world-business-forum-sydney-2/
LOCATION:Pyrmont
CATEGORIES:All Event Locations,All Event Topics,All Event Types,Marketing
END:VEVENT
BEGIN:VEVENT
DTSTART;TZID=Australia/Melbourne:20190529T080000
DTEND;TZID=Australia/Melbourne:20190531T170000
DTSTAMP:20260425T003552
CREATED:20181225T102948Z
LAST-MODIFIED:20190512T054055Z
UID:12949-1559116800-1559322000@marketing.com.au
SUMMARY:Retail Global
DESCRIPTION:If you are selling literally any kind of product on Amazon or Ebay\, your own website or another marketplace and are ready to take your business to the next level – Retail Global is going to help you do that. \n \nWhy attend? \n– Focused on real solutions for retailers \n– Unparalleled networking opportunities \n– Excellent content \n– Access to more than 100 local and global industry experts \n– Targeted and approachable solution providers
URL:https://marketing.com.au/event/retail-global/
LOCATION:Gold Coast Conference & Exhibition Centre
CATEGORIES:All Event Locations,All Event Topics,All Event Types,Marketing
END:VEVENT
END:VCALENDAR