BEGIN:VCALENDAR
VERSION:2.0
PRODID:-//Marketing.com.au - ECPv6.15.20//NONSGML v1.0//EN
CALSCALE:GREGORIAN
METHOD:PUBLISH
X-WR-CALNAME:Marketing.com.au
X-ORIGINAL-URL:https://marketing.com.au
X-WR-CALDESC:Events for Marketing.com.au
REFRESH-INTERVAL;VALUE=DURATION:PT1H
X-Robots-Tag:noindex
X-PUBLISHED-TTL:PT1H
BEGIN:VTIMEZONE
TZID:Australia/Melbourne
BEGIN:STANDARD
TZOFFSETFROM:+1100
TZOFFSETTO:+1000
TZNAME:AEST
DTSTART:20180331T160000
END:STANDARD
BEGIN:DAYLIGHT
TZOFFSETFROM:+1000
TZOFFSETTO:+1100
TZNAME:AEDT
DTSTART:20181006T160000
END:DAYLIGHT
BEGIN:STANDARD
TZOFFSETFROM:+1100
TZOFFSETTO:+1000
TZNAME:AEST
DTSTART:20190406T160000
END:STANDARD
BEGIN:DAYLIGHT
TZOFFSETFROM:+1000
TZOFFSETTO:+1100
TZNAME:AEDT
DTSTART:20191005T160000
END:DAYLIGHT
BEGIN:STANDARD
TZOFFSETFROM:+1100
TZOFFSETTO:+1000
TZNAME:AEST
DTSTART:20200404T160000
END:STANDARD
BEGIN:DAYLIGHT
TZOFFSETFROM:+1000
TZOFFSETTO:+1100
TZNAME:AEDT
DTSTART:20201003T160000
END:DAYLIGHT
END:VTIMEZONE
BEGIN:VEVENT
DTSTART;TZID=Australia/Melbourne:20190220T080000
DTEND;TZID=Australia/Melbourne:20190223T170000
DTSTAMP:20260425T101626
CREATED:20181225T094910Z
LAST-MODIFIED:20191020T054416Z
UID:12913-1550649600-1550941200@marketing.com.au
SUMMARY:Social Media WA Summit 2019
DESCRIPTION:With eight out of 10 Australians on social media\, there is now an increased focus for the public to become more digitally accessible and transparent to the community. In order to engage citizens and inform the public\, organisations are now focused on driving consumer engagement and effectively informing decision making across the West Coast of Australia. \nAkolade’s Social Media WA Summit 2019 provides leading case studies exploring strategic planning for driven social media excellence\, measuring ROI on social media activity and a look into the next wave of social media platforms. This summit brings together key social media experts to deliver case studies\, insights and strategies to build audience trust and enhance consumer engagement. \nAttend this summit and learn how to: \n\nEstablish a strategic plan to align social media initiatives with your organisational goals\nEffectively measure ROI on your social media activity to enhance audience engagement\nRealise the next wave of social media to sustain a strong public presence within the community\nEnhance audience engagement and create timely content with limited budget and resources\nDevelop an effective social media narrative to ensure a targeted following
URL:https://marketing.com.au/event/social-media-wa-summit-2019/
LOCATION:Novotel Perth Langley\, 221 Adelaide Terrace\, Perth\, WA\, 6000\, Australia
CATEGORIES:All Event Locations,All Event Topics,All Event Types
END:VEVENT
END:VCALENDAR