BEGIN:VCALENDAR
VERSION:2.0
PRODID:-//Marketing.com.au - ECPv6.15.20//NONSGML v1.0//EN
CALSCALE:GREGORIAN
METHOD:PUBLISH
X-WR-CALNAME:Marketing.com.au
X-ORIGINAL-URL:https://marketing.com.au
X-WR-CALDESC:Events for Marketing.com.au
REFRESH-INTERVAL;VALUE=DURATION:PT1H
X-Robots-Tag:noindex
X-PUBLISHED-TTL:PT1H
BEGIN:VTIMEZONE
TZID:Australia/Melbourne
BEGIN:STANDARD
TZOFFSETFROM:+1100
TZOFFSETTO:+1000
TZNAME:AEST
DTSTART:20180331T160000
END:STANDARD
BEGIN:DAYLIGHT
TZOFFSETFROM:+1000
TZOFFSETTO:+1100
TZNAME:AEDT
DTSTART:20181006T160000
END:DAYLIGHT
BEGIN:STANDARD
TZOFFSETFROM:+1100
TZOFFSETTO:+1000
TZNAME:AEST
DTSTART:20190406T160000
END:STANDARD
BEGIN:DAYLIGHT
TZOFFSETFROM:+1000
TZOFFSETTO:+1100
TZNAME:AEDT
DTSTART:20191005T160000
END:DAYLIGHT
BEGIN:STANDARD
TZOFFSETFROM:+1100
TZOFFSETTO:+1000
TZNAME:AEST
DTSTART:20200404T160000
END:STANDARD
BEGIN:DAYLIGHT
TZOFFSETFROM:+1000
TZOFFSETTO:+1100
TZNAME:AEDT
DTSTART:20201003T160000
END:DAYLIGHT
END:VTIMEZONE
BEGIN:VEVENT
DTSTART;VALUE=DATE:20190212
DTEND;VALUE=DATE:20190213
DTSTAMP:20260425T101625
CREATED:20181225T100831Z
LAST-MODIFIED:20191020T054416Z
UID:12929-1549929600-1550015999@marketing.com.au
SUMMARY:Writing for The Web Short Course
DESCRIPTION:Learn how to write compelling online copy. \nTaught by a former Sydney Morning Herald editor and journalist\, this fun and practical course covers: \n\nhow to write short\, sharp and snappy sentences\ncreating great headlines and intros\nformatting to improve readability\nusing links and subheads properly\nsearch engine optimisation (SEO) tips\nimproving email newsletters/EDMs\nwriting for social media\nusability and accessibility tips.\n\nOnly nine places are available to ensure every participant receives personalised attention. \nWriting exercises are included throughout the class\, so you can immediately practise what you’ve learnt.
URL:https://marketing.com.au/event/writing-for-the-web-short-course/
LOCATION:180 Lonsdale Street  Melbourne\, VIC 3000
CATEGORIES:All Event Locations,All Event Topics,All Event Types
END:VEVENT
BEGIN:VEVENT
DTSTART;VALUE=DATE:20190212
DTEND;VALUE=DATE:20190213
DTSTAMP:20260425T101625
CREATED:20181225T101005Z
LAST-MODIFIED:20191020T054416Z
UID:12932-1549929600-1550015999@marketing.com.au
SUMMARY:Future Stores
DESCRIPTION:At The Future Stores you will explore leading strategies and case studies about optimising your retail network and distribution strategy and boosting in-store customer experience. Learn how to organise your people\, processes and technology to foster a culture of innovation that keeps you ahead of the game and retail competition.
URL:https://marketing.com.au/event/future-stores/
LOCATION:PARKROYAL\, 150 Day St\, Sydney NSW 2000 Australia
CATEGORIES:All Event Locations,All Event Topics,All Event Types
END:VEVENT
END:VCALENDAR