BEGIN:VCALENDAR
VERSION:2.0
PRODID:-//Marketing.com.au - ECPv6.15.20//NONSGML v1.0//EN
CALSCALE:GREGORIAN
METHOD:PUBLISH
X-ORIGINAL-URL:https://marketing.com.au
X-WR-CALDESC:Events for Marketing.com.au
REFRESH-INTERVAL;VALUE=DURATION:PT1H
X-Robots-Tag:noindex
X-PUBLISHED-TTL:PT1H
BEGIN:VTIMEZONE
TZID:Australia/Melbourne
BEGIN:STANDARD
TZOFFSETFROM:+1100
TZOFFSETTO:+1000
TZNAME:AEST
DTSTART:20180331T160000
END:STANDARD
BEGIN:DAYLIGHT
TZOFFSETFROM:+1000
TZOFFSETTO:+1100
TZNAME:AEDT
DTSTART:20181006T160000
END:DAYLIGHT
BEGIN:STANDARD
TZOFFSETFROM:+1100
TZOFFSETTO:+1000
TZNAME:AEST
DTSTART:20190406T160000
END:STANDARD
BEGIN:DAYLIGHT
TZOFFSETFROM:+1000
TZOFFSETTO:+1100
TZNAME:AEDT
DTSTART:20191005T160000
END:DAYLIGHT
BEGIN:STANDARD
TZOFFSETFROM:+1100
TZOFFSETTO:+1000
TZNAME:AEST
DTSTART:20200404T160000
END:STANDARD
BEGIN:DAYLIGHT
TZOFFSETFROM:+1000
TZOFFSETTO:+1100
TZNAME:AEDT
DTSTART:20201003T160000
END:DAYLIGHT
END:VTIMEZONE
BEGIN:VEVENT
DTSTART;TZID=Australia/Melbourne:20190207T080000
DTEND;TZID=Australia/Melbourne:20190208T170000
DTSTAMP:20260425T084522
CREATED:20181225T100555Z
LAST-MODIFIED:20191020T054428Z
UID:12926-1549526400-1549645200@marketing.com.au
SUMMARY:The Business of Events
DESCRIPTION:Australia’s ultimate events industry conference\, The Business of Events\, will present a line-up of industry heavyweights that will offer senior executives a wealth of strategic business advice that addresses global trends and market opportunities. \nTwo-days of invaluable insight will show you how to identify new business to increase the bottom line\, the future plans of major events and what this means for business growth\, and how to capitalise on government strategies to attract international events. \nIf you are from an event organiser or agency\, hotel\, venue\, airline\, bureau or tech supplier\, and guide the development of your business\, this conference is for you.
URL:https://marketing.com.au/event/the-business-of-events/
LOCATION:Sheraton Grand Sydney Hyde Park
CATEGORIES:All Event Locations,All Event Topics,All Event Types
END:VEVENT
END:VCALENDAR