BEGIN:VCALENDAR
VERSION:2.0
PRODID:-//Marketing.com.au - ECPv6.15.20//NONSGML v1.0//EN
CALSCALE:GREGORIAN
METHOD:PUBLISH
X-ORIGINAL-URL:https://marketing.com.au
X-WR-CALDESC:Events for Marketing.com.au
REFRESH-INTERVAL;VALUE=DURATION:PT1H
X-Robots-Tag:noindex
X-PUBLISHED-TTL:PT1H
BEGIN:VTIMEZONE
TZID:Australia/Melbourne
BEGIN:STANDARD
TZOFFSETFROM:+1100
TZOFFSETTO:+1000
TZNAME:AEST
DTSTART:20170401T160000
END:STANDARD
BEGIN:DAYLIGHT
TZOFFSETFROM:+1000
TZOFFSETTO:+1100
TZNAME:AEDT
DTSTART:20170930T160000
END:DAYLIGHT
BEGIN:STANDARD
TZOFFSETFROM:+1100
TZOFFSETTO:+1000
TZNAME:AEST
DTSTART:20180331T160000
END:STANDARD
BEGIN:DAYLIGHT
TZOFFSETFROM:+1000
TZOFFSETTO:+1100
TZNAME:AEDT
DTSTART:20181006T160000
END:DAYLIGHT
BEGIN:STANDARD
TZOFFSETFROM:+1100
TZOFFSETTO:+1000
TZNAME:AEST
DTSTART:20190406T160000
END:STANDARD
BEGIN:DAYLIGHT
TZOFFSETFROM:+1000
TZOFFSETTO:+1100
TZNAME:AEDT
DTSTART:20191005T160000
END:DAYLIGHT
END:VTIMEZONE
BEGIN:VEVENT
DTSTART;VALUE=DATE:20180726
DTEND;VALUE=DATE:20180728
DTSTAMP:20260424T175934
CREATED:20180607T120511Z
LAST-MODIFIED:20180607T120511Z
UID:11740-1532563200-1532735999@marketing.com.au
SUMMARY:Interactive Minds Digital Summit 2018
DESCRIPTION:This is the sixth two-day digital summit designed for marketers to allow you to keep your skills fresh. It will showcase the latest digital marketing techniques and you will learn from the best in the industry. There will be two international keynote speaks\, one from eBay and the other from Mattel\, plus over 14 local experts. There will be topics from content to measurement\, artificial intelligence to voice and prioritisation and stakeholder buy in.
URL:https://marketing.com.au/event/interactive-minds-digital-summit-2018/
LOCATION:Royal International Convention Centre\, Brisbane Showgrounds\, 600 Gregory Terrace\, Bowen Hills\, QLD\, Australia
CATEGORIES:All Event Locations,All Event Topics,All Event Types,Brisbane
ORGANIZER;CN="Interactive Minds":MAILTO:louisa(at)interactiveminds.com.au
END:VEVENT
BEGIN:VEVENT
DTSTART;TZID=Australia/Melbourne:20180726T090000
DTEND;TZID=Australia/Melbourne:20180726T120000
DTSTAMP:20260424T175934
CREATED:20180625T135651Z
LAST-MODIFIED:20201002T045645Z
UID:11838-1532595600-1532606400@marketing.com.au
SUMMARY:Understanding Facebook Advertising
DESCRIPTION:Facebook advertising is an extremely powerful medium when used correctly. This event will show you some of the different possibilities that these platforms have and also show you what targeting that is available. Once you have a basic understanding on these platforms\, you will be able to achieve your goals and also gain an incredible ROI. \nAt the Masterclass you will learn: \n\nDeveloping a Strategy\nRunning a Campaign in Ads Manager\nUnderstanding the Objectives\nDemographic\, Behaviour & Interest Targeting\nCreating Custom & Lookalike Audiences\, plus more!
URL:https://marketing.com.au/event/understanding-facebook-advertising-4/
LOCATION:InterContinental Perth\, 815 Hay Street\, Perth\, WA\, 6000\, Australia
CATEGORIES:All Event Locations,All Event Topics,All Event Types,Content Marketing,Marketing,Social Media,Workshop
ORGANIZER;CN="Social Media Perth":MAILTO:info@smperth.com
END:VEVENT
END:VCALENDAR