BEGIN:VCALENDAR
VERSION:2.0
PRODID:-//Marketing.com.au - ECPv6.15.20//NONSGML v1.0//EN
CALSCALE:GREGORIAN
METHOD:PUBLISH
X-WR-CALNAME:Marketing.com.au
X-ORIGINAL-URL:https://marketing.com.au
X-WR-CALDESC:Events for Marketing.com.au
REFRESH-INTERVAL;VALUE=DURATION:PT1H
X-Robots-Tag:noindex
X-PUBLISHED-TTL:PT1H
BEGIN:VTIMEZONE
TZID:Australia/Melbourne
BEGIN:STANDARD
TZOFFSETFROM:+1100
TZOFFSETTO:+1000
TZNAME:AEST
DTSTART:20170401T160000
END:STANDARD
BEGIN:DAYLIGHT
TZOFFSETFROM:+1000
TZOFFSETTO:+1100
TZNAME:AEDT
DTSTART:20170930T160000
END:DAYLIGHT
BEGIN:STANDARD
TZOFFSETFROM:+1100
TZOFFSETTO:+1000
TZNAME:AEST
DTSTART:20180331T160000
END:STANDARD
BEGIN:DAYLIGHT
TZOFFSETFROM:+1000
TZOFFSETTO:+1100
TZNAME:AEDT
DTSTART:20181006T160000
END:DAYLIGHT
BEGIN:STANDARD
TZOFFSETFROM:+1100
TZOFFSETTO:+1000
TZNAME:AEST
DTSTART:20190406T160000
END:STANDARD
BEGIN:DAYLIGHT
TZOFFSETFROM:+1000
TZOFFSETTO:+1100
TZNAME:AEDT
DTSTART:20191005T160000
END:DAYLIGHT
END:VTIMEZONE
BEGIN:VEVENT
DTSTART;TZID=Australia/Melbourne:20180703T090000
DTEND;TZID=Australia/Melbourne:20180703T123000
DTSTAMP:20260424T185449
CREATED:20180612T062113Z
LAST-MODIFIED:20180612T062113Z
UID:11763-1530608400-1530621000@marketing.com.au
SUMMARY:Copywriting For Your Business Success
DESCRIPTION:Content marketing is an essential part of Marketing in today’s world\, it is important that you create engaging content for different mediums the cut through the noise and engages your audience effectively. Over the past few years\, technology has changed the way that businesses are run. So\, in turn you need to alter your processes\, consumer behaviour and also expectations. This course has been out together to help you with key content planning and strategies which will help promote customer engagement and discuss the key role it plays with different marketing campaigns.
URL:https://marketing.com.au/event/copywriting-for-your-business-success/
LOCATION:Cliftons Sydney\, Level 13\, 60 Margaret Street\, Sydney\, Victoria\, 2000\, Australia
CATEGORIES:All Event Locations,All Event Topics,All Event Types,Content Marketing,Market Research,Marketing,Social Media,Sydney,Workshop
END:VEVENT
BEGIN:VEVENT
DTSTART;TZID=Australia/Melbourne:20180703T180000
DTEND;TZID=Australia/Melbourne:20180703T200000
DTSTAMP:20260424T185449
CREATED:20180625T102214Z
LAST-MODIFIED:20180625T102251Z
UID:11828-1530640800-1530648000@marketing.com.au
SUMMARY:Tech Talk: Elevating Your Digital Presence with SEO & Analytics - Sydney
DESCRIPTION:At this event you will hear from Jason Borg\, Digital Analyst who is from beyondblue\, he will be discussing how they succeeded with using innovative SEO\, content and accessibility techniques\, he will be giving insights into key challenges and successes of their SEO audit and how they use data\, reporting and analytics to elevate search rankings with more discoverable and accessible content.
URL:https://marketing.com.au/event/tech-talk-elevating-your-digital-presence-with-seo-analytics-sydney/
LOCATION:Level 6\, 50 Carrington Street\, Sydney\, NSW\, 2000\, Australia
CATEGORIES:All Event Locations,All Event Topics,All Event Types,Digital Marketing,Marketing,SEO,Sydney,Workshop
END:VEVENT
END:VCALENDAR