BEGIN:VCALENDAR
VERSION:2.0
PRODID:-//Marketing.com.au - ECPv6.15.20//NONSGML v1.0//EN
CALSCALE:GREGORIAN
METHOD:PUBLISH
X-ORIGINAL-URL:https://marketing.com.au
X-WR-CALDESC:Events for Marketing.com.au
REFRESH-INTERVAL;VALUE=DURATION:PT1H
X-Robots-Tag:noindex
X-PUBLISHED-TTL:PT1H
BEGIN:VTIMEZONE
TZID:Australia/Melbourne
BEGIN:STANDARD
TZOFFSETFROM:+1100
TZOFFSETTO:+1000
TZNAME:AEST
DTSTART:20170401T160000
END:STANDARD
BEGIN:DAYLIGHT
TZOFFSETFROM:+1000
TZOFFSETTO:+1100
TZNAME:AEDT
DTSTART:20170930T160000
END:DAYLIGHT
BEGIN:STANDARD
TZOFFSETFROM:+1100
TZOFFSETTO:+1000
TZNAME:AEST
DTSTART:20180331T160000
END:STANDARD
BEGIN:DAYLIGHT
TZOFFSETFROM:+1000
TZOFFSETTO:+1100
TZNAME:AEDT
DTSTART:20181006T160000
END:DAYLIGHT
BEGIN:STANDARD
TZOFFSETFROM:+1100
TZOFFSETTO:+1000
TZNAME:AEST
DTSTART:20190406T160000
END:STANDARD
BEGIN:DAYLIGHT
TZOFFSETFROM:+1000
TZOFFSETTO:+1100
TZNAME:AEDT
DTSTART:20191005T160000
END:DAYLIGHT
END:VTIMEZONE
BEGIN:VEVENT
DTSTART;VALUE=DATE:20180612
DTEND;VALUE=DATE:20180614
DTSTAMP:20260424T203432
CREATED:20180514T153357Z
LAST-MODIFIED:20180514T153407Z
UID:11624-1528761600-1528934399@marketing.com.au
SUMMARY:FaceBook and Instagram for Business MasterClass
DESCRIPTION:Social media is a main part of your company’s digital marketing success. The channels represent a powerful and dynamic marketing tool\, delivering your message to potentially millions of customers. This two-day course has been specifically designed to deliver the skills you need to help your brand maximise its social media strategy\, understand the needs of its audience\, and speak the language of social success. You will get an understand on how to build an effective and market-specific content calendar\, ensuring your content is fresh\, innovative\, and strategically aligned with your brand. \nEnhance the skills you need to help your brand maximise its social media strategy: \n\nFacebook and Instagram for business\nOvercome common social media fears\nContent marketing and content strategy\nUnderstand Business Manager\, Ads Manager and Power Editor\, plus much more!\n\nSpeakers:\nJordana Borensztajn\, Keynote Speaker\, Social Media\, Trainer\, Humourist\nGloria Alexander\, Senior Social Media Account Manager\, Thinktank Social
URL:https://marketing.com.au/event/facebook-and-instagram-for-business-masterclass/
LOCATION:Cliftons Sydney\, Level 13\, 60 Margaret Street\, Sydney\, Victoria\, 2000\, Australia
CATEGORIES:All Event Locations,All Event Topics,All Event Types,Conference,Content Marketing,Digital Marketing,Marketing,Social Media,Sydney
END:VEVENT
END:VCALENDAR