BEGIN:VCALENDAR
VERSION:2.0
PRODID:-//Marketing.com.au - ECPv6.15.20//NONSGML v1.0//EN
CALSCALE:GREGORIAN
METHOD:PUBLISH
X-ORIGINAL-URL:https://marketing.com.au
X-WR-CALDESC:Events for Marketing.com.au
REFRESH-INTERVAL;VALUE=DURATION:PT1H
X-Robots-Tag:noindex
X-PUBLISHED-TTL:PT1H
BEGIN:VTIMEZONE
TZID:Australia/Melbourne
BEGIN:STANDARD
TZOFFSETFROM:+1100
TZOFFSETTO:+1000
TZNAME:AEST
DTSTART:20170401T160000
END:STANDARD
BEGIN:DAYLIGHT
TZOFFSETFROM:+1000
TZOFFSETTO:+1100
TZNAME:AEDT
DTSTART:20170930T160000
END:DAYLIGHT
BEGIN:STANDARD
TZOFFSETFROM:+1100
TZOFFSETTO:+1000
TZNAME:AEST
DTSTART:20180331T160000
END:STANDARD
BEGIN:DAYLIGHT
TZOFFSETFROM:+1000
TZOFFSETTO:+1100
TZNAME:AEDT
DTSTART:20181006T160000
END:DAYLIGHT
BEGIN:STANDARD
TZOFFSETFROM:+1100
TZOFFSETTO:+1000
TZNAME:AEST
DTSTART:20190406T160000
END:STANDARD
BEGIN:DAYLIGHT
TZOFFSETFROM:+1000
TZOFFSETTO:+1100
TZNAME:AEDT
DTSTART:20191005T160000
END:DAYLIGHT
END:VTIMEZONE
BEGIN:VEVENT
DTSTART;TZID=Australia/Melbourne:20180508T073000
DTEND;TZID=Australia/Melbourne:20180508T093000
DTSTAMP:20260424T175607
CREATED:20180425T021453Z
LAST-MODIFIED:20180425T021453Z
UID:11490-1525764600-1525771800@marketing.com.au
SUMMARY:Implementing Customer Transformation - Melbourne
DESCRIPTION:This practical event focuses on what it really takes to implement marketing\, sales and service transformation in enterprise businesses. \nAt this event you will learn: \n\nTake away insights for implementing transformation faster and more effectively\nHear practical stories of how implementation has been managed in other leading enterprises\nExperience an exclusive behind-the-scenes demo of Blackdot’s marketing & sales engine\nNetwork with 150+ like-minded transformation executives from leading brands
URL:https://marketing.com.au/event/implementing-customer-transformation-melbourne/
LOCATION:Sofitel Melbourne\, 25 Collins Street\, Melbourne\, VIC\, 3000\, Australia
CATEGORIES:All Event Locations,All Event Topics,All Event Types,Content Marketing,Digital Marketing,Marketing,Melbourne,Presentation,Workshop
ORGANIZER;CN="Blackdot":MAILTO:02 8246 7300
END:VEVENT
BEGIN:VEVENT
DTSTART;TZID=Australia/Melbourne:20180508T090000
DTEND;TZID=Australia/Melbourne:20180508T123000
DTSTAMP:20260424T175607
CREATED:20180316T130210Z
LAST-MODIFIED:20180316T130210Z
UID:11285-1525770000-1525782600@marketing.com.au
SUMMARY:Marketing for Non-Marketers
DESCRIPTION:Marketing can become quite challenging as it is always changing\, making it even harder for those who do not specialise in this field. There is an aspect of marketing in most roles\, however\, the art of marketing can be far more challenging that meets the eye. This event has been put together to go back to basics\, to help you understand marketing 101. It will give you the foundations and open your mind to the world of marketing by using a variety of case studies and examples.
URL:https://marketing.com.au/event/marketing-for-non-marketers/
LOCATION:Cliftons Brisbane\, Level 3\, 288 Edward Street\, Brisbane\, Queensland\, 5000\, Australia
CATEGORIES:All Event Locations,All Event Topics,All Event Types,Brisbane,Content Marketing,Market Research,Marketing,Workshop
END:VEVENT
END:VCALENDAR