BEGIN:VCALENDAR
VERSION:2.0
PRODID:-//Marketing.com.au - ECPv6.15.20//NONSGML v1.0//EN
CALSCALE:GREGORIAN
METHOD:PUBLISH
X-ORIGINAL-URL:https://marketing.com.au
X-WR-CALDESC:Events for Marketing.com.au
REFRESH-INTERVAL;VALUE=DURATION:PT1H
X-Robots-Tag:noindex
X-PUBLISHED-TTL:PT1H
BEGIN:VTIMEZONE
TZID:Australia/Melbourne
BEGIN:STANDARD
TZOFFSETFROM:+1100
TZOFFSETTO:+1000
TZNAME:AEST
DTSTART:20170401T160000
END:STANDARD
BEGIN:DAYLIGHT
TZOFFSETFROM:+1000
TZOFFSETTO:+1100
TZNAME:AEDT
DTSTART:20170930T160000
END:DAYLIGHT
BEGIN:STANDARD
TZOFFSETFROM:+1100
TZOFFSETTO:+1000
TZNAME:AEST
DTSTART:20180331T160000
END:STANDARD
BEGIN:DAYLIGHT
TZOFFSETFROM:+1000
TZOFFSETTO:+1100
TZNAME:AEDT
DTSTART:20181006T160000
END:DAYLIGHT
BEGIN:STANDARD
TZOFFSETFROM:+1100
TZOFFSETTO:+1000
TZNAME:AEST
DTSTART:20190406T160000
END:STANDARD
BEGIN:DAYLIGHT
TZOFFSETFROM:+1000
TZOFFSETTO:+1100
TZNAME:AEDT
DTSTART:20191005T160000
END:DAYLIGHT
END:VTIMEZONE
BEGIN:VEVENT
DTSTART;TZID=Australia/Melbourne:20180502T080000
DTEND;TZID=Australia/Melbourne:20180502T103000
DTSTAMP:20260424T061212
CREATED:20180425T020858Z
LAST-MODIFIED:20180425T020858Z
UID:11487-1525248000-1525257000@marketing.com.au
SUMMARY:Activating the Right Data for Real Results - Brisbane
DESCRIPTION:At this event we explore how marketers can action the data they have available to improve outcomes\, even if the data and systems are incomplete or imperfect. Speakers will share how they use data to both formulate a strategy and to execute and measure results. Plus\, find out how marketers are enhancing their insights with second party data.
URL:https://marketing.com.au/event/activating-the-right-data-for-real-results-brisbane/
LOCATION:The Grove\, 480 Queen Street\, Brisbane\, QLD\, 4000\, Australia
CATEGORIES:All Event Locations,All Event Topics,All Event Types,Brisbane,Content Marketing,Market Research,Marketing,Presentation,Workshop
ORGANIZER;CN="Interactive Minds":MAILTO:louisa(at)interactiveminds.com.au
END:VEVENT
END:VCALENDAR