BEGIN:VCALENDAR
VERSION:2.0
PRODID:-//Marketing.com.au - ECPv6.15.20//NONSGML v1.0//EN
CALSCALE:GREGORIAN
METHOD:PUBLISH
X-WR-CALNAME:Marketing.com.au
X-ORIGINAL-URL:https://marketing.com.au
X-WR-CALDESC:Events for Marketing.com.au
REFRESH-INTERVAL;VALUE=DURATION:PT1H
X-Robots-Tag:noindex
X-PUBLISHED-TTL:PT1H
BEGIN:VTIMEZONE
TZID:Australia/Melbourne
BEGIN:STANDARD
TZOFFSETFROM:+1100
TZOFFSETTO:+1000
TZNAME:AEST
DTSTART:20160402T160000
END:STANDARD
BEGIN:DAYLIGHT
TZOFFSETFROM:+1000
TZOFFSETTO:+1100
TZNAME:AEDT
DTSTART:20161001T160000
END:DAYLIGHT
BEGIN:STANDARD
TZOFFSETFROM:+1100
TZOFFSETTO:+1000
TZNAME:AEST
DTSTART:20170401T160000
END:STANDARD
BEGIN:DAYLIGHT
TZOFFSETFROM:+1000
TZOFFSETTO:+1100
TZNAME:AEDT
DTSTART:20170930T160000
END:DAYLIGHT
BEGIN:STANDARD
TZOFFSETFROM:+1100
TZOFFSETTO:+1000
TZNAME:AEST
DTSTART:20180331T160000
END:STANDARD
BEGIN:DAYLIGHT
TZOFFSETFROM:+1000
TZOFFSETTO:+1100
TZNAME:AEDT
DTSTART:20181006T160000
END:DAYLIGHT
END:VTIMEZONE
BEGIN:VEVENT
DTSTART;VALUE=DATE:20170418
DTEND;VALUE=DATE:20170422
DTSTAMP:20260420T205843
CREATED:20170410T002254Z
LAST-MODIFIED:20170410T002254Z
UID:9806-1492473600-1492819199@marketing.com.au
SUMMARY:Public Sector Digital Transformation Officers Summit 2017 Start
DESCRIPTION:The Theme for 2017 is ‘Innovation in Delivery’. \nA digital transformation strategy will never be complete\, it is a journey\, not a destination. Business priorities are in a continual state of flux and a fast as systems and policies are developed – new technologies arrive and new projects are created. However\, the one constant of this environment is the requirement to continually innovate to improve service delivery. To advance your understanding of the key issues we have invited top Public Sector digital leaders and experts in digital and technology-focused roles to share advice and insights on innovation and strategy.
URL:https://marketing.com.au/event/public-sector-digital-transformation-officers-summit-2017-start/
LOCATION:Boat House by the Lake\, Grevillea Park\, Menindee Drive\,\, Barton\, ACT\, 2600\, Australia
CATEGORIES:All Event Locations,All Event Topics,All Event Types,Canberra,Conference,Content Marketing,Digital Marketing,Marketing,Social Media,Workshop
END:VEVENT
BEGIN:VEVENT
DTSTART;TZID=Australia/Melbourne:20170420T073000
DTEND;TZID=Australia/Melbourne:20170420T090000
DTSTAMP:20260420T205843
CREATED:20170328T050801Z
LAST-MODIFIED:20170328T050801Z
UID:9723-1492673400-1492678800@marketing.com.au
SUMMARY:VIC Guru Breakfast - Customer: Digital Transformation & Customer Experience
DESCRIPTION:For the first time in Victorian Guru Breakfast’s 15-year history you will hear from Christophe Eymery\, Head of Digital and Media from L’Oréal. \nChristophe will be discussing how L’Oreal attracts\, engages and retains their customers in the digital age that we are in. He will also be discussing how digital transformation requires not only a shake-up of processes\, teams\, and software\, but also the culture at the heart of the business. Learn how to navigate this complex path to operational efficiency and customer-success.
URL:https://marketing.com.au/event/vic-guru-breakfast-customer-digital-transformation-customer-experience/
LOCATION:The Point\, Albert Park\, 10 Aquatic Drive\, Albert Park\, VIC\, 3206\, Australia
END:VEVENT
END:VCALENDAR